{"text_format":"1","workbook":"xlsx","n_sheets":3,"sheets":["Groep A","Groep B","Blad1"],"not_rendered":{"charts":0,"images":0,"macros":1,"external_links":0,"defined_names":1,"comments":0,"pivot_tables":0},"unopened":[],"bounds":{"document_bytes":16777216,"sheet_cells":100000,"rows_first":2000,"rows_last":500,"rows_between":2000,"halvings":0,"cell_chars":16384,"cell_head_chars":4096},"cells_cut":0,"cells_raw":0,"read":"whole","date_system":"1900"}

{"sheet":"Groep A","index":0,"n_rows":251,"n_cols":25,"rows_kept":251,"cut":false,"hidden":false,"merged":[]}
[null,"Datum","GROEP A",null,"Moyenne","te maken caramboles","rating getal","caramboles 1e partij","hoogste serie 1e partij","percentage 1e partij","caramboles 2e partij","hoogste serie 2e partij","percentage 2e partij","totaal caramboles","gespeeld gemiddelde","gespeeld percentage","Punten afgerond ","uitgenodigd Finale"]
[1,null,"Adriaan Brinkema","A",{"$f":"VLOOKUP(F2,X$2:Y29,2)","v":0.48399999999999999},14,{"$f":"F2/30","v":0.46666666666666667},null,null,{"$f":"H2/F2*100","v":0},null,null,{"$f":"K2/F2*100","v":0},{"$f":"H2+K2","v":0},{"$f":"N2/60","v":0},{"$f":"O2/G2*100","v":0},{"$f":"ROUNDDOWN(P2,0)","v":0},null,null,null,null,null,null,8,0.27500000000000002]
[2,null,"Alea Ali","A",{"$f":"VLOOKUP(F3,X$2:Y30,2)","v":0.65},19,{"$f":"F3/30","v":0.6333333333333333},null,null,{"$f":"H3/F3*100","v":0},null,null,{"$f":"K3/F3*100","v":0},{"$f":"H3+K3","v":0},{"$f":"N3/60","v":0},{"$f":"O3/G3*100","v":0},{"$f":"ROUNDDOWN(P3,0)","v":0},null,null,null,null,null,null,9,0.317]
[3,null,"Andries Meindertsma","A",{"$f":"VLOOKUP(F4,X$2:Y31,2)","v":0.51700000000000002},15,{"$f":"F4/30","v":0.5},null,null,{"$f":"H4/F4*100","v":0},null,null,{"$f":"K4/F4*100","v":0},{"$f":"H4+K4","v":0},{"$f":"N4/60","v":0},{"$f":"O4/G4*100","v":0},{"$f":"ROUNDDOWN(P4,0)","v":0},null,null,null,null,null,null,10,0.35]
[4,null,"Anton Drenth   ","A",{"$f":"VLOOKUP(F5,X$2:Y32,2)","v":0.48399999999999999},14,{"$f":"F5/30","v":0.46666666666666667},null,null,{"$f":"H5/F5*100","v":0},null,null,{"$f":"K5/F5*100","v":0},{"$f":"H5+K5","v":0},{"$f":"N5/60","v":0},{"$f":"O5/G5*100","v":0},{"$f":"ROUNDDOWN(P5,0)","v":0},null,null,null,null,null,null,11,0.38400000000000001]
[5,null,"Arie de Jong","A",{"$f":"VLOOKUP(F6,X$2:Y33,2)","v":0.65},19,{"$f":"F6/30","v":0.6333333333333333},null,null,{"$f":"H6/F6*100","v":0},null,null,{"$f":"K6/F6*100","v":0},{"$f":"H6+K6","v":0},{"$f":"N6/60","v":0},{"$f":"O6/G6*100","v":0},{"$f":"ROUNDDOWN(P6,0)","v":0},null,null,null,null,null,null,12,0.41699999999999998]
[6,null,"Arli Sanwikrama","A",{"$f":"VLOOKUP(F7,X$2:Y34,2)","v":0.58399999999999996},17,{"$f":"F7/30","v":0.56666666666666665},null,null,{"$f":"H7/F7*100","v":0},null,null,{"$f":"K7/F7*100","v":0},{"$f":"H7+K7","v":0},{"$f":"N7/60","v":0},{"$f":"O7/G7*100","v":0},{"$f":"ROUNDDOWN(P7,0)","v":0},null,null,null,null,null,null,13,0.45]
[7,null,"Ben Schollink","A",{"$f":"VLOOKUP(F8,X$2:Y35,2)","v":0.71699999999999997},21,{"$f":"F8/30","v":0.7},null,null,{"$f":"H8/F8*100","v":0},null,null,{"$f":"K8/F8*100","v":0},{"$f":"H8+K8","v":0},{"$f":"N8/60","v":0},{"$f":"O8/G8*100","v":0},{"$f":"ROUNDDOWN(P8,0)","v":0},null,null,null,null,null,null,14,0.48399999999999999]
[8,null,"Bert de Jonge","A",{"$f":"VLOOKUP(F9,X$2:Y36,2)","v":0.48399999999999999},14,{"$f":"F9/30","v":0.46666666666666667},null,null,{"$f":"H9/F9*100","v":0},null,null,{"$f":"K9/F9*100","v":0},{"$f":"H9+K9","v":0},{"$f":"N9/60","v":0},{"$f":"O9/G9*100","v":0},{"$f":"ROUNDDOWN(P9,0)","v":0},null,null,null,null,null,null,15,0.51700000000000002]
[9,null,"Bert Mein","A",{"$f":"VLOOKUP(F10,X$2:Y37,2)","v":0.55000000000000004},16,{"$f":"F10/30","v":0.53333333333333333},null,null,{"$f":"H10/F10*100","v":0},null,null,{"$f":"K10/F10*100","v":0},{"$f":"H10+K10","v":0},{"$f":"N10/60","v":0},{"$f":"O10/G10*100","v":0},{"$f":"ROUNDDOWN(P10,0)","v":0},null,null,null,null,null,null,16,0.55000000000000004]
[10,null,"Boele Boelens","A",{"$f":"VLOOKUP(F11,X$2:Y38,2)","v":0.68400000000000005},20,{"$f":"F11/30","v":0.66666666666666663},null,null,{"$f":"H11/F11*100","v":0},null,null,{"$f":"K11/F11*100","v":0},{"$f":"H11+K11","v":0},{"$f":"N11/60","v":0},{"$f":"O11/G11*100","v":0},{"$f":"ROUNDDOWN(P11,0)","v":0},null,null,null,null,null,null,17,0.58399999999999996]
[11,null,"Bram Werkman","A",{"$f":"VLOOKUP(F12,X$2:Y39,2)","v":0.48399999999999999},14,{"$f":"F12/30","v":0.46666666666666667},null,null,{"$f":"H12/F12*100","v":0},null,null,{"$f":"K12/F12*100","v":0},{"$f":"H12+K12","v":0},{"$f":"N12/60","v":0},{"$f":"O12/G12*100","v":0},{"$f":"ROUNDDOWN(P12,0)","v":0},null,null,null,null,null,null,18,0.61699999999999999]
[12,null,"Cris Mulder","A",{"$f":"VLOOKUP(F13,X$2:Y40,2)","v":0.51700000000000002},15,{"$f":"F13/30","v":0.5},null,null,{"$f":"H13/F13*100","v":0},null,null,{"$f":"K13/F13*100","v":0},{"$f":"H13+K13","v":0},{"$f":"N13/60","v":0},{"$f":"O13/G13*100","v":0},{"$f":"ROUNDDOWN(P13,0)","v":0},null,null,null,null,null,null,19,0.65]
[13,null,"Danny Blaauw","A",{"$f":"VLOOKUP(F14,X$2:Y41,2)","v":0.95},28,{"$f":"F14/30","v":0.93333333333333335},null,null,{"$f":"H14/F14*100","v":0},null,null,{"$f":"K14/F14*100","v":0},{"$f":"H14+K14","v":0},{"$f":"N14/60","v":0},{"$f":"O14/G14*100","v":0},{"$f":"ROUNDDOWN(P14,0)","v":0},null,null,null,null,null,null,20,0.68400000000000005]
[14,null,"Derk Boltjes","A",{"$f":"VLOOKUP(F15,X$2:Y42,2)","v":0.55000000000000004},16,{"$f":"F15/30","v":0.53333333333333333},null,null,{"$f":"H15/F15*100","v":0},null,null,{"$f":"K15/F15*100","v":0},{"$f":"H15+K15","v":0},{"$f":"N15/60","v":0},{"$f":"O15/G15*100","v":0},{"$f":"ROUNDDOWN(P15,0)","v":0},null,null,null,null,null,null,21,0.71699999999999997]
[15,null,"Derk Jan v. d. Laan","A",{"$f":"VLOOKUP(F16,X$2:Y43,2)","v":0.45},13,{"$f":"F16/30","v":0.43333333333333335},null,null,{"$f":"H16/F16*100","v":0},null,null,{"$f":"K16/F16*100","v":0},{"$f":"H16+K16","v":0},{"$f":"N16/60","v":0},{"$f":"O16/G16*100","v":0},{"$f":"ROUNDDOWN(P16,0)","v":0},null,null,null,null,null,null,22,0.75]
[16,null,"Douwe Engels","A",{"$f":"VLOOKUP(F17,X$2:Y44,2)","v":0.45},13,{"$f":"F17/30","v":0.43333333333333335},null,null,{"$f":"H17/F17*100","v":0},null,null,{"$f":"K17/F17*100","v":0},{"$f":"H17+K17","v":0},{"$f":"N17/60","v":0},{"$f":"O17/G17*100","v":0},{"$f":"ROUNDDOWN(P17,0)","v":0},null,null,null,null,null,null,23,0.78400000000000003]
[17,null,"Ebel Duursma","A",{"$f":"VLOOKUP(F18,X$2:Y45,2)","v":0.45},13,{"$f":"F18/30","v":0.43333333333333335},null,null,{"$f":"H18/F18*100","v":0},null,null,{"$f":"K18/F18*100","v":0},{"$f":"H18+K18","v":0},{"$f":"N18/60","v":0},{"$f":"O18/G18*100","v":0},{"$f":"ROUNDDOWN(P18,0)","v":0},null,null,null,null,null,null,24,0.81699999999999995]
[18,null,"Eddie Siemens","A",{"$f":"VLOOKUP(F19,X$2:Y46,2)","v":1.1839999999999999},36,{"$f":"F19/30","v":1.2},null,null,{"$f":"H19/F19*100","v":0},null,null,{"$f":"K19/F19*100","v":0},{"$f":"H19+K19","v":0},{"$f":"N19/60","v":0},{"$f":"O19/G19*100","v":0},{"$f":"ROUNDDOWN(P19,0)","v":0},null,null,null,null,null,null,25,0.85]
[19,null,"Eppo Loer   ","A",{"$f":"VLOOKUP(F20,X$2:Y47,2)","v":0.45},13,{"$f":"F20/30","v":0.43333333333333335},null,null,{"$f":"H20/F20*100","v":0},null,null,{"$f":"K20/F20*100","v":0},{"$f":"H20+K20","v":0},{"$f":"N20/60","v":0},{"$f":"O20/G20*100","v":0},{"$f":"ROUNDDOWN(P20,0)","v":0},null,null,null,null,null,null,26,0.88400000000000001]
[20,null,"Erik Kroeze","A",{"$f":"VLOOKUP(F21,X$2:Y48,2)","v":0.55000000000000004},16,{"$f":"F21/30","v":0.53333333333333333},null,null,{"$f":"H21/F21*100","v":0},null,null,{"$f":"K21/F21*100","v":0},{"$f":"H21+K21","v":0},{"$f":"N21/60","v":0},{"$f":"O21/G21*100","v":0},{"$f":"ROUNDDOWN(P21,0)","v":0},null,null,null,null,null,null,27,0.91700000000000004]
[21,null,"Erwin de Groot","A",{"$f":"VLOOKUP(F22,X$2:Y49,2)","v":0.98399999999999999},29,{"$f":"F22/30","v":0.96666666666666667},null,null,{"$f":"H22/F22*100","v":0},null,null,{"$f":"K22/F22*100","v":0},{"$f":"H22+K22","v":0},{"$f":"N22/60","v":0},{"$f":"O22/G22*100","v":0},{"$f":"ROUNDDOWN(P22,0)","v":0},null,null,null,null,null,null,28,0.95]
[22,null,"Fokko van Biessum","A",{"$f":"VLOOKUP(F23,X$2:Y50,2)","v":0.68400000000000005},20,{"$f":"F23/30","v":0.66666666666666663},null,null,{"$f":"H23/F23*100","v":0},null,null,{"$f":"K23/F23*100","v":0},{"$f":"H23+K23","v":0},{"$f":"N23/60","v":0},{"$f":"O23/G23*100","v":0},{"$f":"ROUNDDOWN(P23,0)","v":0},null,null,null,null,null,null,29,0.98399999999999999]
[23,null,"Fré Ketelaar   ","A",{"$f":"VLOOKUP(F24,X$2:Y51,2)","v":0.55000000000000004},16,{"$f":"F24/30","v":0.53333333333333333},null,null,{"$f":"H24/F24*100","v":0},null,null,{"$f":"K24/F24*100","v":0},{"$f":"H24+K24","v":0},{"$f":"N24/60","v":0},{"$f":"O24/G24*100","v":0},{"$f":"ROUNDDOWN(P24,0)","v":0},null,null,null,null,null,null,30,1.0169999999999999]
[24,null,"Gean Klomp","A",{"$f":"VLOOKUP(F25,X$2:Y52,2)","v":0.48399999999999999},14,{"$f":"F25/30","v":0.46666666666666667},null,null,{"$f":"H25/F25*100","v":0},null,null,{"$f":"K25/F25*100","v":0},{"$f":"H25+K25","v":0},{"$f":"N25/60","v":0},{"$f":"O25/G25*100","v":0},{"$f":"ROUNDDOWN(P25,0)","v":0},null,null,null,null,null,null,31,1.05]
[25,null,"Geert Grevink","A",{"$f":"VLOOKUP(F26,X$2:Y53,2)","v":0.65},19,{"$f":"F26/30","v":0.6333333333333333},null,null,{"$f":"H26/F26*100","v":0},null,null,{"$f":"K26/F26*100","v":0},{"$f":"H26+K26","v":0},{"$f":"N26/60","v":0},{"$f":"O26/G26*100","v":0},{"$f":"ROUNDDOWN(P26,0)","v":0},null,null,null,null,null,null,32,1.0840000000000001]
[26,null,"Geert Rijks   ","A",{"$f":"VLOOKUP(F27,X$2:Y54,2)","v":0.51700000000000002},15,{"$f":"F27/30","v":0.5},null,null,{"$f":"H27/F27*100","v":0},null,null,{"$f":"K27/F27*100","v":0},{"$f":"H27+K27","v":0},{"$f":"N27/60","v":0},{"$f":"O27/G27*100","v":0},{"$f":"ROUNDDOWN(P27,0)","v":0},null,null,null,null,null,null,33,1.117]
[27,null,"Geiko Reder","A",{"$f":"VLOOKUP(F28,X$2:Y55,2)","v":0.48399999999999999},14,{"$f":"F28/30","v":0.46666666666666667},null,null,{"$f":"H28/F28*100","v":0},null,null,{"$f":"K28/F28*100","v":0},{"$f":"H28+K28","v":0},{"$f":"N28/60","v":0},{"$f":"O28/G28*100","v":0},{"$f":"ROUNDDOWN(P28,0)","v":0},null,null,null,null,null,null,34,1.1499999999999999]
[28,null,"Gert van Oosten","A",{"$f":"VLOOKUP(F29,X$2:Y56,2)","v":0.51700000000000002},15,{"$f":"F29/30","v":0.5},null,null,{"$f":"H29/F29*100","v":0},null,null,{"$f":"K29/F29*100","v":0},{"$f":"H29+K29","v":0},{"$f":"N29/60","v":0},{"$f":"O29/G29*100","v":0},{"$f":"ROUNDDOWN(P29,0)","v":0},null,null,null,null,null,null,35,1.1839999999999999]
[29,null,"Han Felkers   ","A",{"$f":"VLOOKUP(F30,X$2:Y57,2)","v":0.48399999999999999},14,{"$f":"F30/30","v":0.46666666666666667},null,null,{"$f":"H30/F30*100","v":0},null,null,{"$f":"K30/F30*100","v":0},{"$f":"H30+K30","v":0},{"$f":"N30/60","v":0},{"$f":"O30/G30*100","v":0},{"$f":"ROUNDDOWN(P30,0)","v":0}]
[30,null,"Hans Mulder","A",{"$f":"VLOOKUP(F31,X$2:Y58,2)","v":0.58399999999999996},17,{"$f":"F31/30","v":0.56666666666666665},null,null,{"$f":"H31/F31*100","v":0},null,null,{"$f":"K31/F31*100","v":0},{"$f":"H31+K31","v":0},{"$f":"N31/60","v":0},{"$f":"O31/G31*100","v":0},{"$f":"ROUNDDOWN(P31,0)","v":0}]
[31,null,"Hans van Engelen","A",{"$f":"VLOOKUP(F32,X$2:Y59,2)","v":0.65},19,{"$f":"F32/30","v":0.6333333333333333},null,null,{"$f":"H32/F32*100","v":0},null,null,{"$f":"K32/F32*100","v":0},{"$f":"H32+K32","v":0},{"$f":"N32/60","v":0},{"$f":"O32/G32*100","v":0},{"$f":"ROUNDDOWN(P32,0)","v":0}]
[32,null,"Hans Warners","A",{"$f":"VLOOKUP(F33,X$2:Y60,2)","v":0.68400000000000005},20,{"$f":"F33/30","v":0.66666666666666663},null,null,{"$f":"H33/F33*100","v":0},null,null,{"$f":"K33/F33*100","v":0},{"$f":"H33+K33","v":0},{"$f":"N33/60","v":0},{"$f":"O33/G33*100","v":0},{"$f":"ROUNDDOWN(P33,0)","v":0}]
[33,null,"Harm Wending   ","A",{"$f":"VLOOKUP(F34,X$2:Y61,2)","v":0.55000000000000004},16,{"$f":"F34/30","v":0.53333333333333333},null,null,{"$f":"H34/F34*100","v":0},null,null,{"$f":"K34/F34*100","v":0},{"$f":"H34+K34","v":0},{"$f":"N34/60","v":0},{"$f":"O34/G34*100","v":0},{"$f":"ROUNDDOWN(P34,0)","v":0}]
[34,null,"Harrie de Jonge","A",{"$f":"VLOOKUP(F35,X$2:Y62,2)","v":0.71699999999999997},21,{"$f":"F35/30","v":0.7},null,null,{"$f":"H35/F35*100","v":0},null,null,{"$f":"K35/F35*100","v":0},{"$f":"H35+K35","v":0},{"$f":"N35/60","v":0},{"$f":"O35/G35*100","v":0},{"$f":"ROUNDDOWN(P35,0)","v":0}]
[35,null,"Harrie Rijks","A",{"$f":"VLOOKUP(F36,X$2:Y63,2)","v":0.55000000000000004},16,{"$f":"F36/30","v":0.53333333333333333},null,null,{"$f":"H36/F36*100","v":0},null,null,{"$f":"K36/F36*100","v":0},{"$f":"H36+K36","v":0},{"$f":"N36/60","v":0},{"$f":"O36/G36*100","v":0},{"$f":"ROUNDDOWN(P36,0)","v":0}]
[36,null,"Harrie Viswat","A",{"$f":"VLOOKUP(F37,X$2:Y64,2)","v":0.88400000000000001},26,{"$f":"F37/30","v":0.8666666666666667},null,null,{"$f":"H37/F37*100","v":0},null,null,{"$f":"K37/F37*100","v":0},{"$f":"H37+K37","v":0},{"$f":"N37/60","v":0},{"$f":"O37/G37*100","v":0},{"$f":"ROUNDDOWN(P37,0)","v":0}]
[37,null,"Harry Dorgelo","A",{"$f":"VLOOKUP(F38,X$2:Y65,2)","v":0.48399999999999999},14,{"$f":"F38/30","v":0.46666666666666667},null,null,{"$f":"H38/F38*100","v":0},null,null,{"$f":"K38/F38*100","v":0},{"$f":"H38+K38","v":0},{"$f":"N38/60","v":0},{"$f":"O38/G38*100","v":0},{"$f":"ROUNDDOWN(P38,0)","v":0}]
[38,null,"Harry Ploeger","A",{"$f":"VLOOKUP(F39,X$2:Y66,2)","v":0.58399999999999996},17,{"$f":"F39/30","v":0.56666666666666665},null,null,{"$f":"H39/F39*100","v":0},null,null,{"$f":"K39/F39*100","v":0},{"$f":"H39+K39","v":0},{"$f":"N39/60","v":0},{"$f":"O39/G39*100","v":0},{"$f":"ROUNDDOWN(P39,0)","v":0}]
[39,null,"Hendrik Engels","A",{"$f":"VLOOKUP(F40,X$2:Y67,2)","v":0.61699999999999999},18,{"$f":"F40/30","v":0.6},null,null,{"$f":"H40/F40*100","v":0},null,null,{"$f":"K40/F40*100","v":0},{"$f":"H40+K40","v":0},{"$f":"N40/60","v":0},{"$f":"O40/G40*100","v":0},{"$f":"ROUNDDOWN(P40,0)","v":0}]
[40,null,"Henk Bos   ","A",{"$f":"VLOOKUP(F41,X$2:Y68,2)","v":0.48399999999999999},14,{"$f":"F41/30","v":0.46666666666666667},null,null,{"$f":"H41/F41*100","v":0},null,null,{"$f":"K41/F41*100","v":0},{"$f":"H41+K41","v":0},{"$f":"N41/60","v":0},{"$f":"O41/G41*100","v":0},{"$f":"ROUNDDOWN(P41,0)","v":0}]
[41,null,"Henk Mast","A",{"$f":"VLOOKUP(F42,X$2:Y69,2)","v":0.51700000000000002},15,{"$f":"F42/30","v":0.5},null,null,{"$f":"H42/F42*100","v":0},null,null,{"$f":"K42/F42*100","v":0},{"$f":"H42+K42","v":0},{"$f":"N42/60","v":0},{"$f":"O42/G42*100","v":0},{"$f":"ROUNDDOWN(P42,0)","v":0}]
[42,null,"Henk Matthijssen","A",{"$f":"VLOOKUP(F43,X$2:Y70,2)","v":0.41699999999999998},12,{"$f":"F43/30","v":0.4},null,null,{"$f":"H43/F43*100","v":0},null,null,{"$f":"K43/F43*100","v":0},{"$f":"H43+K43","v":0},{"$f":"N43/60","v":0},{"$f":"O43/G43*100","v":0},{"$f":"ROUNDDOWN(P43,0)","v":0}]
[43,null,"Henk Schrik","A",{"$f":"VLOOKUP(F44,X$2:Y71,2)","v":0.51700000000000002},15,{"$f":"F44/30","v":0.5},null,null,{"$f":"H44/F44*100","v":0},null,null,{"$f":"K44/F44*100","v":0},{"$f":"H44+K44","v":0},{"$f":"N44/60","v":0},{"$f":"O44/G44*100","v":0},{"$f":"ROUNDDOWN(P44,0)","v":0}]
[44,null,"Henk Tammes","A",{"$f":"VLOOKUP(F45,X$2:Y72,2)","v":0.48399999999999999},14,{"$f":"F45/30","v":0.46666666666666667},null,null,{"$f":"H45/F45*100","v":0},null,null,{"$f":"K45/F45*100","v":0},{"$f":"H45+K45","v":0},{"$f":"N45/60","v":0},{"$f":"O45/G45*100","v":0},{"$f":"ROUNDDOWN(P45,0)","v":0}]
[45,null,"Hennie Hof","A",{"$f":"VLOOKUP(F46,X$2:Y73,2)","v":0.65},19,{"$f":"F46/30","v":0.6333333333333333},null,null,{"$f":"H46/F46*100","v":0},null,null,{"$f":"K46/F46*100","v":0},{"$f":"H46+K46","v":0},{"$f":"N46/60","v":0},{"$f":"O46/G46*100","v":0},{"$f":"ROUNDDOWN(P46,0)","v":0}]
[46,null,"Hilbrand Balk","A",{"$f":"VLOOKUP(F47,X$2:Y74,2)","v":0.38400000000000001},11,{"$f":"F47/30","v":0.36666666666666664},null,null,{"$f":"H47/F47*100","v":0},null,null,{"$f":"K47/F47*100","v":0},{"$f":"H47+K47","v":0},{"$f":"N47/60","v":0},{"$f":"O47/G47*100","v":0},{"$f":"ROUNDDOWN(P47,0)","v":0}]
[47,null,"Hilko Blaauw   ","A",{"$f":"VLOOKUP(F48,X$2:Y75,2)","v":0.45},13,{"$f":"F48/30","v":0.43333333333333335},null,null,{"$f":"H48/F48*100","v":0},null,null,{"$f":"K48/F48*100","v":0},{"$f":"H48+K48","v":0},{"$f":"N48/60","v":0},{"$f":"O48/G48*100","v":0},{"$f":"ROUNDDOWN(P48,0)","v":0}]
[48,null,"Jack van de Berg","A",{"$f":"VLOOKUP(F49,X$2:Y76,2)","v":0.51700000000000002},15,{"$f":"F49/30","v":0.5},null,null,{"$f":"H49/F49*100","v":0},null,null,{"$f":"K49/F49*100","v":0},{"$f":"H49+K49","v":0},{"$f":"N49/60","v":0},{"$f":"O49/G49*100","v":0},{"$f":"ROUNDDOWN(P49,0)","v":0}]
[49,null,"Jacky Imminga","A",{"$f":"VLOOKUP(F50,X$2:Y77,2)","v":0.71699999999999997},21,{"$f":"F50/30","v":0.7},null,null,{"$f":"H50/F50*100","v":0},null,null,{"$f":"K50/F50*100","v":0},{"$f":"H50+K50","v":0},{"$f":"N50/60","v":0},{"$f":"O50/G50*100","v":0},{"$f":"ROUNDDOWN(P50,0)","v":0}]
[50,null,"Jacob Bosma","A",{"$f":"VLOOKUP(F51,X$2:Y78,2)","v":0.48399999999999999},14,{"$f":"F51/30","v":0.46666666666666667},null,null,{"$f":"H51/F51*100","v":0},null,null,{"$f":"K51/F51*100","v":0},{"$f":"H51+K51","v":0},{"$f":"N51/60","v":0},{"$f":"O51/G51*100","v":0},{"$f":"ROUNDDOWN(P51,0)","v":0}]
[51,null,"Jacob Post","A",{"$f":"VLOOKUP(F52,X$2:Y79,2)","v":0.65},19,{"$f":"F52/30","v":0.6333333333333333},null,null,{"$f":"H52/F52*100","v":0},null,null,{"$f":"K52/F52*100","v":0},{"$f":"H52+K52","v":0},{"$f":"N52/60","v":0},{"$f":"O52/G52*100","v":0},{"$f":"ROUNDDOWN(P52,0)","v":0}]
[52,null,"Jan Eggengoor","A",{"$f":"VLOOKUP(F53,X$2:Y80,2)","v":0.48399999999999999},14,{"$f":"F53/30","v":0.46666666666666667},null,null,{"$f":"H53/F53*100","v":0},null,null,{"$f":"K53/F53*100","v":0},{"$f":"H53+K53","v":0},{"$f":"N53/60","v":0},{"$f":"O53/G53*100","v":0},{"$f":"ROUNDDOWN(P53,0)","v":0}]
[53,null,"Jan Jansen","A",{"$f":"VLOOKUP(F54,X$2:Y81,2)","v":0.55000000000000004},16,{"$f":"F54/30","v":0.53333333333333333},null,null,{"$f":"H54/F54*100","v":0},null,null,{"$f":"K54/F54*100","v":0},{"$f":"H54+K54","v":0},{"$f":"N54/60","v":0},{"$f":"O54/G54*100","v":0},{"$f":"ROUNDDOWN(P54,0)","v":0}]
[54,null,"Jan Kok","A",{"$f":"VLOOKUP(F55,X$2:Y82,2)","v":0.61699999999999999},18,{"$f":"F55/30","v":0.6},null,null,{"$f":"H55/F55*100","v":0},null,null,{"$f":"K55/F55*100","v":0},{"$f":"H55+K55","v":0},{"$f":"N55/60","v":0},{"$f":"O55/G55*100","v":0},{"$f":"ROUNDDOWN(P55,0)","v":0}]
[55,null,"Jan Regtop","A",{"$f":"VLOOKUP(F56,X$2:Y83,2)","v":0.55000000000000004},16,{"$f":"F56/30","v":0.53333333333333333},null,null,{"$f":"H56/F56*100","v":0},null,null,{"$f":"K56/F56*100","v":0},{"$f":"H56+K56","v":0},{"$f":"N56/60","v":0},{"$f":"O56/G56*100","v":0},{"$f":"ROUNDDOWN(P56,0)","v":0}]
[56,null,"Jeroen Edens","A",{"$f":"VLOOKUP(F57,X$2:Y84,2)","v":0.48399999999999999},14,{"$f":"F57/30","v":0.46666666666666667},null,null,{"$f":"H57/F57*100","v":0},null,null,{"$f":"K57/F57*100","v":0},{"$f":"H57+K57","v":0},{"$f":"N57/60","v":0},{"$f":"O57/G57*100","v":0},{"$f":"ROUNDDOWN(P57,0)","v":0}]
[57,null,"Jetse Ploeg","A",{"$f":"VLOOKUP(F58,X$2:Y85,2)","v":0.48399999999999999},14,{"$f":"F58/30","v":0.46666666666666667},null,null,{"$f":"H58/F58*100","v":0},null,null,{"$f":"K58/F58*100","v":0},{"$f":"H58+K58","v":0},{"$f":"N58/60","v":0},{"$f":"O58/G58*100","v":0},{"$f":"ROUNDDOWN(P58,0)","v":0}]
[58,null,"Johan Doldersum","A",{"$f":"VLOOKUP(F59,X$2:Y86,2)","v":0.61699999999999999},18,{"$f":"F59/30","v":0.6},null,null,{"$f":"H59/F59*100","v":0},null,null,{"$f":"K59/F59*100","v":0},{"$f":"H59+K59","v":0},{"$f":"N59/60","v":0},{"$f":"O59/G59*100","v":0},{"$f":"ROUNDDOWN(P59,0)","v":0}]
[59,null,"Johan Meijer","A",{"$f":"VLOOKUP(F60,X$2:Y87,2)","v":0.55000000000000004},16,{"$f":"F60/30","v":0.53333333333333333},null,null,{"$f":"H60/F60*100","v":0},null,null,{"$f":"K60/F60*100","v":0},{"$f":"H60+K60","v":0},{"$f":"N60/60","v":0},{"$f":"O60/G60*100","v":0},{"$f":"ROUNDDOWN(P60,0)","v":0}]
[60,null,"Johnny Geertsma","A",{"$f":"VLOOKUP(F61,X$2:Y88,2)","v":0.81699999999999995},24,{"$f":"F61/30","v":0.8},null,null,{"$f":"H61/F61*100","v":0},null,null,{"$f":"K61/F61*100","v":0},{"$f":"H61+K61","v":0},{"$f":"N61/60","v":0},{"$f":"O61/G61*100","v":0},{"$f":"ROUNDDOWN(P61,0)","v":0}]
[61,null,"Jordi Blaauw","A",{"$f":"VLOOKUP(F62,X$2:Y89,2)","v":0.88400000000000001},26,{"$f":"F62/30","v":0.8666666666666667},null,null,{"$f":"H62/F62*100","v":0},null,null,{"$f":"K62/F62*100","v":0},{"$f":"H62+K62","v":0},{"$f":"N62/60","v":0},{"$f":"O62/G62*100","v":0},{"$f":"ROUNDDOWN(P62,0)","v":0}]
[62,null,"Jos Bouwmeester","A",{"$f":"VLOOKUP(F63,X$2:Y90,2)","v":0.45},13,{"$f":"F63/30","v":0.43333333333333335},null,null,{"$f":"H63/F63*100","v":0},null,null,{"$f":"K63/F63*100","v":0},{"$f":"H63+K63","v":0},{"$f":"N63/60","v":0},{"$f":"O63/G63*100","v":0},{"$f":"ROUNDDOWN(P63,0)","v":0}]
[63,null,"Jos Vrieze","A",{"$f":"VLOOKUP(F64,X$2:Y91,2)","v":0.51700000000000002},15,{"$f":"F64/30","v":0.5},null,null,{"$f":"H64/F64*100","v":0},null,null,{"$f":"K64/F64*100","v":0},{"$f":"H64+K64","v":0},{"$f":"N64/60","v":0},{"$f":"O64/G64*100","v":0},{"$f":"ROUNDDOWN(P64,0)","v":0}]
[64,null,"Kasper Sturre","A",{"$f":"VLOOKUP(F65,X$2:Y92,2)","v":0.65},19,{"$f":"F65/30","v":0.6333333333333333},null,null,{"$f":"H65/F65*100","v":0},null,null,{"$f":"K65/F65*100","v":0},{"$f":"H65+K65","v":0},{"$f":"N65/60","v":0},{"$f":"O65/G65*100","v":0},{"$f":"ROUNDDOWN(P65,0)","v":0}]
[65,null,"Kees Bol","A",{"$f":"VLOOKUP(F66,X$2:Y93,2)","v":0.48399999999999999},14,{"$f":"F66/30","v":0.46666666666666667},null,null,{"$f":"H66/F66*100","v":0},null,null,{"$f":"K66/F66*100","v":0},{"$f":"H66+K66","v":0},{"$f":"N66/60","v":0},{"$f":"O66/G66*100","v":0},{"$f":"ROUNDDOWN(P66,0)","v":0}]
[66,null,"Kees Schornagel","A",{"$f":"VLOOKUP(F67,X$2:Y94,2)","v":0.55000000000000004},16,{"$f":"F67/30","v":0.53333333333333333},null,null,{"$f":"H67/F67*100","v":0},null,null,{"$f":"K67/F67*100","v":0},{"$f":"H67+K67","v":0},{"$f":"N67/60","v":0},{"$f":"O67/G67*100","v":0},{"$f":"ROUNDDOWN(P67,0)","v":0}]
[67,null,"Klaas Siepel   ","A",{"$f":"VLOOKUP(F68,X$2:Y95,2)","v":0.48399999999999999},14,{"$f":"F68/30","v":0.46666666666666667},null,null,{"$f":"H68/F68*100","v":0},null,null,{"$f":"K68/F68*100","v":0},{"$f":"H68+K68","v":0},{"$f":"N68/60","v":0},{"$f":"O68/G68*100","v":0},{"$f":"ROUNDDOWN(P68,0)","v":0}]
[68,null,"Koert Loer","A",{"$f":"VLOOKUP(F69,X$2:Y96,2)","v":0.51700000000000002},15,{"$f":"F69/30","v":0.5},null,null,{"$f":"H69/F69*100","v":0},null,null,{"$f":"K69/F69*100","v":0},{"$f":"H69+K69","v":0},{"$f":"N69/60","v":0},{"$f":"O69/G69*100","v":0},{"$f":"ROUNDDOWN(P69,0)","v":0}]
[69,null,"Koos Blaauw","A",{"$f":"VLOOKUP(F70,X$2:Y97,2)","v":0.68400000000000005},20,{"$f":"F70/30","v":0.66666666666666663},null,null,{"$f":"H70/F70*100","v":0},null,null,{"$f":"K70/F70*100","v":0},{"$f":"H70+K70","v":0},{"$f":"N70/60","v":0},{"$f":"O70/G70*100","v":0},{"$f":"ROUNDDOWN(P70,0)","v":0}]
[70,null,"Lucas Bronsema","A",{"$f":"VLOOKUP(F71,X$2:Y98,2)","v":0.88400000000000001},26,{"$f":"F71/30","v":0.8666666666666667},null,null,{"$f":"H71/F71*100","v":0},null,null,{"$f":"K71/F71*100","v":0},{"$f":"H71+K71","v":0},{"$f":"N71/60","v":0},{"$f":"O71/G71*100","v":0},{"$f":"ROUNDDOWN(P71,0)","v":0}]
[71,null,"Machiel Hamersma","A",{"$f":"VLOOKUP(F72,X$2:Y99,2)","v":0.55000000000000004},16,{"$f":"F72/30","v":0.53333333333333333},null,null,{"$f":"H72/F72*100","v":0},null,null,{"$f":"K72/F72*100","v":0},{"$f":"H72+K72","v":0},{"$f":"N72/60","v":0},{"$f":"O72/G72*100","v":0},{"$f":"ROUNDDOWN(P72,0)","v":0}]
[72,null,"Marcel Schiphorst","A",{"$f":"VLOOKUP(F73,X$2:Y100,2)","v":0.58399999999999996},17,{"$f":"F73/30","v":0.56666666666666665},null,null,{"$f":"H73/F73*100","v":0},null,null,{"$f":"K73/F73*100","v":0},{"$f":"H73+K73","v":0},{"$f":"N73/60","v":0},{"$f":"O73/G73*100","v":0},{"$f":"ROUNDDOWN(P73,0)","v":0}]
[73,null,"Marten Bosma","A",{"$f":"VLOOKUP(F74,X$2:Y101,2)","v":0.45},13,{"$f":"F74/30","v":0.43333333333333335},null,null,{"$f":"H74/F74*100","v":0},null,null,{"$f":"K74/F74*100","v":0},{"$f":"H74+K74","v":0},{"$f":"N74/60","v":0},{"$f":"O74/G74*100","v":0},{"$f":"ROUNDDOWN(P74,0)","v":0}]
[74,null,"Max Veenhuis","A",{"$f":"VLOOKUP(F75,X$2:Y102,2)","v":0.58399999999999996},17,{"$f":"F75/30","v":0.56666666666666665},null,null,{"$f":"H75/F75*100","v":0},null,null,{"$f":"K75/F75*100","v":0},{"$f":"H75+K75","v":0},{"$f":"N75/60","v":0},{"$f":"O75/G75*100","v":0},{"$f":"ROUNDDOWN(P75,0)","v":0}]
[75,null,"Peter Lambeck","A",{"$f":"VLOOKUP(F76,X$2:Y103,2)","v":0.48399999999999999},14,{"$f":"F76/30","v":0.46666666666666667},null,null,{"$f":"H76/F76*100","v":0},null,null,{"$f":"K76/F76*100","v":0},{"$f":"H76+K76","v":0},{"$f":"N76/60","v":0},{"$f":"O76/G76*100","v":0},{"$f":"ROUNDDOWN(P76,0)","v":0}]
[76,null,"Peter Sterenborg   ","A",{"$f":"VLOOKUP(F77,X$2:Y104,2)","v":0.65},19,{"$f":"F77/30","v":0.6333333333333333},null,null,{"$f":"H77/F77*100","v":0},null,null,{"$f":"K77/F77*100","v":0},{"$f":"H77+K77","v":0},{"$f":"N77/60","v":0},{"$f":"O77/G77*100","v":0},{"$f":"ROUNDDOWN(P77,0)","v":0}]
[77,null,"Reinier van der Kooi","A",{"$f":"VLOOKUP(F78,X$2:Y105,2)","v":0.58399999999999996},17,{"$f":"F78/30","v":0.56666666666666665},null,null,{"$f":"H78/F78*100","v":0},null,null,{"$f":"K78/F78*100","v":0},{"$f":"H78+K78","v":0},{"$f":"N78/60","v":0},{"$f":"O78/G78*100","v":0},{"$f":"ROUNDDOWN(P78,0)","v":0}]
[78,null,"René Berg","A",{"$f":"VLOOKUP(F79,X$2:Y106,2)","v":0.78400000000000003},23,{"$f":"F79/30","v":0.76666666666666672},null,null,{"$f":"H79/F79*100","v":0},null,null,{"$f":"K79/F79*100","v":0},{"$f":"H79+K79","v":0},{"$f":"N79/60","v":0},{"$f":"O79/G79*100","v":0},{"$f":"ROUNDDOWN(P79,0)","v":0}]
[79,null,"René Martena","A",{"$f":"VLOOKUP(F80,X$2:Y107,2)","v":0.65},19,{"$f":"F80/30","v":0.6333333333333333},null,null,{"$f":"H80/F80*100","v":0},null,null,{"$f":"K80/F80*100","v":0},{"$f":"H80+K80","v":0},{"$f":"N80/60","v":0},{"$f":"O80/G80*100","v":0},{"$f":"ROUNDDOWN(P80,0)","v":0}]
[80,null,"Robbin Blaauw","A",{"$f":"VLOOKUP(F81,X$2:Y108,2)","v":0.61699999999999999},18,{"$f":"F81/30","v":0.6},null,null,{"$f":"H81/F81*100","v":0},null,null,{"$f":"K81/F81*100","v":0},{"$f":"H81+K81","v":0},{"$f":"N81/60","v":0},{"$f":"O81/G81*100","v":0},{"$f":"ROUNDDOWN(P81,0)","v":0}]
[81,null,"Robert Berg","A",{"$f":"VLOOKUP(F82,X$2:Y109,2)","v":0.61699999999999999},18,{"$f":"F82/30","v":0.6},null,null,{"$f":"H82/F82*100","v":0},null,null,{"$f":"K82/F82*100","v":0},{"$f":"H82+K82","v":0},{"$f":"N82/60","v":0},{"$f":"O82/G82*100","v":0},{"$f":"ROUNDDOWN(P82,0)","v":0}]
[82,null,"Roel Maatjes","A",{"$f":"VLOOKUP(F83,X$2:Y110,2)","v":0.45},13,{"$f":"F83/30","v":0.43333333333333335},null,null,{"$f":"H83/F83*100","v":0},null,null,{"$f":"K83/F83*100","v":0},{"$f":"H83+K83","v":0},{"$f":"N83/60","v":0},{"$f":"O83/G83*100","v":0},{"$f":"ROUNDDOWN(P83,0)","v":0}]
[83,null,"Roelof Eefting","A",{"$f":"VLOOKUP(F84,X$2:Y111,2)","v":0.65},19,{"$f":"F84/30","v":0.6333333333333333},null,null,{"$f":"H84/F84*100","v":0},null,null,{"$f":"K84/F84*100","v":0},{"$f":"H84+K84","v":0},{"$f":"N84/60","v":0},{"$f":"O84/G84*100","v":0},{"$f":"ROUNDDOWN(P84,0)","v":0}]
[84,null,"Ron Steenstra","A",{"$f":"VLOOKUP(F85,X$2:Y112,2)","v":0.71699999999999997},21,{"$f":"F85/30","v":0.7},null,null,{"$f":"H85/F85*100","v":0},null,null,{"$f":"K85/F85*100","v":0},{"$f":"H85+K85","v":0},{"$f":"N85/60","v":0},{"$f":"O85/G85*100","v":0},{"$f":"ROUNDDOWN(P85,0)","v":0}]
[85,null,"Ronald Bakker","A",{"$f":"VLOOKUP(F86,X$2:Y113,2)","v":0.48399999999999999},14,{"$f":"F86/30","v":0.46666666666666667},null,null,{"$f":"H86/F86*100","v":0},null,null,{"$f":"K86/F86*100","v":0},{"$f":"H86+K86","v":0},{"$f":"N86/60","v":0},{"$f":"O86/G86*100","v":0},{"$f":"ROUNDDOWN(P86,0)","v":0}]
[86,null,"Ronald Elings","A",{"$f":"VLOOKUP(F87,X$2:Y114,2)","v":0.41699999999999998},12,{"$f":"F87/30","v":0.4},null,null,{"$f":"H87/F87*100","v":0},null,null,{"$f":"K87/F87*100","v":0},{"$f":"H87+K87","v":0},{"$f":"N87/60","v":0},{"$f":"O87/G87*100","v":0},{"$f":"ROUNDDOWN(P87,0)","v":0}]
[87,null,"Rudi Scholtens","A",{"$f":"VLOOKUP(F88,X$2:Y115,2)","v":0.48399999999999999},14,{"$f":"F88/30","v":0.46666666666666667},null,null,{"$f":"H88/F88*100","v":0},null,null,{"$f":"K88/F88*100","v":0},{"$f":"H88+K88","v":0},{"$f":"N88/60","v":0},{"$f":"O88/G88*100","v":0},{"$f":"ROUNDDOWN(P88,0)","v":0}]
[88,null,"Sip Kooiker","A",{"$f":"VLOOKUP(F89,X$2:Y116,2)","v":0.55000000000000004},16,{"$f":"F89/30","v":0.53333333333333333},null,null,{"$f":"H89/F89*100","v":0},null,null,{"$f":"K89/F89*100","v":0},{"$f":"H89+K89","v":0},{"$f":"N89/60","v":0},{"$f":"O89/G89*100","v":0},{"$f":"ROUNDDOWN(P89,0)","v":0}]
[89,null,"Sjaak van den Berg","A",{"$f":"VLOOKUP(F90,X$2:Y117,2)","v":0.45},13,{"$f":"F90/30","v":0.43333333333333335},null,null,{"$f":"H90/F90*100","v":0},null,null,{"$f":"K90/F90*100","v":0},{"$f":"H90+K90","v":0},{"$f":"N90/60","v":0},{"$f":"O90/G90*100","v":0},{"$f":"ROUNDDOWN(P90,0)","v":0}]
[90,null,"Stienus Sluiter","A",{"$f":"VLOOKUP(F91,X$2:Y118,2)","v":0.51700000000000002},15,{"$f":"F91/30","v":0.5},null,null,{"$f":"H91/F91*100","v":0},null,null,{"$f":"K91/F91*100","v":0},{"$f":"H91+K91","v":0},{"$f":"N91/60","v":0},{"$f":"O91/G91*100","v":0},{"$f":"ROUNDDOWN(P91,0)","v":0}]
[91,null,"Tim Oortman","A",{"$f":"VLOOKUP(F92,X$2:Y119,2)","v":0.51700000000000002},15,{"$f":"F92/30","v":0.5},null,null,{"$f":"H92/F92*100","v":0},null,null,{"$f":"K92/F92*100","v":0},{"$f":"H92+K92","v":0},{"$f":"N92/60","v":0},{"$f":"O92/G92*100","v":0},{"$f":"ROUNDDOWN(P92,0)","v":0}]
[92,null,"Tjaart Schaub","A",{"$f":"VLOOKUP(F93,X$2:Y120,2)","v":0.58399999999999996},17,{"$f":"F93/30","v":0.56666666666666665},null,null,{"$f":"H93/F93*100","v":0},null,null,{"$f":"K93/F93*100","v":0},{"$f":"H93+K93","v":0},{"$f":"N93/60","v":0},{"$f":"O93/G93*100","v":0},{"$f":"ROUNDDOWN(P93,0)","v":0}]
[93,null,"Tjapko Mellema   ","A",{"$f":"VLOOKUP(F94,X$2:Y121,2)","v":0.51700000000000002},15,{"$f":"F94/30","v":0.5},null,null,{"$f":"H94/F94*100","v":0},null,null,{"$f":"K94/F94*100","v":0},{"$f":"H94+K94","v":0},{"$f":"N94/60","v":0},{"$f":"O94/G94*100","v":0},{"$f":"ROUNDDOWN(P94,0)","v":0}]
[94,null,"Tjerk Hofman","A",{"$f":"VLOOKUP(F95,X$2:Y122,2)","v":0.45},13,{"$f":"F95/30","v":0.43333333333333335},null,null,{"$f":"H95/F95*100","v":0},null,null,{"$f":"K95/F95*100","v":0},{"$f":"H95+K95","v":0},{"$f":"N95/60","v":0},{"$f":"O95/G95*100","v":0},{"$f":"ROUNDDOWN(P95,0)","v":0}]
[95,null,"Tom Been","A",{"$f":"VLOOKUP(F96,X$2:Y123,2)","v":0.45},13,{"$f":"F96/30","v":0.43333333333333335},null,null,{"$f":"H96/F96*100","v":0},null,null,{"$f":"K96/F96*100","v":0},{"$f":"H96+K96","v":0},{"$f":"N96/60","v":0},{"$f":"O96/G96*100","v":0},{"$f":"ROUNDDOWN(P96,0)","v":0}]
[96,null,"Wietse de Vries","A",{"$f":"VLOOKUP(F97,X$2:Y124,2)","v":0.61699999999999999},18,{"$f":"F97/30","v":0.6},null,null,{"$f":"H97/F97*100","v":0},null,null,{"$f":"K97/F97*100","v":0},{"$f":"H97+K97","v":0},{"$f":"N97/60","v":0},{"$f":"O97/G97*100","v":0},{"$f":"ROUNDDOWN(P97,0)","v":0}]
[97,null,"Wilco Schiphorst","A",{"$f":"VLOOKUP(F98,X$2:Y125,2)","v":0.55000000000000004},16,{"$f":"F98/30","v":0.53333333333333333},null,null,{"$f":"H98/F98*100","v":0},null,null,{"$f":"K98/F98*100","v":0},{"$f":"H98+K98","v":0},{"$f":"N98/60","v":0},{"$f":"O98/G98*100","v":0},{"$f":"ROUNDDOWN(P98,0)","v":0}]
[98,null,"Willem Bos","A",{"$f":"VLOOKUP(F99,X$2:Y126,2)","v":0.58399999999999996},17,{"$f":"F99/30","v":0.56666666666666665},null,null,{"$f":"H99/F99*100","v":0},null,null,{"$f":"K99/F99*100","v":0},{"$f":"H99+K99","v":0},{"$f":"N99/60","v":0},{"$f":"O99/G99*100","v":0},{"$f":"ROUNDDOWN(P99,0)","v":0}]
[99,null,"Willem Reilink","A",{"$f":"VLOOKUP(F100,X$2:Y127,2)","v":0.48399999999999999},14,{"$f":"F100/30","v":0.46666666666666667},null,null,{"$f":"H100/F100*100","v":0},null,null,{"$f":"K100/F100*100","v":0},{"$f":"H100+K100","v":0},{"$f":"N100/60","v":0},{"$f":"O100/G100*100","v":0},{"$f":"ROUNDDOWN(P100,0)","v":0}]
[100,null,"Willem Weerd","A",{"$f":"VLOOKUP(F101,X$2:Y128,2)","v":0.48399999999999999},14,{"$f":"F101/30","v":0.46666666666666667},null,null,{"$f":"H101/F101*100","v":0},null,null,{"$f":"K101/F101*100","v":0},{"$f":"H101+K101","v":0},{"$f":"N101/60","v":0},{"$f":"O101/G101*100","v":0},{"$f":"ROUNDDOWN(P101,0)","v":0}]
[101,null,"Willie Siemens","A",{"$f":"VLOOKUP(F102,X$2:Y129,2)","v":0.75},22,{"$f":"F102/30","v":0.73333333333333328},null,null,{"$f":"H102/F102*100","v":0},null,null,{"$f":"K102/F102*100","v":0},{"$f":"H102+K102","v":0},{"$f":"N102/60","v":0},{"$f":"O102/G102*100","v":0},{"$f":"ROUNDDOWN(P102,0)","v":0}]
[102,null,"Wolter Eling","A",{"$f":"VLOOKUP(F103,X$2:Y130,2)","v":0.55000000000000004},16,{"$f":"F103/30","v":0.53333333333333333},null,null,{"$f":"H103/F103*100","v":0},null,null,{"$f":"K103/F103*100","v":0},{"$f":"H103+K103","v":0},{"$f":"N103/60","v":0},{"$f":"O103/G103*100","v":0},{"$f":"ROUNDDOWN(P103,0)","v":0}]
[103,null,"Wolter Stratingh","A",{"$f":"VLOOKUP(F104,X$2:Y131,2)","v":0.65},19,{"$f":"F104/30","v":0.6333333333333333},null,null,{"$f":"H104/F104*100","v":0},null,null,{"$f":"K104/F104*100","v":0},{"$f":"H104+K104","v":0},{"$f":"N104/60","v":0},{"$f":"O104/G104*100","v":0},{"$f":"ROUNDDOWN(P104,0)","v":0}]
[104,null,null,"A",{"$f":"VLOOKUP(F105,X$2:Y132,2)","v":0.27500000000000002},8,{"$f":"F105/30","v":0.26666666666666666},null,null,{"$f":"H105/F105*100","v":0},null,null,{"$f":"K105/F105*100","v":0},{"$f":"H105+K105","v":0},{"$f":"N105/60","v":0},{"$f":"O105/G105*100","v":0},{"$f":"ROUNDDOWN(P105,0)","v":0}]
[105,null,null,"A",{"$f":"VLOOKUP(F106,X$2:Y133,2)","v":0.27500000000000002},8,{"$f":"F106/30","v":0.26666666666666666},null,null,{"$f":"H106/F106*100","v":0},null,null,{"$f":"K106/F106*100","v":0},{"$f":"H106+K106","v":0},{"$f":"N106/60","v":0},{"$f":"O106/G106*100","v":0},{"$f":"ROUNDDOWN(P106,0)","v":0}]
[106,null,null,"A",{"$f":"VLOOKUP(F107,X$2:Y134,2)","v":0.27500000000000002},8,{"$f":"F107/30","v":0.26666666666666666},null,null,{"$f":"H107/F107*100","v":0},null,null,{"$f":"K107/F107*100","v":0},{"$f":"H107+K107","v":0},{"$f":"N107/60","v":0},{"$f":"O107/G107*100","v":0},{"$f":"ROUNDDOWN(P107,0)","v":0}]
[107,null,null,"A",{"$f":"VLOOKUP(F108,X$2:Y135,2)","v":0.27500000000000002},8,{"$f":"F108/30","v":0.26666666666666666},null,null,{"$f":"H108/F108*100","v":0},null,null,{"$f":"K108/F108*100","v":0},{"$f":"H108+K108","v":0},{"$f":"N108/60","v":0},{"$f":"O108/G108*100","v":0},{"$f":"ROUNDDOWN(P108,0)","v":0}]
[108,null,null,"A",{"$f":"VLOOKUP(F109,X$2:Y136,2)","v":0.27500000000000002},8,{"$f":"F109/30","v":0.26666666666666666},null,null,{"$f":"H109/F109*100","v":0},null,null,{"$f":"K109/F109*100","v":0},{"$f":"H109+K109","v":0},{"$f":"N109/60","v":0},{"$f":"O109/G109*100","v":0},{"$f":"ROUNDDOWN(P109,0)","v":0}]
[109,null,null,"A",{"$f":"VLOOKUP(F110,X$2:Y137,2)","v":0.27500000000000002},8,{"$f":"F110/30","v":0.26666666666666666},null,null,{"$f":"H110/F110*100","v":0},null,null,{"$f":"K110/F110*100","v":0},{"$f":"H110+K110","v":0},{"$f":"N110/60","v":0},{"$f":"O110/G110*100","v":0},{"$f":"ROUNDDOWN(P110,0)","v":0}]
[110,null,null,"A",{"$f":"VLOOKUP(F111,X$2:Y138,2)","v":0.27500000000000002},8,{"$f":"F111/30","v":0.26666666666666666},null,null,{"$f":"H111/F111*100","v":0},null,null,{"$f":"K111/F111*100","v":0},{"$f":"H111+K111","v":0},{"$f":"N111/60","v":0},{"$f":"O111/G111*100","v":0},{"$f":"ROUNDDOWN(P111,0)","v":0}]
[111,null,null,"A",{"$f":"VLOOKUP(F112,X$2:Y139,2)","v":0.27500000000000002},8,{"$f":"F112/30","v":0.26666666666666666},null,null,{"$f":"H112/F112*100","v":0},null,null,{"$f":"K112/F112*100","v":0},{"$f":"H112+K112","v":0},{"$f":"N112/60","v":0},{"$f":"O112/G112*100","v":0},{"$f":"ROUNDDOWN(P112,0)","v":0}]
[112,null,null,"A",{"$f":"VLOOKUP(F113,X$2:Y140,2)","v":0.27500000000000002},8,{"$f":"F113/30","v":0.26666666666666666},null,null,{"$f":"H113/F113*100","v":0},null,null,{"$f":"K113/F113*100","v":0},{"$f":"H113+K113","v":0},{"$f":"N113/60","v":0},{"$f":"O113/G113*100","v":0},{"$f":"ROUNDDOWN(P113,0)","v":0}]
[113,null,null,"A",{"$f":"VLOOKUP(F114,X$2:Y141,2)","v":0.27500000000000002},8,{"$f":"F114/30","v":0.26666666666666666},null,null,{"$f":"H114/F114*100","v":0},null,null,{"$f":"K114/F114*100","v":0},{"$f":"H114+K114","v":0},{"$f":"N114/60","v":0},{"$f":"O114/G114*100","v":0},{"$f":"ROUNDDOWN(P114,0)","v":0}]
[114,null,null,"A",{"$f":"VLOOKUP(F115,X$2:Y142,2)","v":0.27500000000000002},8,{"$f":"F115/30","v":0.26666666666666666},null,null,{"$f":"H115/F115*100","v":0},null,null,{"$f":"K115/F115*100","v":0},{"$f":"H115+K115","v":0},{"$f":"N115/60","v":0},{"$f":"O115/G115*100","v":0},{"$f":"ROUNDDOWN(P115,0)","v":0}]
[115,null,null,"A",{"$f":"VLOOKUP(F116,X$2:Y143,2)","v":0.27500000000000002},8,{"$f":"F116/30","v":0.26666666666666666},null,null,{"$f":"H116/F116*100","v":0},null,null,{"$f":"K116/F116*100","v":0},{"$f":"H116+K116","v":0},{"$f":"N116/60","v":0},{"$f":"O116/G116*100","v":0},{"$f":"ROUNDDOWN(P116,0)","v":0}]
[116,null,null,"A",{"$f":"VLOOKUP(F117,X$2:Y144,2)","v":0.27500000000000002},8,{"$f":"F117/30","v":0.26666666666666666},null,null,{"$f":"H117/F117*100","v":0},null,null,{"$f":"K117/F117*100","v":0},{"$f":"H117+K117","v":0},{"$f":"N117/60","v":0},{"$f":"O117/G117*100","v":0},{"$f":"ROUNDDOWN(P117,0)","v":0}]
[117,null,null,"A",{"$f":"VLOOKUP(F118,X$2:Y145,2)","v":0.27500000000000002},8,{"$f":"F118/30","v":0.26666666666666666},null,null,{"$f":"H118/F118*100","v":0},null,null,{"$f":"K118/F118*100","v":0},{"$f":"H118+K118","v":0},{"$f":"N118/60","v":0},{"$f":"O118/G118*100","v":0},{"$f":"ROUNDDOWN(P118,0)","v":0}]
[118,null,null,"A",{"$f":"VLOOKUP(F119,X$2:Y146,2)","v":0.27500000000000002},8,{"$f":"F119/30","v":0.26666666666666666},null,null,{"$f":"H119/F119*100","v":0},null,null,{"$f":"K119/F119*100","v":0},{"$f":"H119+K119","v":0},{"$f":"N119/60","v":0},{"$f":"O119/G119*100","v":0},{"$f":"ROUNDDOWN(P119,0)","v":0}]
[119,null,null,"A",{"$f":"VLOOKUP(F120,X$2:Y147,2)","v":0.27500000000000002},8,{"$f":"F120/30","v":0.26666666666666666},null,null,{"$f":"H120/F120*100","v":0},null,null,{"$f":"K120/F120*100","v":0},{"$f":"H120+K120","v":0},{"$f":"N120/60","v":0},{"$f":"O120/G120*100","v":0},{"$f":"ROUNDDOWN(P120,0)","v":0}]
[120,null,null,"A",{"$f":"VLOOKUP(F121,X$2:Y148,2)","v":0.27500000000000002},8,{"$f":"F121/30","v":0.26666666666666666},null,null,{"$f":"H121/F121*100","v":0},null,null,{"$f":"K121/F121*100","v":0},{"$f":"H121+K121","v":0},{"$f":"N121/60","v":0},{"$f":"O121/G121*100","v":0},{"$f":"ROUNDDOWN(P121,0)","v":0}]
[121,null,null,"A",{"$f":"VLOOKUP(F122,X$2:Y149,2)","v":0.27500000000000002},8,{"$f":"F122/30","v":0.26666666666666666},null,null,{"$f":"H122/F122*100","v":0},null,null,{"$f":"K122/F122*100","v":0},{"$f":"H122+K122","v":0},{"$f":"N122/60","v":0},{"$f":"O122/G122*100","v":0},{"$f":"ROUNDDOWN(P122,0)","v":0}]
[122,null,null,"A",{"$f":"VLOOKUP(F123,X$2:Y150,2)","v":0.27500000000000002},8,{"$f":"F123/30","v":0.26666666666666666},null,null,{"$f":"H123/F123*100","v":0},null,null,{"$f":"K123/F123*100","v":0},{"$f":"H123+K123","v":0},{"$f":"N123/60","v":0},{"$f":"O123/G123*100","v":0},{"$f":"ROUNDDOWN(P123,0)","v":0}]
[123,null,null,"A",{"$f":"VLOOKUP(F124,X$2:Y151,2)","v":0.27500000000000002},8,{"$f":"F124/30","v":0.26666666666666666},null,null,{"$f":"H124/F124*100","v":0},null,null,{"$f":"K124/F124*100","v":0},{"$f":"H124+K124","v":0},{"$f":"N124/60","v":0},{"$f":"O124/G124*100","v":0},{"$f":"ROUNDDOWN(P124,0)","v":0}]
[124,null,null,"A",{"$f":"VLOOKUP(F125,X$2:Y152,2)","v":0.27500000000000002},8,{"$f":"F125/30","v":0.26666666666666666},null,null,{"$f":"H125/F125*100","v":0},null,null,{"$f":"K125/F125*100","v":0},{"$f":"H125+K125","v":0},{"$f":"N125/60","v":0},{"$f":"O125/G125*100","v":0},{"$f":"ROUNDDOWN(P125,0)","v":0}]
[125,null,null,"A",{"$f":"VLOOKUP(F126,X$2:Y153,2)","v":0.27500000000000002},8,{"$f":"F126/30","v":0.26666666666666666},null,null,{"$f":"H126/F126*100","v":0},null,null,{"$f":"K126/F126*100","v":0},{"$f":"H126+K126","v":0},{"$f":"N126/60","v":0},{"$f":"O126/G126*100","v":0},{"$f":"ROUNDDOWN(P126,0)","v":0}]
[126,null,null,"A",{"$f":"VLOOKUP(F127,X$2:Y154,2)","v":0.27500000000000002},8,{"$f":"F127/30","v":0.26666666666666666},null,null,{"$f":"H127/F127*100","v":0},null,null,{"$f":"K127/F127*100","v":0},{"$f":"H127+K127","v":0},{"$f":"N127/60","v":0},{"$f":"O127/G127*100","v":0},{"$f":"ROUNDDOWN(P127,0)","v":0}]
[127,null,null,"A",{"$f":"VLOOKUP(F128,X$2:Y155,2)","v":0.27500000000000002},8,{"$f":"F128/30","v":0.26666666666666666},null,null,{"$f":"H128/F128*100","v":0},null,null,{"$f":"K128/F128*100","v":0},{"$f":"H128+K128","v":0},{"$f":"N128/60","v":0},{"$f":"O128/G128*100","v":0},{"$f":"ROUNDDOWN(P128,0)","v":0}]
[128,null,null,"A",{"$f":"VLOOKUP(F129,X$2:Y156,2)","v":0.27500000000000002},8,{"$f":"F129/30","v":0.26666666666666666},null,null,{"$f":"H129/F129*100","v":0},null,null,{"$f":"K129/F129*100","v":0},{"$f":"H129+K129","v":0},{"$f":"N129/60","v":0},{"$f":"O129/G129*100","v":0},{"$f":"ROUNDDOWN(P129,0)","v":0}]
[129,null,null,"A",{"$f":"VLOOKUP(F130,X$2:Y157,2)","v":0.27500000000000002},8,{"$f":"F130/30","v":0.26666666666666666},null,null,{"$f":"H130/F130*100","v":0},null,null,{"$f":"K130/F130*100","v":0},{"$f":"H130+K130","v":0},{"$f":"N130/60","v":0},{"$f":"O130/G130*100","v":0},{"$f":"ROUNDDOWN(P130,0)","v":0}]
[130,null,null,"A",{"$f":"VLOOKUP(F131,X$2:Y158,2)","v":0.27500000000000002},8,{"$f":"F131/30","v":0.26666666666666666},null,null,{"$f":"H131/F131*100","v":0},null,null,{"$f":"K131/F131*100","v":0},{"$f":"H131+K131","v":0},{"$f":"N131/60","v":0},{"$f":"O131/G131*100","v":0},{"$f":"ROUNDDOWN(P131,0)","v":0}]
[131,null,null,"A",{"$f":"VLOOKUP(F132,X$2:Y159,2)","v":0.27500000000000002},8,{"$f":"F132/30","v":0.26666666666666666},null,null,{"$f":"H132/F132*100","v":0},null,null,{"$f":"K132/F132*100","v":0},{"$f":"H132+K132","v":0},{"$f":"N132/60","v":0},{"$f":"O132/G132*100","v":0},{"$f":"ROUNDDOWN(P132,0)","v":0}]
[132,null,null,"A",{"$f":"VLOOKUP(F133,X$2:Y160,2)","v":0.27500000000000002},8,{"$f":"F133/30","v":0.26666666666666666},null,null,{"$f":"H133/F133*100","v":0},null,null,{"$f":"K133/F133*100","v":0},{"$f":"H133+K133","v":0},{"$f":"N133/60","v":0},{"$f":"O133/G133*100","v":0},{"$f":"ROUNDDOWN(P133,0)","v":0}]
[133,null,null,"A",{"$f":"VLOOKUP(F134,X$2:Y161,2)","v":0.27500000000000002},8,{"$f":"F134/30","v":0.26666666666666666},null,null,{"$f":"H134/F134*100","v":0},null,null,{"$f":"K134/F134*100","v":0},{"$f":"H134+K134","v":0},{"$f":"N134/60","v":0},{"$f":"O134/G134*100","v":0},{"$f":"ROUNDDOWN(P134,0)","v":0}]
[134,null,null,"A",{"$f":"VLOOKUP(F135,X$2:Y162,2)","v":0.27500000000000002},8,{"$f":"F135/30","v":0.26666666666666666},null,null,{"$f":"H135/F135*100","v":0},null,null,{"$f":"K135/F135*100","v":0},{"$f":"H135+K135","v":0},{"$f":"N135/60","v":0},{"$f":"O135/G135*100","v":0},{"$f":"ROUNDDOWN(P135,0)","v":0}]
[135,null,null,"A",{"$f":"VLOOKUP(F136,X$2:Y163,2)","v":0.27500000000000002},8,{"$f":"F136/30","v":0.26666666666666666},null,null,{"$f":"H136/F136*100","v":0},null,null,{"$f":"K136/F136*100","v":0},{"$f":"H136+K136","v":0},{"$f":"N136/60","v":0},{"$f":"O136/G136*100","v":0},{"$f":"ROUNDDOWN(P136,0)","v":0}]
[136,null,null,"A",{"$f":"VLOOKUP(F137,X$2:Y164,2)","v":0.27500000000000002},8,{"$f":"F137/30","v":0.26666666666666666},null,null,{"$f":"H137/F137*100","v":0},null,null,{"$f":"K137/F137*100","v":0},{"$f":"H137+K137","v":0},{"$f":"N137/60","v":0},{"$f":"O137/G137*100","v":0},{"$f":"ROUNDDOWN(P137,0)","v":0}]
[137,null,null,"A",{"$f":"VLOOKUP(F138,X$2:Y165,2)","v":0.27500000000000002},8,{"$f":"F138/30","v":0.26666666666666666},null,null,{"$f":"H138/F138*100","v":0},null,null,{"$f":"K138/F138*100","v":0},{"$f":"H138+K138","v":0},{"$f":"N138/60","v":0},{"$f":"O138/G138*100","v":0},{"$f":"ROUNDDOWN(P138,0)","v":0}]
[138,null,null,"A",{"$f":"VLOOKUP(F139,X$2:Y166,2)","v":0.27500000000000002},8,{"$f":"F139/30","v":0.26666666666666666},null,null,{"$f":"H139/F139*100","v":0},null,null,{"$f":"K139/F139*100","v":0},{"$f":"H139+K139","v":0},{"$f":"N139/60","v":0},{"$f":"O139/G139*100","v":0},{"$f":"ROUNDDOWN(P139,0)","v":0}]
[139,null,null,"A",{"$f":"VLOOKUP(F140,X$2:Y167,2)","v":0.27500000000000002},8,{"$f":"F140/30","v":0.26666666666666666},null,null,{"$f":"H140/F140*100","v":0},null,null,{"$f":"K140/F140*100","v":0},{"$f":"H140+K140","v":0},{"$f":"N140/60","v":0},{"$f":"O140/G140*100","v":0},{"$f":"ROUNDDOWN(P140,0)","v":0}]
[140,null,null,"A",{"$f":"VLOOKUP(F141,X$2:Y168,2)","v":0.27500000000000002},8,{"$f":"F141/30","v":0.26666666666666666},null,null,{"$f":"H141/F141*100","v":0},null,null,{"$f":"K141/F141*100","v":0},{"$f":"H141+K141","v":0},{"$f":"N141/60","v":0},{"$f":"O141/G141*100","v":0},{"$f":"ROUNDDOWN(P141,0)","v":0}]
[141,null,null,"A",{"$f":"VLOOKUP(F142,X$2:Y169,2)","v":0.27500000000000002},8,{"$f":"F142/30","v":0.26666666666666666},null,null,{"$f":"H142/F142*100","v":0},null,null,{"$f":"K142/F142*100","v":0},{"$f":"H142+K142","v":0},{"$f":"N142/60","v":0},{"$f":"O142/G142*100","v":0},{"$f":"ROUNDDOWN(P142,0)","v":0}]
[142,null,null,"A",{"$f":"VLOOKUP(F143,X$2:Y170,2)","v":0.27500000000000002},8,{"$f":"F143/30","v":0.26666666666666666},null,null,{"$f":"H143/F143*100","v":0},null,null,{"$f":"K143/F143*100","v":0},{"$f":"H143+K143","v":0},{"$f":"N143/60","v":0},{"$f":"O143/G143*100","v":0},{"$f":"ROUNDDOWN(P143,0)","v":0}]
[143,null,null,"A",{"$f":"VLOOKUP(F144,X$2:Y171,2)","v":0.27500000000000002},8,{"$f":"F144/30","v":0.26666666666666666},null,null,{"$f":"H144/F144*100","v":0},null,null,{"$f":"K144/F144*100","v":0},{"$f":"H144+K144","v":0},{"$f":"N144/60","v":0},{"$f":"O144/G144*100","v":0},{"$f":"ROUNDDOWN(P144,0)","v":0}]
[144,null,null,"A",{"$f":"VLOOKUP(F145,X$2:Y172,2)","v":0.27500000000000002},8,{"$f":"F145/30","v":0.26666666666666666},null,null,{"$f":"H145/F145*100","v":0},null,null,{"$f":"K145/F145*100","v":0},{"$f":"H145+K145","v":0},{"$f":"N145/60","v":0},{"$f":"O145/G145*100","v":0},{"$f":"ROUNDDOWN(P145,0)","v":0}]
[145,null,null,"A",{"$f":"VLOOKUP(F146,X$2:Y173,2)","v":0.27500000000000002},8,{"$f":"F146/30","v":0.26666666666666666},null,null,{"$f":"H146/F146*100","v":0},null,null,{"$f":"K146/F146*100","v":0},{"$f":"H146+K146","v":0},{"$f":"N146/60","v":0},{"$f":"O146/G146*100","v":0},{"$f":"ROUNDDOWN(P146,0)","v":0}]
[146,null,null,"A",{"$f":"VLOOKUP(F147,X$2:Y174,2)","v":0.27500000000000002},8,{"$f":"F147/30","v":0.26666666666666666},null,null,{"$f":"H147/F147*100","v":0},null,null,{"$f":"K147/F147*100","v":0},{"$f":"H147+K147","v":0},{"$f":"N147/60","v":0},{"$f":"O147/G147*100","v":0},{"$f":"ROUNDDOWN(P147,0)","v":0}]
[147,null,null,"A",{"$f":"VLOOKUP(F148,X$2:Y175,2)","v":0.27500000000000002},8,{"$f":"F148/30","v":0.26666666666666666},null,null,{"$f":"H148/F148*100","v":0},null,null,{"$f":"K148/F148*100","v":0},{"$f":"H148+K148","v":0},{"$f":"N148/60","v":0},{"$f":"O148/G148*100","v":0},{"$f":"ROUNDDOWN(P148,0)","v":0}]
[148,null,null,"A",{"$f":"VLOOKUP(F149,X$2:Y176,2)","v":0.27500000000000002},8,{"$f":"F149/30","v":0.26666666666666666},null,null,{"$f":"H149/F149*100","v":0},null,null,{"$f":"K149/F149*100","v":0},{"$f":"H149+K149","v":0},{"$f":"N149/60","v":0},{"$f":"O149/G149*100","v":0},{"$f":"ROUNDDOWN(P149,0)","v":0}]
[149,null,null,"A",{"$f":"VLOOKUP(F150,X$2:Y177,2)","v":0.27500000000000002},8,{"$f":"F150/30","v":0.26666666666666666},null,null,{"$f":"H150/F150*100","v":0},null,null,{"$f":"K150/F150*100","v":0},{"$f":"H150+K150","v":0},{"$f":"N150/60","v":0},{"$f":"O150/G150*100","v":0},{"$f":"ROUNDDOWN(P150,0)","v":0}]
[150,null,null,"A",{"$f":"VLOOKUP(F151,X$2:Y178,2)","v":0.27500000000000002},8,{"$f":"F151/30","v":0.26666666666666666},null,null,{"$f":"H151/F151*100","v":0},null,null,{"$f":"K151/F151*100","v":0},{"$f":"H151+K151","v":0},{"$f":"N151/60","v":0},{"$f":"O151/G151*100","v":0},{"$f":"ROUNDDOWN(P151,0)","v":0}]
[151,null,null,"A",{"$f":"VLOOKUP(F152,X$2:Y179,2)","v":0.27500000000000002},8,{"$f":"F152/30","v":0.26666666666666666},null,null,{"$f":"H152/F152*100","v":0},null,null,{"$f":"K152/F152*100","v":0},{"$f":"H152+K152","v":0},{"$f":"N152/60","v":0},{"$f":"O152/G152*100","v":0},{"$f":"ROUNDDOWN(P152,0)","v":0}]
[152,null,null,"A",{"$f":"VLOOKUP(F153,X$2:Y180,2)","v":0.27500000000000002},8,{"$f":"F153/30","v":0.26666666666666666},null,null,{"$f":"H153/F153*100","v":0},null,null,{"$f":"K153/F153*100","v":0},{"$f":"H153+K153","v":0},{"$f":"N153/60","v":0},{"$f":"O153/G153*100","v":0},{"$f":"ROUNDDOWN(P153,0)","v":0}]
[153,null,null,"A",{"$f":"VLOOKUP(F154,X$2:Y181,2)","v":0.27500000000000002},8,{"$f":"F154/30","v":0.26666666666666666},null,null,{"$f":"H154/F154*100","v":0},null,null,{"$f":"K154/F154*100","v":0},{"$f":"H154+K154","v":0},{"$f":"N154/60","v":0},{"$f":"O154/G154*100","v":0},{"$f":"ROUNDDOWN(P154,0)","v":0}]
[154,null,null,"A",{"$f":"VLOOKUP(F155,X$2:Y182,2)","v":0.27500000000000002},8,{"$f":"F155/30","v":0.26666666666666666},null,null,{"$f":"H155/F155*100","v":0},null,null,{"$f":"K155/F155*100","v":0},{"$f":"H155+K155","v":0},{"$f":"N155/60","v":0},{"$f":"O155/G155*100","v":0},{"$f":"ROUNDDOWN(P155,0)","v":0}]
[155,null,null,"A",{"$f":"VLOOKUP(F156,X$2:Y183,2)","v":0.27500000000000002},8,{"$f":"F156/30","v":0.26666666666666666},null,null,{"$f":"H156/F156*100","v":0},null,null,{"$f":"K156/F156*100","v":0},{"$f":"H156+K156","v":0},{"$f":"N156/60","v":0},{"$f":"O156/G156*100","v":0},{"$f":"ROUNDDOWN(P156,0)","v":0}]
[156,null,null,"A",{"$f":"VLOOKUP(F157,X$2:Y184,2)","v":0.27500000000000002},8,{"$f":"F157/30","v":0.26666666666666666},null,null,{"$f":"H157/F157*100","v":0},null,null,{"$f":"K157/F157*100","v":0},{"$f":"H157+K157","v":0},{"$f":"N157/60","v":0},{"$f":"O157/G157*100","v":0},{"$f":"ROUNDDOWN(P157,0)","v":0}]
[157,null,null,"A",{"$f":"VLOOKUP(F158,X$2:Y185,2)","v":0.27500000000000002},8,{"$f":"F158/30","v":0.26666666666666666},null,null,{"$f":"H158/F158*100","v":0},null,null,{"$f":"K158/F158*100","v":0},{"$f":"H158+K158","v":0},{"$f":"N158/60","v":0},{"$f":"O158/G158*100","v":0},{"$f":"ROUNDDOWN(P158,0)","v":0}]
[158,null,null,"A",{"$f":"VLOOKUP(F159,X$2:Y186,2)","v":0.27500000000000002},8,{"$f":"F159/30","v":0.26666666666666666},null,null,{"$f":"H159/F159*100","v":0},null,null,{"$f":"K159/F159*100","v":0},{"$f":"H159+K159","v":0},{"$f":"N159/60","v":0},{"$f":"O159/G159*100","v":0},{"$f":"ROUNDDOWN(P159,0)","v":0}]
[159,null,null,"A",{"$f":"VLOOKUP(F160,X$2:Y187,2)","v":0.27500000000000002},8,{"$f":"F160/30","v":0.26666666666666666},null,null,{"$f":"H160/F160*100","v":0},null,null,{"$f":"K160/F160*100","v":0},{"$f":"H160+K160","v":0},{"$f":"N160/60","v":0},{"$f":"O160/G160*100","v":0},{"$f":"ROUNDDOWN(P160,0)","v":0}]
[160,null,null,"A",{"$f":"VLOOKUP(F161,X$2:Y188,2)","v":0.27500000000000002},8,{"$f":"F161/30","v":0.26666666666666666},null,null,{"$f":"H161/F161*100","v":0},null,null,{"$f":"K161/F161*100","v":0},{"$f":"H161+K161","v":0},{"$f":"N161/60","v":0},{"$f":"O161/G161*100","v":0},{"$f":"ROUNDDOWN(P161,0)","v":0}]
[161,null,null,"A",{"$f":"VLOOKUP(F162,X$2:Y189,2)","v":0.27500000000000002},8,{"$f":"F162/30","v":0.26666666666666666},null,null,{"$f":"H162/F162*100","v":0},null,null,{"$f":"K162/F162*100","v":0},{"$f":"H162+K162","v":0},{"$f":"N162/60","v":0},{"$f":"O162/G162*100","v":0},{"$f":"ROUNDDOWN(P162,0)","v":0}]
[162,null,null,"A",{"$f":"VLOOKUP(F163,X$2:Y190,2)","v":0.27500000000000002},8,{"$f":"F163/30","v":0.26666666666666666},null,null,{"$f":"H163/F163*100","v":0},null,null,{"$f":"K163/F163*100","v":0},{"$f":"H163+K163","v":0},{"$f":"N163/60","v":0},{"$f":"O163/G163*100","v":0},{"$f":"ROUNDDOWN(P163,0)","v":0}]
[163,null,null,"A",{"$f":"VLOOKUP(F164,X$2:Y191,2)","v":0.27500000000000002},8,{"$f":"F164/30","v":0.26666666666666666},null,null,{"$f":"H164/F164*100","v":0},null,null,{"$f":"K164/F164*100","v":0},{"$f":"H164+K164","v":0},{"$f":"N164/60","v":0},{"$f":"O164/G164*100","v":0},{"$f":"ROUNDDOWN(P164,0)","v":0}]
[164,null,null,"A",{"$f":"VLOOKUP(F165,X$2:Y192,2)","v":0.27500000000000002},8,{"$f":"F165/30","v":0.26666666666666666},null,null,{"$f":"H165/F165*100","v":0},null,null,{"$f":"K165/F165*100","v":0},{"$f":"H165+K165","v":0},{"$f":"N165/60","v":0},{"$f":"O165/G165*100","v":0},{"$f":"ROUNDDOWN(P165,0)","v":0}]
[165,null,null,"A",{"$f":"VLOOKUP(F166,X$2:Y193,2)","v":0.27500000000000002},8,{"$f":"F166/30","v":0.26666666666666666},null,null,{"$f":"H166/F166*100","v":0},null,null,{"$f":"K166/F166*100","v":0},{"$f":"H166+K166","v":0},{"$f":"N166/60","v":0},{"$f":"O166/G166*100","v":0},{"$f":"ROUNDDOWN(P166,0)","v":0}]
[166,null,null,"A",{"$f":"VLOOKUP(F167,X$2:Y194,2)","v":0.27500000000000002},8,{"$f":"F167/30","v":0.26666666666666666},null,null,{"$f":"H167/F167*100","v":0},null,null,{"$f":"K167/F167*100","v":0},{"$f":"H167+K167","v":0},{"$f":"N167/60","v":0},{"$f":"O167/G167*100","v":0},{"$f":"ROUNDDOWN(P167,0)","v":0}]
[167,null,null,"A",{"$f":"VLOOKUP(F168,X$2:Y195,2)","v":0.27500000000000002},8,{"$f":"F168/30","v":0.26666666666666666},null,null,{"$f":"H168/F168*100","v":0},null,null,{"$f":"K168/F168*100","v":0},{"$f":"H168+K168","v":0},{"$f":"N168/60","v":0},{"$f":"O168/G168*100","v":0},{"$f":"ROUNDDOWN(P168,0)","v":0}]
[168,null,null,"A",{"$f":"VLOOKUP(F169,X$2:Y196,2)","v":0.27500000000000002},8,{"$f":"F169/30","v":0.26666666666666666},null,null,{"$f":"H169/F169*100","v":0},null,null,{"$f":"K169/F169*100","v":0},{"$f":"H169+K169","v":0},{"$f":"N169/60","v":0},{"$f":"O169/G169*100","v":0},{"$f":"ROUNDDOWN(P169,0)","v":0}]
[169,null,null,"A",{"$f":"VLOOKUP(F170,X$2:Y197,2)","v":0.27500000000000002},8,{"$f":"F170/30","v":0.26666666666666666},null,null,{"$f":"H170/F170*100","v":0},null,null,{"$f":"K170/F170*100","v":0},{"$f":"H170+K170","v":0},{"$f":"N170/60","v":0},{"$f":"O170/G170*100","v":0},{"$f":"ROUNDDOWN(P170,0)","v":0}]
[170,null,null,"A",{"$f":"VLOOKUP(F171,X$2:Y198,2)","v":0.27500000000000002},8,{"$f":"F171/30","v":0.26666666666666666},null,null,{"$f":"H171/F171*100","v":0},null,null,{"$f":"K171/F171*100","v":0},{"$f":"H171+K171","v":0},{"$f":"N171/60","v":0},{"$f":"O171/G171*100","v":0},{"$f":"ROUNDDOWN(P171,0)","v":0}]
[171,null,null,"A",{"$f":"VLOOKUP(F172,X$2:Y199,2)","v":0.27500000000000002},8,{"$f":"F172/30","v":0.26666666666666666},null,null,{"$f":"H172/F172*100","v":0},null,null,{"$f":"K172/F172*100","v":0},{"$f":"H172+K172","v":0},{"$f":"N172/60","v":0},{"$f":"O172/G172*100","v":0},{"$f":"ROUNDDOWN(P172,0)","v":0}]
[172,null,null,"A",{"$f":"VLOOKUP(F173,X$2:Y200,2)","v":0.27500000000000002},8,{"$f":"F173/30","v":0.26666666666666666},null,null,{"$f":"H173/F173*100","v":0},null,null,{"$f":"K173/F173*100","v":0},{"$f":"H173+K173","v":0},{"$f":"N173/60","v":0},{"$f":"O173/G173*100","v":0},{"$f":"ROUNDDOWN(P173,0)","v":0}]
[173,null,null,"A",{"$f":"VLOOKUP(F174,X$2:Y201,2)","v":0.27500000000000002},8,{"$f":"F174/30","v":0.26666666666666666},null,null,{"$f":"H174/F174*100","v":0},null,null,{"$f":"K174/F174*100","v":0},{"$f":"H174+K174","v":0},{"$f":"N174/60","v":0},{"$f":"O174/G174*100","v":0},{"$f":"ROUNDDOWN(P174,0)","v":0}]
[174,null,null,"A",{"$f":"VLOOKUP(F175,X$2:Y202,2)","v":0.27500000000000002},8,{"$f":"F175/30","v":0.26666666666666666},null,null,{"$f":"H175/F175*100","v":0},null,null,{"$f":"K175/F175*100","v":0},{"$f":"H175+K175","v":0},{"$f":"N175/60","v":0},{"$f":"O175/G175*100","v":0},{"$f":"ROUNDDOWN(P175,0)","v":0}]
[175,null,null,"A",{"$f":"VLOOKUP(F176,X$2:Y203,2)","v":0.27500000000000002},8,{"$f":"F176/30","v":0.26666666666666666},null,null,{"$f":"H176/F176*100","v":0},null,null,{"$f":"K176/F176*100","v":0},{"$f":"H176+K176","v":0},{"$f":"N176/60","v":0},{"$f":"O176/G176*100","v":0},{"$f":"ROUNDDOWN(P176,0)","v":0}]
[176,null,null,"A",{"$f":"VLOOKUP(F177,X$2:Y204,2)","v":0.27500000000000002},8,{"$f":"F177/30","v":0.26666666666666666},null,null,{"$f":"H177/F177*100","v":0},null,null,{"$f":"K177/F177*100","v":0},{"$f":"H177+K177","v":0},{"$f":"N177/60","v":0},{"$f":"O177/G177*100","v":0},{"$f":"ROUNDDOWN(P177,0)","v":0}]
[177,null,null,"A",{"$f":"VLOOKUP(F178,X$2:Y205,2)","v":0.27500000000000002},8,{"$f":"F178/30","v":0.26666666666666666},null,null,{"$f":"H178/F178*100","v":0},null,null,{"$f":"K178/F178*100","v":0},{"$f":"H178+K178","v":0},{"$f":"N178/60","v":0},{"$f":"O178/G178*100","v":0},{"$f":"ROUNDDOWN(P178,0)","v":0}]
[178,null,null,"A",{"$f":"VLOOKUP(F179,X$2:Y206,2)","v":0.27500000000000002},8,{"$f":"F179/30","v":0.26666666666666666},null,null,{"$f":"H179/F179*100","v":0},null,null,{"$f":"K179/F179*100","v":0},{"$f":"H179+K179","v":0},{"$f":"N179/60","v":0},{"$f":"O179/G179*100","v":0},{"$f":"ROUNDDOWN(P179,0)","v":0}]
[179,null,null,"A",{"$f":"VLOOKUP(F180,X$2:Y207,2)","v":0.27500000000000002},8,{"$f":"F180/30","v":0.26666666666666666},null,null,{"$f":"H180/F180*100","v":0},null,null,{"$f":"K180/F180*100","v":0},{"$f":"H180+K180","v":0},{"$f":"N180/60","v":0},{"$f":"O180/G180*100","v":0},{"$f":"ROUNDDOWN(P180,0)","v":0}]
[180,null,null,"A",{"$f":"VLOOKUP(F181,X$2:Y208,2)","v":0.27500000000000002},8,{"$f":"F181/30","v":0.26666666666666666},null,null,{"$f":"H181/F181*100","v":0},null,null,{"$f":"K181/F181*100","v":0},{"$f":"H181+K181","v":0},{"$f":"N181/60","v":0},{"$f":"O181/G181*100","v":0},{"$f":"ROUNDDOWN(P181,0)","v":0}]
[181,null,null,"A",{"$f":"VLOOKUP(F182,X$2:Y209,2)","v":0.27500000000000002},8,{"$f":"F182/30","v":0.26666666666666666},null,null,{"$f":"H182/F182*100","v":0},null,null,{"$f":"K182/F182*100","v":0},{"$f":"H182+K182","v":0},{"$f":"N182/60","v":0},{"$f":"O182/G182*100","v":0},{"$f":"ROUNDDOWN(P182,0)","v":0}]
[182,null,null,"A",{"$f":"VLOOKUP(F183,X$2:Y210,2)","v":0.27500000000000002},8,{"$f":"F183/30","v":0.26666666666666666},null,null,{"$f":"H183/F183*100","v":0},null,null,{"$f":"K183/F183*100","v":0},{"$f":"H183+K183","v":0},{"$f":"N183/60","v":0},{"$f":"O183/G183*100","v":0},{"$f":"ROUNDDOWN(P183,0)","v":0}]
[183,null,null,"A",{"$f":"VLOOKUP(F184,X$2:Y211,2)","v":0.27500000000000002},8,{"$f":"F184/30","v":0.26666666666666666},null,null,{"$f":"H184/F184*100","v":0},null,null,{"$f":"K184/F184*100","v":0},{"$f":"H184+K184","v":0},{"$f":"N184/60","v":0},{"$f":"O184/G184*100","v":0},{"$f":"ROUNDDOWN(P184,0)","v":0}]
[184,null,null,"A",{"$f":"VLOOKUP(F185,X$2:Y212,2)","v":0.27500000000000002},8,{"$f":"F185/30","v":0.26666666666666666},null,null,{"$f":"H185/F185*100","v":0},null,null,{"$f":"K185/F185*100","v":0},{"$f":"H185+K185","v":0},{"$f":"N185/60","v":0},{"$f":"O185/G185*100","v":0},{"$f":"ROUNDDOWN(P185,0)","v":0}]
[185,null,null,"A",{"$f":"VLOOKUP(F186,X$2:Y213,2)","v":0.27500000000000002},8,{"$f":"F186/30","v":0.26666666666666666},null,null,{"$f":"H186/F186*100","v":0},null,null,{"$f":"K186/F186*100","v":0},{"$f":"H186+K186","v":0},{"$f":"N186/60","v":0},{"$f":"O186/G186*100","v":0},{"$f":"ROUNDDOWN(P186,0)","v":0}]
[186,null,null,"A",{"$f":"VLOOKUP(F187,X$2:Y214,2)","v":0.27500000000000002},8,{"$f":"F187/30","v":0.26666666666666666},null,null,{"$f":"H187/F187*100","v":0},null,null,{"$f":"K187/F187*100","v":0},{"$f":"H187+K187","v":0},{"$f":"N187/60","v":0},{"$f":"O187/G187*100","v":0},{"$f":"ROUNDDOWN(P187,0)","v":0}]
[187,null,null,"A",{"$f":"VLOOKUP(F188,X$2:Y215,2)","v":0.27500000000000002},8,{"$f":"F188/30","v":0.26666666666666666},null,null,{"$f":"H188/F188*100","v":0},null,null,{"$f":"K188/F188*100","v":0},{"$f":"H188+K188","v":0},{"$f":"N188/60","v":0},{"$f":"O188/G188*100","v":0},{"$f":"ROUNDDOWN(P188,0)","v":0}]
[188,null,null,"A",{"$f":"VLOOKUP(F189,X$2:Y216,2)","v":0.27500000000000002},8,{"$f":"F189/30","v":0.26666666666666666},null,null,{"$f":"H189/F189*100","v":0},null,null,{"$f":"K189/F189*100","v":0},{"$f":"H189+K189","v":0},{"$f":"N189/60","v":0},{"$f":"O189/G189*100","v":0},{"$f":"ROUNDDOWN(P189,0)","v":0}]
[189,null,null,"A",{"$f":"VLOOKUP(F190,X$2:Y217,2)","v":0.27500000000000002},8,{"$f":"F190/30","v":0.26666666666666666},null,null,{"$f":"H190/F190*100","v":0},null,null,{"$f":"K190/F190*100","v":0},{"$f":"H190+K190","v":0},{"$f":"N190/60","v":0},{"$f":"O190/G190*100","v":0},{"$f":"ROUNDDOWN(P190,0)","v":0}]
[190,null,null,"A",{"$f":"VLOOKUP(F191,X$2:Y218,2)","v":0.27500000000000002},8,{"$f":"F191/30","v":0.26666666666666666},null,null,{"$f":"H191/F191*100","v":0},null,null,{"$f":"K191/F191*100","v":0},{"$f":"H191+K191","v":0},{"$f":"N191/60","v":0},{"$f":"O191/G191*100","v":0},{"$f":"ROUNDDOWN(P191,0)","v":0}]
[191,null,null,"A",{"$f":"VLOOKUP(F192,X$2:Y219,2)","v":0.27500000000000002},8,{"$f":"F192/30","v":0.26666666666666666},null,null,{"$f":"H192/F192*100","v":0},null,null,{"$f":"K192/F192*100","v":0},{"$f":"H192+K192","v":0},{"$f":"N192/60","v":0},{"$f":"O192/G192*100","v":0},{"$f":"ROUNDDOWN(P192,0)","v":0}]
[192,null,null,"A",{"$f":"VLOOKUP(F193,X$2:Y220,2)","v":0.27500000000000002},8,{"$f":"F193/30","v":0.26666666666666666},null,null,{"$f":"H193/F193*100","v":0},null,null,{"$f":"K193/F193*100","v":0},{"$f":"H193+K193","v":0},{"$f":"N193/60","v":0},{"$f":"O193/G193*100","v":0},{"$f":"ROUNDDOWN(P193,0)","v":0}]
[193,null,null,"A",{"$f":"VLOOKUP(F194,X$2:Y221,2)","v":0.27500000000000002},8,{"$f":"F194/30","v":0.26666666666666666},null,null,{"$f":"H194/F194*100","v":0},null,null,{"$f":"K194/F194*100","v":0},{"$f":"H194+K194","v":0},{"$f":"N194/60","v":0},{"$f":"O194/G194*100","v":0},{"$f":"ROUNDDOWN(P194,0)","v":0}]
[194,null,null,"A",{"$f":"VLOOKUP(F195,X$2:Y222,2)","v":0.27500000000000002},8,{"$f":"F195/30","v":0.26666666666666666},null,null,{"$f":"H195/F195*100","v":0},null,null,{"$f":"K195/F195*100","v":0},{"$f":"H195+K195","v":0},{"$f":"N195/60","v":0},{"$f":"O195/G195*100","v":0},{"$f":"ROUNDDOWN(P195,0)","v":0}]
[195,null,null,"A",{"$f":"VLOOKUP(F196,X$2:Y223,2)","v":0.27500000000000002},8,{"$f":"F196/30","v":0.26666666666666666},null,null,{"$f":"H196/F196*100","v":0},null,null,{"$f":"K196/F196*100","v":0},{"$f":"H196+K196","v":0},{"$f":"N196/60","v":0},{"$f":"O196/G196*100","v":0},{"$f":"ROUNDDOWN(P196,0)","v":0}]
[196,null,null,"A",{"$f":"VLOOKUP(F197,X$2:Y224,2)","v":0.27500000000000002},8,{"$f":"F197/30","v":0.26666666666666666},null,null,{"$f":"H197/F197*100","v":0},null,null,{"$f":"K197/F197*100","v":0},{"$f":"H197+K197","v":0},{"$f":"N197/60","v":0},{"$f":"O197/G197*100","v":0},{"$f":"ROUNDDOWN(P197,0)","v":0}]
[197,null,null,"A",{"$f":"VLOOKUP(F198,X$2:Y225,2)","v":0.27500000000000002},8,{"$f":"F198/30","v":0.26666666666666666},null,null,{"$f":"H198/F198*100","v":0},null,null,{"$f":"K198/F198*100","v":0},{"$f":"H198+K198","v":0},{"$f":"N198/60","v":0},{"$f":"O198/G198*100","v":0},{"$f":"ROUNDDOWN(P198,0)","v":0}]
[198,null,null,"A",{"$f":"VLOOKUP(F199,X$2:Y226,2)","v":0.27500000000000002},8,{"$f":"F199/30","v":0.26666666666666666},null,null,{"$f":"H199/F199*100","v":0},null,null,{"$f":"K199/F199*100","v":0},{"$f":"H199+K199","v":0},{"$f":"N199/60","v":0},{"$f":"O199/G199*100","v":0},{"$f":"ROUNDDOWN(P199,0)","v":0}]
[199,null,null,"A",{"$f":"VLOOKUP(F200,X$2:Y227,2)","v":0.27500000000000002},8,{"$f":"F200/30","v":0.26666666666666666},null,null,{"$f":"H200/F200*100","v":0},null,null,{"$f":"K200/F200*100","v":0},{"$f":"H200+K200","v":0},{"$f":"N200/60","v":0},{"$f":"O200/G200*100","v":0},{"$f":"ROUNDDOWN(P200,0)","v":0}]
[200,null,null,"A",{"$f":"VLOOKUP(F201,X$2:Y228,2)","v":0.27500000000000002},8,{"$f":"F201/30","v":0.26666666666666666},null,null,{"$f":"H201/F201*100","v":0},null,null,{"$f":"K201/F201*100","v":0},{"$f":"H201+K201","v":0},{"$f":"N201/60","v":0},{"$f":"O201/G201*100","v":0},{"$f":"ROUNDDOWN(P201,0)","v":0}]
[201,null,null,"A",{"$f":"VLOOKUP(F202,X$2:Y229,2)","v":0.27500000000000002},8,{"$f":"F202/30","v":0.26666666666666666},null,null,{"$f":"H202/F202*100","v":0},null,null,{"$f":"K202/F202*100","v":0},{"$f":"H202+K202","v":0},{"$f":"N202/60","v":0},{"$f":"O202/G202*100","v":0},{"$f":"ROUNDDOWN(P202,0)","v":0}]
[202,null,null,"A",{"$f":"VLOOKUP(F203,X$2:Y230,2)","v":0.27500000000000002},8,{"$f":"F203/30","v":0.26666666666666666},null,null,{"$f":"H203/F203*100","v":0},null,null,{"$f":"K203/F203*100","v":0},{"$f":"H203+K203","v":0},{"$f":"N203/60","v":0},{"$f":"O203/G203*100","v":0},{"$f":"ROUNDDOWN(P203,0)","v":0}]
[203,null,null,"A",{"$f":"VLOOKUP(F204,X$2:Y231,2)","v":0.27500000000000002},8,{"$f":"F204/30","v":0.26666666666666666},null,null,{"$f":"H204/F204*100","v":0},null,null,{"$f":"K204/F204*100","v":0},{"$f":"H204+K204","v":0},{"$f":"N204/60","v":0},{"$f":"O204/G204*100","v":0},{"$f":"ROUNDDOWN(P204,0)","v":0}]
[204,null,null,"A",{"$f":"VLOOKUP(F205,X$2:Y232,2)","v":0.27500000000000002},8,{"$f":"F205/30","v":0.26666666666666666},null,null,{"$f":"H205/F205*100","v":0},null,null,{"$f":"K205/F205*100","v":0},{"$f":"H205+K205","v":0},{"$f":"N205/60","v":0},{"$f":"O205/G205*100","v":0},{"$f":"ROUNDDOWN(P205,0)","v":0}]
[205,null,null,"A",{"$f":"VLOOKUP(F206,X$2:Y233,2)","v":0.27500000000000002},8,{"$f":"F206/30","v":0.26666666666666666},null,null,{"$f":"H206/F206*100","v":0},null,null,{"$f":"K206/F206*100","v":0},{"$f":"H206+K206","v":0},{"$f":"N206/60","v":0},{"$f":"O206/G206*100","v":0},{"$f":"ROUNDDOWN(P206,0)","v":0}]
[206,null,null,"A",{"$f":"VLOOKUP(F207,X$2:Y234,2)","v":0.27500000000000002},8,{"$f":"F207/30","v":0.26666666666666666},null,null,{"$f":"H207/F207*100","v":0},null,null,{"$f":"K207/F207*100","v":0},{"$f":"H207+K207","v":0},{"$f":"N207/60","v":0},{"$f":"O207/G207*100","v":0},{"$f":"ROUNDDOWN(P207,0)","v":0}]
[207,null,null,"A",{"$f":"VLOOKUP(F208,X$2:Y235,2)","v":0.27500000000000002},8,{"$f":"F208/30","v":0.26666666666666666},null,null,{"$f":"H208/F208*100","v":0},null,null,{"$f":"K208/F208*100","v":0},{"$f":"H208+K208","v":0},{"$f":"N208/60","v":0},{"$f":"O208/G208*100","v":0},{"$f":"ROUNDDOWN(P208,0)","v":0}]
[208,null,null,"A",{"$f":"VLOOKUP(F209,X$2:Y236,2)","v":0.27500000000000002},8,{"$f":"F209/30","v":0.26666666666666666},null,null,{"$f":"H209/F209*100","v":0},null,null,{"$f":"K209/F209*100","v":0},{"$f":"H209+K209","v":0},{"$f":"N209/60","v":0},{"$f":"O209/G209*100","v":0},{"$f":"ROUNDDOWN(P209,0)","v":0}]
[209,null,null,"A",{"$f":"VLOOKUP(F210,X$2:Y237,2)","v":0.27500000000000002},8,{"$f":"F210/30","v":0.26666666666666666},null,null,{"$f":"H210/F210*100","v":0},null,null,{"$f":"K210/F210*100","v":0},{"$f":"H210+K210","v":0},{"$f":"N210/60","v":0},{"$f":"O210/G210*100","v":0},{"$f":"ROUNDDOWN(P210,0)","v":0}]
[210,null,null,"A",{"$f":"VLOOKUP(F211,X$2:Y238,2)","v":0.27500000000000002},8,{"$f":"F211/30","v":0.26666666666666666},null,null,{"$f":"H211/F211*100","v":0},null,null,{"$f":"K211/F211*100","v":0},{"$f":"H211+K211","v":0},{"$f":"N211/60","v":0},{"$f":"O211/G211*100","v":0},{"$f":"ROUNDDOWN(P211,0)","v":0}]
[211,null,null,"A",{"$f":"VLOOKUP(F212,X$2:Y239,2)","v":0.27500000000000002},8,{"$f":"F212/30","v":0.26666666666666666},null,null,{"$f":"H212/F212*100","v":0},null,null,{"$f":"K212/F212*100","v":0},{"$f":"H212+K212","v":0},{"$f":"N212/60","v":0},{"$f":"O212/G212*100","v":0},{"$f":"ROUNDDOWN(P212,0)","v":0}]
[212,null,null,"A",{"$f":"VLOOKUP(F213,X$2:Y240,2)","v":0.27500000000000002},8,{"$f":"F213/30","v":0.26666666666666666},null,null,{"$f":"H213/F213*100","v":0},null,null,{"$f":"K213/F213*100","v":0},{"$f":"H213+K213","v":0},{"$f":"N213/60","v":0},{"$f":"O213/G213*100","v":0},{"$f":"ROUNDDOWN(P213,0)","v":0}]
[213,null,null,"A",{"$f":"VLOOKUP(F214,X$2:Y241,2)","v":0.27500000000000002},8,{"$f":"F214/30","v":0.26666666666666666},null,null,{"$f":"H214/F214*100","v":0},null,null,{"$f":"K214/F214*100","v":0},{"$f":"H214+K214","v":0},{"$f":"N214/60","v":0},{"$f":"O214/G214*100","v":0},{"$f":"ROUNDDOWN(P214,0)","v":0}]
[214,null,null,"A",{"$f":"VLOOKUP(F215,X$2:Y242,2)","v":0.27500000000000002},8,{"$f":"F215/30","v":0.26666666666666666},null,null,{"$f":"H215/F215*100","v":0},null,null,{"$f":"K215/F215*100","v":0},{"$f":"H215+K215","v":0},{"$f":"N215/60","v":0},{"$f":"O215/G215*100","v":0},{"$f":"ROUNDDOWN(P215,0)","v":0}]
[215,null,null,"A",{"$f":"VLOOKUP(F216,X$2:Y243,2)","v":0.27500000000000002},8,{"$f":"F216/30","v":0.26666666666666666},null,null,{"$f":"H216/F216*100","v":0},null,null,{"$f":"K216/F216*100","v":0},{"$f":"H216+K216","v":0},{"$f":"N216/60","v":0},{"$f":"O216/G216*100","v":0},{"$f":"ROUNDDOWN(P216,0)","v":0}]
[216,null,null,"A",{"$f":"VLOOKUP(F217,X$2:Y244,2)","v":0.27500000000000002},8,{"$f":"F217/30","v":0.26666666666666666},null,null,{"$f":"H217/F217*100","v":0},null,null,{"$f":"K217/F217*100","v":0},{"$f":"H217+K217","v":0},{"$f":"N217/60","v":0},{"$f":"O217/G217*100","v":0},{"$f":"ROUNDDOWN(P217,0)","v":0}]
[217,null,null,"A",{"$f":"VLOOKUP(F218,X$2:Y245,2)","v":0.27500000000000002},8,{"$f":"F218/30","v":0.26666666666666666},null,null,{"$f":"H218/F218*100","v":0},null,null,{"$f":"K218/F218*100","v":0},{"$f":"H218+K218","v":0},{"$f":"N218/60","v":0},{"$f":"O218/G218*100","v":0},{"$f":"ROUNDDOWN(P218,0)","v":0}]
[218,null,null,"A",{"$f":"VLOOKUP(F219,X$2:Y246,2)","v":0.27500000000000002},8,{"$f":"F219/30","v":0.26666666666666666},null,null,{"$f":"H219/F219*100","v":0},null,null,{"$f":"K219/F219*100","v":0},{"$f":"H219+K219","v":0},{"$f":"N219/60","v":0},{"$f":"O219/G219*100","v":0},{"$f":"ROUNDDOWN(P219,0)","v":0}]
[219,null,null,"A",{"$f":"VLOOKUP(F220,X$2:Y247,2)","v":0.27500000000000002},8,{"$f":"F220/30","v":0.26666666666666666},null,null,{"$f":"H220/F220*100","v":0},null,null,{"$f":"K220/F220*100","v":0},{"$f":"H220+K220","v":0},{"$f":"N220/60","v":0},{"$f":"O220/G220*100","v":0},{"$f":"ROUNDDOWN(P220,0)","v":0}]
[220,null,null,"A",{"$f":"VLOOKUP(F221,X$2:Y248,2)","v":0.27500000000000002},8,{"$f":"F221/30","v":0.26666666666666666},null,null,{"$f":"H221/F221*100","v":0},null,null,{"$f":"K221/F221*100","v":0},{"$f":"H221+K221","v":0},{"$f":"N221/60","v":0},{"$f":"O221/G221*100","v":0},{"$f":"ROUNDDOWN(P221,0)","v":0}]
[221,null,null,"A",{"$f":"VLOOKUP(F222,X$2:Y249,2)","v":0.27500000000000002},8,{"$f":"F222/30","v":0.26666666666666666},null,null,{"$f":"H222/F222*100","v":0},null,null,{"$f":"K222/F222*100","v":0},{"$f":"H222+K222","v":0},{"$f":"N222/60","v":0},{"$f":"O222/G222*100","v":0},{"$f":"ROUNDDOWN(P222,0)","v":0}]
[222,null,null,"A",{"$f":"VLOOKUP(F223,X$2:Y250,2)","v":0.27500000000000002},8,{"$f":"F223/30","v":0.26666666666666666},null,null,{"$f":"H223/F223*100","v":0},null,null,{"$f":"K223/F223*100","v":0},{"$f":"H223+K223","v":0},{"$f":"N223/60","v":0},{"$f":"O223/G223*100","v":0},{"$f":"ROUNDDOWN(P223,0)","v":0}]
[223,null,null,"A",{"$f":"VLOOKUP(F224,X$2:Y251,2)","v":0.27500000000000002},8,{"$f":"F224/30","v":0.26666666666666666},null,null,{"$f":"H224/F224*100","v":0},null,null,{"$f":"K224/F224*100","v":0},{"$f":"H224+K224","v":0},{"$f":"N224/60","v":0},{"$f":"O224/G224*100","v":0},{"$f":"ROUNDDOWN(P224,0)","v":0}]
[224,null,null,"A",{"$f":"VLOOKUP(F225,X$2:Y252,2)","v":0.27500000000000002},8,{"$f":"F225/30","v":0.26666666666666666},null,null,{"$f":"H225/F225*100","v":0},null,null,{"$f":"K225/F225*100","v":0},{"$f":"H225+K225","v":0},{"$f":"N225/60","v":0},{"$f":"O225/G225*100","v":0},{"$f":"ROUNDDOWN(P225,0)","v":0}]
[225,null,null,"A",{"$f":"VLOOKUP(F226,X$2:Y253,2)","v":0.27500000000000002},8,{"$f":"F226/30","v":0.26666666666666666},null,null,{"$f":"H226/F226*100","v":0},null,null,{"$f":"K226/F226*100","v":0},{"$f":"H226+K226","v":0},{"$f":"N226/60","v":0},{"$f":"O226/G226*100","v":0},{"$f":"ROUNDDOWN(P226,0)","v":0}]
[226,null,null,"A",{"$f":"VLOOKUP(F227,X$2:Y254,2)","v":0.27500000000000002},8,{"$f":"F227/30","v":0.26666666666666666},null,null,{"$f":"H227/F227*100","v":0},null,null,{"$f":"K227/F227*100","v":0},{"$f":"H227+K227","v":0},{"$f":"N227/60","v":0},{"$f":"O227/G227*100","v":0},{"$f":"ROUNDDOWN(P227,0)","v":0}]
[227,null,null,"A",{"$f":"VLOOKUP(F228,X$2:Y255,2)","v":0.27500000000000002},8,{"$f":"F228/30","v":0.26666666666666666},null,null,{"$f":"H228/F228*100","v":0},null,null,{"$f":"K228/F228*100","v":0},{"$f":"H228+K228","v":0},{"$f":"N228/60","v":0},{"$f":"O228/G228*100","v":0},{"$f":"ROUNDDOWN(P228,0)","v":0}]
[228,null,null,"A",{"$f":"VLOOKUP(F229,X$2:Y256,2)","v":0.27500000000000002},8,{"$f":"F229/30","v":0.26666666666666666},null,null,{"$f":"H229/F229*100","v":0},null,null,{"$f":"K229/F229*100","v":0},{"$f":"H229+K229","v":0},{"$f":"N229/60","v":0},{"$f":"O229/G229*100","v":0},{"$f":"ROUNDDOWN(P229,0)","v":0}]
[229,null,null,"A",{"$f":"VLOOKUP(F230,X$2:Y257,2)","v":0.27500000000000002},8,{"$f":"F230/30","v":0.26666666666666666},null,null,{"$f":"H230/F230*100","v":0},null,null,{"$f":"K230/F230*100","v":0},{"$f":"H230+K230","v":0},{"$f":"N230/60","v":0},{"$f":"O230/G230*100","v":0},{"$f":"ROUNDDOWN(P230,0)","v":0}]
[230,null,null,"A",{"$f":"VLOOKUP(F231,X$2:Y258,2)","v":0.27500000000000002},8,{"$f":"F231/30","v":0.26666666666666666},null,null,{"$f":"H231/F231*100","v":0},null,null,{"$f":"K231/F231*100","v":0},{"$f":"H231+K231","v":0},{"$f":"N231/60","v":0},{"$f":"O231/G231*100","v":0},{"$f":"ROUNDDOWN(P231,0)","v":0}]
[231,null,null,"A",{"$f":"VLOOKUP(F232,X$2:Y259,2)","v":0.27500000000000002},8,{"$f":"F232/30","v":0.26666666666666666},null,null,{"$f":"H232/F232*100","v":0},null,null,{"$f":"K232/F232*100","v":0},{"$f":"H232+K232","v":0},{"$f":"N232/60","v":0},{"$f":"O232/G232*100","v":0},{"$f":"ROUNDDOWN(P232,0)","v":0}]
[232,null,null,"A",{"$f":"VLOOKUP(F233,X$2:Y260,2)","v":0.27500000000000002},8,{"$f":"F233/30","v":0.26666666666666666},null,null,{"$f":"H233/F233*100","v":0},null,null,{"$f":"K233/F233*100","v":0},{"$f":"H233+K233","v":0},{"$f":"N233/60","v":0},{"$f":"O233/G233*100","v":0},{"$f":"ROUNDDOWN(P233,0)","v":0}]
[233,null,null,"A",{"$f":"VLOOKUP(F234,X$2:Y261,2)","v":0.27500000000000002},8,{"$f":"F234/30","v":0.26666666666666666},null,null,{"$f":"H234/F234*100","v":0},null,null,{"$f":"K234/F234*100","v":0},{"$f":"H234+K234","v":0},{"$f":"N234/60","v":0},{"$f":"O234/G234*100","v":0},{"$f":"ROUNDDOWN(P234,0)","v":0}]
[234,null,null,"A",{"$f":"VLOOKUP(F235,X$2:Y262,2)","v":0.27500000000000002},8,{"$f":"F235/30","v":0.26666666666666666},null,null,{"$f":"H235/F235*100","v":0},null,null,{"$f":"K235/F235*100","v":0},{"$f":"H235+K235","v":0},{"$f":"N235/60","v":0},{"$f":"O235/G235*100","v":0},{"$f":"ROUNDDOWN(P235,0)","v":0}]
[235,null,null,"A",{"$f":"VLOOKUP(F236,X$2:Y263,2)","v":0.27500000000000002},8,{"$f":"F236/30","v":0.26666666666666666},null,null,{"$f":"H236/F236*100","v":0},null,null,{"$f":"K236/F236*100","v":0},{"$f":"H236+K236","v":0},{"$f":"N236/60","v":0},{"$f":"O236/G236*100","v":0},{"$f":"ROUNDDOWN(P236,0)","v":0}]
[236,null,null,"A",{"$f":"VLOOKUP(F237,X$2:Y264,2)","v":0.27500000000000002},8,{"$f":"F237/30","v":0.26666666666666666},null,null,{"$f":"H237/F237*100","v":0},null,null,{"$f":"K237/F237*100","v":0},{"$f":"H237+K237","v":0},{"$f":"N237/60","v":0},{"$f":"O237/G237*100","v":0},{"$f":"ROUNDDOWN(P237,0)","v":0}]
[237,null,null,"A",{"$f":"VLOOKUP(F238,X$2:Y265,2)","v":0.27500000000000002},8,{"$f":"F238/30","v":0.26666666666666666},null,null,{"$f":"H238/F238*100","v":0},null,null,{"$f":"K238/F238*100","v":0},{"$f":"H238+K238","v":0},{"$f":"N238/60","v":0},{"$f":"O238/G238*100","v":0},{"$f":"ROUNDDOWN(P238,0)","v":0}]
[238,null,null,"A",{"$f":"VLOOKUP(F239,X$2:Y266,2)","v":0.27500000000000002},8,{"$f":"F239/30","v":0.26666666666666666},null,null,{"$f":"H239/F239*100","v":0},null,null,{"$f":"K239/F239*100","v":0},{"$f":"H239+K239","v":0},{"$f":"N239/60","v":0},{"$f":"O239/G239*100","v":0},{"$f":"ROUNDDOWN(P239,0)","v":0}]
[239,null,null,"A",{"$f":"VLOOKUP(F240,X$2:Y267,2)","v":0.27500000000000002},8,{"$f":"F240/30","v":0.26666666666666666},null,null,{"$f":"H240/F240*100","v":0},null,null,{"$f":"K240/F240*100","v":0},{"$f":"H240+K240","v":0},{"$f":"N240/60","v":0},{"$f":"O240/G240*100","v":0},{"$f":"ROUNDDOWN(P240,0)","v":0}]
[240,null,null,"A",{"$f":"VLOOKUP(F241,X$2:Y268,2)","v":0.27500000000000002},8,{"$f":"F241/30","v":0.26666666666666666},null,null,{"$f":"H241/F241*100","v":0},null,null,{"$f":"K241/F241*100","v":0},{"$f":"H241+K241","v":0},{"$f":"N241/60","v":0},{"$f":"O241/G241*100","v":0},{"$f":"ROUNDDOWN(P241,0)","v":0}]
[241,null,null,"A",{"$f":"VLOOKUP(F242,X$2:Y269,2)","v":0.27500000000000002},8,{"$f":"F242/30","v":0.26666666666666666},null,null,{"$f":"H242/F242*100","v":0},null,null,{"$f":"K242/F242*100","v":0},{"$f":"H242+K242","v":0},{"$f":"N242/60","v":0},{"$f":"O242/G242*100","v":0},{"$f":"ROUNDDOWN(P242,0)","v":0}]
[242,null,null,"A",{"$f":"VLOOKUP(F243,X$2:Y270,2)","v":0.27500000000000002},8,{"$f":"F243/30","v":0.26666666666666666},null,null,{"$f":"H243/F243*100","v":0},null,null,{"$f":"K243/F243*100","v":0},{"$f":"H243+K243","v":0},{"$f":"N243/60","v":0},{"$f":"O243/G243*100","v":0},{"$f":"ROUNDDOWN(P243,0)","v":0}]
[243,null,null,"A",{"$f":"VLOOKUP(F244,X$2:Y271,2)","v":0.27500000000000002},8,{"$f":"F244/30","v":0.26666666666666666},null,null,{"$f":"H244/F244*100","v":0},null,null,{"$f":"K244/F244*100","v":0},{"$f":"H244+K244","v":0},{"$f":"N244/60","v":0},{"$f":"O244/G244*100","v":0},{"$f":"ROUNDDOWN(P244,0)","v":0}]
[244,null,null,"A",{"$f":"VLOOKUP(F245,X$2:Y272,2)","v":0.27500000000000002},8,{"$f":"F245/30","v":0.26666666666666666},null,null,{"$f":"H245/F245*100","v":0},null,null,{"$f":"K245/F245*100","v":0},{"$f":"H245+K245","v":0},{"$f":"N245/60","v":0},{"$f":"O245/G245*100","v":0},{"$f":"ROUNDDOWN(P245,0)","v":0}]
[245,null,null,"A",{"$f":"VLOOKUP(F246,X$2:Y273,2)","v":0.27500000000000002},8,{"$f":"F246/30","v":0.26666666666666666},null,null,{"$f":"H246/F246*100","v":0},null,null,{"$f":"K246/F246*100","v":0},{"$f":"H246+K246","v":0},{"$f":"N246/60","v":0},{"$f":"O246/G246*100","v":0},{"$f":"ROUNDDOWN(P246,0)","v":0}]
[246,null,null,"A",{"$f":"VLOOKUP(F247,X$2:Y274,2)","v":0.27500000000000002},8,{"$f":"F247/30","v":0.26666666666666666},null,null,{"$f":"H247/F247*100","v":0},null,null,{"$f":"K247/F247*100","v":0},{"$f":"H247+K247","v":0},{"$f":"N247/60","v":0},{"$f":"O247/G247*100","v":0},{"$f":"ROUNDDOWN(P247,0)","v":0}]
[247,null,null,"A",{"$f":"VLOOKUP(F248,X$2:Y275,2)","v":0.27500000000000002},8,{"$f":"F248/30","v":0.26666666666666666},null,null,{"$f":"H248/F248*100","v":0},null,null,{"$f":"K248/F248*100","v":0},{"$f":"H248+K248","v":0},{"$f":"N248/60","v":0},{"$f":"O248/G248*100","v":0},{"$f":"ROUNDDOWN(P248,0)","v":0}]
[248,null,null,"A",{"$f":"VLOOKUP(F249,X$2:Y276,2)","v":0.27500000000000002},8,{"$f":"F249/30","v":0.26666666666666666},null,null,{"$f":"H249/F249*100","v":0},null,null,{"$f":"K249/F249*100","v":0},{"$f":"H249+K249","v":0},{"$f":"N249/60","v":0},{"$f":"O249/G249*100","v":0},{"$f":"ROUNDDOWN(P249,0)","v":0}]
[249,null,null,"A",{"$f":"VLOOKUP(F250,X$2:Y277,2)","v":0.27500000000000002},8,{"$f":"F250/30","v":0.26666666666666666},null,null,{"$f":"H250/F250*100","v":0},null,null,{"$f":"K250/F250*100","v":0},{"$f":"H250+K250","v":0},{"$f":"N250/60","v":0},{"$f":"O250/G250*100","v":0},{"$f":"ROUNDDOWN(P250,0)","v":0}]
[250,null,null,"A",{"$f":"VLOOKUP(F251,X$2:Y278,2)","v":{"$error":"#N/A"}},null,{"$f":"F251/30","v":0},null,null,{"$f":"H251/F251*100","v":{"$error":"#DIV/0!"}},null,null,{"$f":"K251/F251*100","v":{"$error":"#DIV/0!"}},{"$f":"H251+K251","v":0},{"$f":"N251/60","v":0},{"$f":"O251/G251*100","v":{"$error":"#DIV/0!"}},{"$f":"ROUNDDOWN(P251,0)","v":{"$error":"#DIV/0!"}}]

{"sheet":"Groep B","index":1,"n_rows":400,"n_cols":18,"rows_kept":400,"cut":false,"hidden":false,"merged":[]}
[null,"Datum","GROEP B",null,"Moyenne","te maken caramboles","rating getal","caramboles 1e partij","hoogste serie 1e partij","percentage 1e partij","caramboles 2e partij","hoogste serie 2e partij","percentage 2e partij","totaal caramboles","gespeeld gemiddelde","gespeeld percentage","Punten afgerond ","uitgenodigd Finale"]
[1,null,"Ab Klok","B",{"$f":"VLOOKUP(F2,'Groep A'!X$2:Y124,2)","v":0.27500000000000002},8,{"$f":"F2/30","v":0.26666666666666666},null,null,{"$f":"H2/F2*100","v":0},null,null,{"$f":"K2/F2*100","v":0},{"$f":"H2+K2","v":0},{"$f":"N2/60","v":0},{"$f":"O2/G2*100","v":0},{"$f":"ROUNDDOWN(P2,0)","v":0}]
[2,null,"Abel Brijk","B",{"$f":"VLOOKUP(F3,'Groep A'!X$2:Y120,2)","v":0.35},10,{"$f":"F3/30","v":0.33333333333333331},null,null,{"$f":"H3/F3*100","v":0},null,null,{"$f":"K3/F3*100","v":0},{"$f":"H3+K3","v":0},{"$f":"N3/60","v":0},{"$f":"O3/G3*100","v":0},{"$f":"ROUNDDOWN(P3,0)","v":0}]
[3,null,"Ad Blaauw","B",{"$f":"VLOOKUP(F4,'Groep A'!X$2:Y74,2)","v":0.48399999999999999},14,{"$f":"F4/30","v":0.46666666666666667},null,null,{"$f":"H4/F4*100","v":0},null,null,{"$f":"K4/F4*100","v":0},{"$f":"H4+K4","v":0},{"$f":"N4/60","v":0},{"$f":"O4/G4*100","v":0},{"$f":"ROUNDDOWN(P4,0)","v":0}]
[4,null,"Adam van Dijk","B",{"$f":"VLOOKUP(F5,'Groep A'!X$2:Y128,2)","v":0.27500000000000002},8,{"$f":"F5/30","v":0.26666666666666666},null,null,{"$f":"H5/F5*100","v":0},null,null,{"$f":"K5/F5*100","v":0},{"$f":"H5+K5","v":0},{"$f":"N5/60","v":0},{"$f":"O5/G5*100","v":0},{"$f":"ROUNDDOWN(P5,0)","v":0}]
[5,null,"Adolf Erenstein","B",{"$f":"VLOOKUP(F6,'Groep A'!X$2:Y36,2)","v":0.41699999999999998},12,{"$f":"F6/30","v":0.4},null,null,{"$f":"H6/F6*100","v":0},null,null,{"$f":"K6/F6*100","v":0},{"$f":"H6+K6","v":0},{"$f":"N6/60","v":0},{"$f":"O6/G6*100","v":0},{"$f":"ROUNDDOWN(P6,0)","v":0}]
[6,null,"Albert Dijkema","B",{"$f":"VLOOKUP(F7,'Groep A'!X$2:Y156,2)","v":0.27500000000000002},8,{"$f":"F7/30","v":0.26666666666666666},null,null,{"$f":"H7/F7*100","v":0},null,null,{"$f":"K7/F7*100","v":0},{"$f":"H7+K7","v":0},{"$f":"N7/60","v":0},{"$f":"O7/G7*100","v":0},{"$f":"ROUNDDOWN(P7,0)","v":0}]
[7,null,"Albert Koehoorn","B",{"$f":"VLOOKUP(F8,'Groep A'!X$2:Y98,2)","v":0.35},10,{"$f":"F8/30","v":0.33333333333333331},null,null,{"$f":"H8/F8*100","v":0},null,null,{"$f":"K8/F8*100","v":0},{"$f":"H8+K8","v":0},{"$f":"N8/60","v":0},{"$f":"O8/G8*100","v":0},{"$f":"ROUNDDOWN(P8,0)","v":0}]
[8,null,"Alex Ufkes","B",{"$f":"VLOOKUP(F9,'Groep A'!X$2:Y90,2)","v":0.27500000000000002},8,{"$f":"F9/30","v":0.26666666666666666},null,null,{"$f":"H9/F9*100","v":0},null,null,{"$f":"K9/F9*100","v":0},{"$f":"H9+K9","v":0},{"$f":"N9/60","v":0},{"$f":"O9/G9*100","v":0},{"$f":"ROUNDDOWN(P9,0)","v":0}]
[9,null,"Alex Watermulder   ","B",{"$f":"VLOOKUP(F10,'Groep A'!X$2:Y80,2)","v":0.45},13,{"$f":"F10/30","v":0.43333333333333335},null,null,{"$f":"H10/F10*100","v":0},null,null,{"$f":"K10/F10*100","v":0},{"$f":"H10+K10","v":0},{"$f":"N10/60","v":0},{"$f":"O10/G10*100","v":0},{"$f":"ROUNDDOWN(P10,0)","v":0}]
[10,null,"Alexander Hulshof","B",{"$f":"VLOOKUP(F11,'Groep A'!X$2:Y66,2)","v":0.317},9,{"$f":"F11/30","v":0.3},null,null,{"$f":"H11/F11*100","v":0},null,null,{"$f":"K11/F11*100","v":0},{"$f":"H11+K11","v":0},{"$f":"N11/60","v":0},{"$f":"O11/G11*100","v":0},{"$f":"ROUNDDOWN(P11,0)","v":0}]
[11,null,"Andries Middelbos","B",{"$f":"VLOOKUP(F12,'Groep A'!X$2:Y64,2)","v":0.45},13,{"$f":"F12/30","v":0.43333333333333335},null,null,{"$f":"H12/F12*100","v":0},null,null,{"$f":"K12/F12*100","v":0},{"$f":"H12+K12","v":0},{"$f":"N12/60","v":0},{"$f":"O12/G12*100","v":0},{"$f":"ROUNDDOWN(P12,0)","v":0}]
[12,null,"Andries van de Veen","B",{"$f":"VLOOKUP(F13,'Groep A'!X$2:Y102,2)","v":0.317},9,{"$f":"F13/30","v":0.3},null,null,{"$f":"H13/F13*100","v":0},null,null,{"$f":"K13/F13*100","v":0},{"$f":"H13+K13","v":0},{"$f":"N13/60","v":0},{"$f":"O13/G13*100","v":0},{"$f":"ROUNDDOWN(P13,0)","v":0}]
[13,null,"Anton Drenth   ","B",{"$f":"VLOOKUP(F14,'Groep A'!X$2:Y94,2)","v":0.45},13,{"$f":"F14/30","v":0.43333333333333335},null,null,{"$f":"H14/F14*100","v":0},null,null,{"$f":"K14/F14*100","v":0},{"$f":"H14+K14","v":0},{"$f":"N14/60","v":0},{"$f":"O14/G14*100","v":0},{"$f":"ROUNDDOWN(P14,0)","v":0}]
[14,null,"Arnold Keizer","B",{"$f":"VLOOKUP(F15,'Groep A'!X$2:Y129,2)","v":0.27500000000000002},8,{"$f":"F15/30","v":0.26666666666666666},null,null,{"$f":"H15/F15*100","v":0},null,null,{"$f":"K15/F15*100","v":0},{"$f":"H15+K15","v":0},{"$f":"N15/60","v":0},{"$f":"O15/G15*100","v":0},{"$f":"ROUNDDOWN(P15,0)","v":0}]
[15,null,"Barry Verstegen","B",{"$f":"VLOOKUP(F16,'Groep A'!X$2:Y40,2)","v":0.35},10,{"$f":"F16/30","v":0.33333333333333331},null,null,{"$f":"H16/F16*100","v":0},null,null,{"$f":"K16/F16*100","v":0},{"$f":"H16+K16","v":0},{"$f":"N16/60","v":0},{"$f":"O16/G16*100","v":0},{"$f":"ROUNDDOWN(P16,0)","v":0}]
[16,null,"Bas Mulder","B",{"$f":"VLOOKUP(F17,'Groep A'!X$2:Y85,2)","v":0.38400000000000001},11,{"$f":"F17/30","v":0.36666666666666664},null,null,{"$f":"H17/F17*100","v":0},null,null,{"$f":"K17/F17*100","v":0},{"$f":"H17+K17","v":0},{"$f":"N17/60","v":0},{"$f":"O17/G17*100","v":0},{"$f":"ROUNDDOWN(P17,0)","v":0}]
[17,null,"Bas Viel","B",{"$f":"VLOOKUP(F18,'Groep A'!X$2:Y91,2)","v":0.317},9,{"$f":"F18/30","v":0.3},null,null,{"$f":"H18/F18*100","v":0},null,null,{"$f":"K18/F18*100","v":0},{"$f":"H18+K18","v":0},{"$f":"N18/60","v":0},{"$f":"O18/G18*100","v":0},{"$f":"ROUNDDOWN(P18,0)","v":0}]
[18,null,"Bé van der Laan","B",{"$f":"VLOOKUP(F19,'Groep A'!X$2:Y105,2)","v":0.38400000000000001},11,{"$f":"F19/30","v":0.36666666666666664},null,null,{"$f":"H19/F19*100","v":0},null,null,{"$f":"K19/F19*100","v":0},{"$f":"H19+K19","v":0},{"$f":"N19/60","v":0},{"$f":"O19/G19*100","v":0},{"$f":"ROUNDDOWN(P19,0)","v":0}]
[19,null,"Bé Vrieze","B",{"$f":"VLOOKUP(F20,'Groep A'!X$2:Y74,2)","v":0.317},9,{"$f":"F20/30","v":0.3},null,null,{"$f":"H20/F20*100","v":0},null,null,{"$f":"K20/F20*100","v":0},{"$f":"H20+K20","v":0},{"$f":"N20/60","v":0},{"$f":"O20/G20*100","v":0},{"$f":"ROUNDDOWN(P20,0)","v":0}]
[20,null,"Bennie de Ruiter","B",{"$f":"VLOOKUP(F21,'Groep A'!X$2:Y68,2)","v":0.27500000000000002},8,{"$f":"F21/30","v":0.26666666666666666},null,null,{"$f":"H21/F21*100","v":0},null,null,{"$f":"K21/F21*100","v":0},{"$f":"H21+K21","v":0},{"$f":"N21/60","v":0},{"$f":"O21/G21*100","v":0},{"$f":"ROUNDDOWN(P21,0)","v":0}]
[21,null,"Bernard Besseling","B",{"$f":"VLOOKUP(F22,'Groep A'!X$2:Y106,2)","v":0.27500000000000002},8,{"$f":"F22/30","v":0.26666666666666666},null,null,{"$f":"H22/F22*100","v":0},null,null,{"$f":"K22/F22*100","v":0},{"$f":"H22+K22","v":0},{"$f":"N22/60","v":0},{"$f":"O22/G22*100","v":0},{"$f":"ROUNDDOWN(P22,0)","v":0}]
[22,null,"Bernard Bos   ","B",{"$f":"VLOOKUP(F23,'Groep A'!X$2:Y106,2)","v":0.38400000000000001},11,{"$f":"F23/30","v":0.36666666666666664},null,null,{"$f":"H23/F23*100","v":0},null,null,{"$f":"K23/F23*100","v":0},{"$f":"H23+K23","v":0},{"$f":"N23/60","v":0},{"$f":"O23/G23*100","v":0},{"$f":"ROUNDDOWN(P23,0)","v":0}]
[23,null,"Bernard Wesseling","B",{"$f":"VLOOKUP(F24,'Groep A'!X$2:Y78,2)","v":0.27500000000000002},8,{"$f":"F24/30","v":0.26666666666666666},null,null,{"$f":"H24/F24*100","v":0},null,null,{"$f":"K24/F24*100","v":0},{"$f":"H24+K24","v":0},{"$f":"N24/60","v":0},{"$f":"O24/G24*100","v":0},{"$f":"ROUNDDOWN(P24,0)","v":0}]
[24,null,"Bert Dallinga","B",{"$f":"VLOOKUP(F25,'Groep A'!X$2:Y30,2)","v":0.27500000000000002},8,{"$f":"F25/30","v":0.26666666666666666},null,null,{"$f":"H25/F25*100","v":0},null,null,{"$f":"K25/F25*100","v":0},{"$f":"H25+K25","v":0},{"$f":"N25/60","v":0},{"$f":"O25/G25*100","v":0},{"$f":"ROUNDDOWN(P25,0)","v":0}]
[25,null,"Bert de Jonge","B",{"$f":"VLOOKUP(F26,'Groep A'!X$2:Y43,2)","v":0.45},13,{"$f":"F26/30","v":0.43333333333333335},null,null,{"$f":"H26/F26*100","v":0},null,null,{"$f":"K26/F26*100","v":0},{"$f":"H26+K26","v":0},{"$f":"N26/60","v":0},{"$f":"O26/G26*100","v":0},{"$f":"ROUNDDOWN(P26,0)","v":0}]
[26,null,"Bert Komdeur","B",{"$f":"VLOOKUP(F27,'Groep A'!X$2:Y58,2)","v":0.35},10,{"$f":"F27/30","v":0.33333333333333331},null,null,{"$f":"H27/F27*100","v":0},null,null,{"$f":"K27/F27*100","v":0},{"$f":"H27+K27","v":0},{"$f":"N27/60","v":0},{"$f":"O27/G27*100","v":0},{"$f":"ROUNDDOWN(P27,0)","v":0}]
[27,null,"Bert Olthuis","B",{"$f":"VLOOKUP(F28,'Groep A'!X$2:Y108,2)","v":0.27500000000000002},8,{"$f":"F28/30","v":0.26666666666666666},null,null,{"$f":"H28/F28*100","v":0},null,null,{"$f":"K28/F28*100","v":0},{"$f":"H28+K28","v":0},{"$f":"N28/60","v":0},{"$f":"O28/G28*100","v":0},{"$f":"ROUNDDOWN(P28,0)","v":0}]
[28,null,"Bert Wierenga","B",{"$f":"VLOOKUP(F29,'Groep A'!X$2:Y107,2)","v":0.317},9,{"$f":"F29/30","v":0.3},null,null,{"$f":"H29/F29*100","v":0},null,null,{"$f":"K29/F29*100","v":0},{"$f":"H29+K29","v":0},{"$f":"N29/60","v":0},{"$f":"O29/G29*100","v":0},{"$f":"ROUNDDOWN(P29,0)","v":0}]
[29,null,"Brian Reinert","B",{"$f":"VLOOKUP(F30,'Groep A'!X$2:Y108,2)","v":0.317},9,{"$f":"F30/30","v":0.3},null,null,{"$f":"H30/F30*100","v":0},null,null,{"$f":"K30/F30*100","v":0},{"$f":"H30+K30","v":0},{"$f":"N30/60","v":0},{"$f":"O30/G30*100","v":0},{"$f":"ROUNDDOWN(P30,0)","v":0}]
[30,null,"Caren Eling","B",{"$f":"VLOOKUP(F31,'Groep A'!X$2:Y138,2)","v":0.27500000000000002},8,{"$f":"F31/30","v":0.26666666666666666},null,null,{"$f":"H31/F31*100","v":0},null,null,{"$f":"K31/F31*100","v":0},{"$f":"H31+K31","v":0},{"$f":"N31/60","v":0},{"$f":"O31/G31*100","v":0},{"$f":"ROUNDDOWN(P31,0)","v":0}]
[31,null,"Cees Doornbos","B",{"$f":"VLOOKUP(F32,'Groep A'!X$2:Y109,2)","v":0.45},13,{"$f":"F32/30","v":0.43333333333333335},null,null,{"$f":"H32/F32*100","v":0},null,null,{"$f":"K32/F32*100","v":0},{"$f":"H32+K32","v":0},{"$f":"N32/60","v":0},{"$f":"O32/G32*100","v":0},{"$f":"ROUNDDOWN(P32,0)","v":0}]
[32,null,"Co Kleppe","B",{"$f":"VLOOKUP(F33,'Groep A'!X$2:Y100,2)","v":0.27500000000000002},8,{"$f":"F33/30","v":0.26666666666666666},null,null,{"$f":"H33/F33*100","v":0},null,null,{"$f":"K33/F33*100","v":0},{"$f":"H33+K33","v":0},{"$f":"N33/60","v":0},{"$f":"O33/G33*100","v":0},{"$f":"ROUNDDOWN(P33,0)","v":0}]
[33,null,"Cor Zeeman","B",{"$f":"VLOOKUP(F34,'Groep A'!X$2:Y130,2)","v":0.27500000000000002},8,{"$f":"F34/30","v":0.26666666666666666},null,null,{"$f":"H34/F34*100","v":0},null,null,{"$f":"K34/F34*100","v":0},{"$f":"H34+K34","v":0},{"$f":"N34/60","v":0},{"$f":"O34/G34*100","v":0},{"$f":"ROUNDDOWN(P34,0)","v":0}]
[34,null,"Daniél Kerbof","B",{"$f":"VLOOKUP(F35,'Groep A'!X$2:Y86,2)","v":0.35},10,{"$f":"F35/30","v":0.33333333333333331},null,null,{"$f":"H35/F35*100","v":0},null,null,{"$f":"K35/F35*100","v":0},{"$f":"H35+K35","v":0},{"$f":"N35/60","v":0},{"$f":"O35/G35*100","v":0},{"$f":"ROUNDDOWN(P35,0)","v":0}]
[35,null,"Dennis de Jonge","B",{"$f":"VLOOKUP(F36,'Groep A'!X$2:Y110,2)","v":0.38400000000000001},11,{"$f":"F36/30","v":0.36666666666666664},null,null,{"$f":"H36/F36*100","v":0},null,null,{"$f":"K36/F36*100","v":0},{"$f":"H36+K36","v":0},{"$f":"N36/60","v":0},{"$f":"O36/G36*100","v":0},{"$f":"ROUNDDOWN(P36,0)","v":0}]
[36,null,"Dennis Lengton","B",{"$f":"VLOOKUP(F37,'Groep A'!X$2:Y111,2)","v":0.27500000000000002},8,{"$f":"F37/30","v":0.26666666666666666},null,null,{"$f":"H37/F37*100","v":0},null,null,{"$f":"K37/F37*100","v":0},{"$f":"H37+K37","v":0},{"$f":"N37/60","v":0},{"$f":"O37/G37*100","v":0},{"$f":"ROUNDDOWN(P37,0)","v":0}]
[37,null,"Derk Nieuwenhuis   ","B",{"$f":"VLOOKUP(F38,'Groep A'!X$2:Y50,2)","v":0.317},9,{"$f":"F38/30","v":0.3},null,null,{"$f":"H38/F38*100","v":0},null,null,{"$f":"K38/F38*100","v":0},{"$f":"H38+K38","v":0},{"$f":"N38/60","v":0},{"$f":"O38/G38*100","v":0},{"$f":"ROUNDDOWN(P38,0)","v":0}]
[38,null,"Derk Oosterhuis","B",{"$f":"VLOOKUP(F39,'Groep A'!X$2:Y48,2)","v":0.27500000000000002},8,{"$f":"F39/30","v":0.26666666666666666},null,null,{"$f":"H39/F39*100","v":0},null,null,{"$f":"K39/F39*100","v":0},{"$f":"H39+K39","v":0},{"$f":"N39/60","v":0},{"$f":"O39/G39*100","v":0},{"$f":"ROUNDDOWN(P39,0)","v":0}]
[39,null,"Dirk Brakenhof","B",{"$f":"VLOOKUP(F40,'Groep A'!X$2:Y60,2)","v":0.48399999999999999},14,{"$f":"F40/30","v":0.46666666666666667},null,null,{"$f":"H40/F40*100","v":0},null,null,{"$f":"K40/F40*100","v":0},{"$f":"H40+K40","v":0},{"$f":"N40/60","v":0},{"$f":"O40/G40*100","v":0},{"$f":"ROUNDDOWN(P40,0)","v":0}]
[40,null,"Ebo de Jonge","B",{"$f":"VLOOKUP(F41,'Groep A'!X$2:Y112,2)","v":0.27500000000000002},8,{"$f":"F41/30","v":0.26666666666666666},null,null,{"$f":"H41/F41*100","v":0},null,null,{"$f":"K41/F41*100","v":0},{"$f":"H41+K41","v":0},{"$f":"N41/60","v":0},{"$f":"O41/G41*100","v":0},{"$f":"ROUNDDOWN(P41,0)","v":0}]
[41,null,"Edwin Kuipers","B",{"$f":"VLOOKUP(F42,'Groep A'!X$2:Y113,2)","v":0.317},9,{"$f":"F42/30","v":0.3},null,null,{"$f":"H42/F42*100","v":0},null,null,{"$f":"K42/F42*100","v":0},{"$f":"H42+K42","v":0},{"$f":"N42/60","v":0},{"$f":"O42/G42*100","v":0},{"$f":"ROUNDDOWN(P42,0)","v":0}]
[42,null,"Eefke Rops","B",{"$f":"VLOOKUP(F43,'Groep A'!X$2:Y53,2)","v":0.317},9,{"$f":"F43/30","v":0.3},null,null,{"$f":"H43/F43*100","v":0},null,null,{"$f":"K43/F43*100","v":0},{"$f":"H43+K43","v":0},{"$f":"N43/60","v":0},{"$f":"O43/G43*100","v":0},{"$f":"ROUNDDOWN(P43,0)","v":0}]
[43,null,"Egbert Kunst","B",{"$f":"VLOOKUP(F44,'Groep A'!X$2:Y109,2)","v":0.27500000000000002},8,{"$f":"F44/30","v":0.26666666666666666},null,null,{"$f":"H44/F44*100","v":0},null,null,{"$f":"K44/F44*100","v":0},{"$f":"H44+K44","v":0},{"$f":"N44/60","v":0},{"$f":"O44/G44*100","v":0},{"$f":"ROUNDDOWN(P44,0)","v":0}]
[44,null,"Eisse Bolt","B",{"$f":"VLOOKUP(F45,'Groep A'!X$2:Y62,2)","v":0.27500000000000002},8,{"$f":"F45/30","v":0.26666666666666666},null,null,{"$f":"H45/F45*100","v":0},null,null,{"$f":"K45/F45*100","v":0},{"$f":"H45+K45","v":0},{"$f":"N45/60","v":0},{"$f":"O45/G45*100","v":0},{"$f":"ROUNDDOWN(P45,0)","v":0}]
[45,null,"Ella Hilbolling","B",{"$f":"VLOOKUP(F46,'Groep A'!X$2:Y80,2)","v":0.27500000000000002},8,{"$f":"F46/30","v":0.26666666666666666},null,null,{"$f":"H46/F46*100","v":0},null,null,{"$f":"K46/F46*100","v":0},{"$f":"H46+K46","v":0},{"$f":"N46/60","v":0},{"$f":"O46/G46*100","v":0},{"$f":"ROUNDDOWN(P46,0)","v":0}]
[46,null,"Eltjo Bos","B",{"$f":"VLOOKUP(F47,'Groep A'!X$2:Y57,2)","v":0.38400000000000001},11,{"$f":"F47/30","v":0.36666666666666664},null,null,{"$f":"H47/F47*100","v":0},null,null,{"$f":"K47/F47*100","v":0},{"$f":"H47+K47","v":0},{"$f":"N47/60","v":0},{"$f":"O47/G47*100","v":0},{"$f":"ROUNDDOWN(P47,0)","v":0}]
[47,null,"Elzo Dijk","B",{"$f":"VLOOKUP(F48,'Groep A'!X$2:Y114,2)","v":0.27500000000000002},8,{"$f":"F48/30","v":0.26666666666666666},null,null,{"$f":"H48/F48*100","v":0},null,null,{"$f":"K48/F48*100","v":0},{"$f":"H48+K48","v":0},{"$f":"N48/60","v":0},{"$f":"O48/G48*100","v":0},{"$f":"ROUNDDOWN(P48,0)","v":0}]
[48,null,"Elzo Lubbers","B",{"$f":"VLOOKUP(F49,'Groep A'!X$2:Y115,2)","v":0.317},9,{"$f":"F49/30","v":0.3},null,null,{"$f":"H49/F49*100","v":0},null,null,{"$f":"K49/F49*100","v":0},{"$f":"H49+K49","v":0},{"$f":"N49/60","v":0},{"$f":"O49/G49*100","v":0},{"$f":"ROUNDDOWN(P49,0)","v":0}]
[49,null,"Emiel Timmermans","B",{"$f":"VLOOKUP(F50,'Groep A'!X$2:Y116,2)","v":0.35},10,{"$f":"F50/30","v":0.33333333333333331},null,null,{"$f":"H50/F50*100","v":0},null,null,{"$f":"K50/F50*100","v":0},{"$f":"H50+K50","v":0},{"$f":"N50/60","v":0},{"$f":"O50/G50*100","v":0},{"$f":"ROUNDDOWN(P50,0)","v":0}]
[50,null,"Eppo Siemens   ","B",{"$f":"VLOOKUP(F51,'Groep A'!X$2:Y94,2)","v":0.27500000000000002},8,{"$f":"F51/30","v":0.26666666666666666},null,null,{"$f":"H51/F51*100","v":0},null,null,{"$f":"K51/F51*100","v":0},{"$f":"H51+K51","v":0},{"$f":"N51/60","v":0},{"$f":"O51/G51*100","v":0},{"$f":"ROUNDDOWN(P51,0)","v":0}]
[51,null,"Eric Luttje","B",{"$f":"VLOOKUP(F52,'Groep A'!X$2:Y164,2)","v":0.27500000000000002},8,{"$f":"F52/30","v":0.26666666666666666},null,null,{"$f":"H52/F52*100","v":0},null,null,{"$f":"K52/F52*100","v":0},{"$f":"H52+K52","v":0},{"$f":"N52/60","v":0},{"$f":"O52/G52*100","v":0},{"$f":"ROUNDDOWN(P52,0)","v":0}]
[52,null,"Evert Bos","B",{"$f":"VLOOKUP(F53,'Groep A'!X$2:Y106,2)","v":0.27500000000000002},8,{"$f":"F53/30","v":0.26666666666666666},null,null,{"$f":"H53/F53*100","v":0},null,null,{"$f":"K53/F53*100","v":0},{"$f":"H53+K53","v":0},{"$f":"N53/60","v":0},{"$f":"O53/G53*100","v":0},{"$f":"ROUNDDOWN(P53,0)","v":0}]
[53,null,"Feike Moerman","B",{"$f":"VLOOKUP(F54,'Groep A'!X$2:Y117,2)","v":0.27500000000000002},8,{"$f":"F54/30","v":0.26666666666666666},null,null,{"$f":"H54/F54*100","v":0},null,null,{"$f":"K54/F54*100","v":0},{"$f":"H54+K54","v":0},{"$f":"N54/60","v":0},{"$f":"O54/G54*100","v":0},{"$f":"ROUNDDOWN(P54,0)","v":0}]
[54,null,"Frans de Groot","B",{"$f":"VLOOKUP(F55,'Groep A'!X$2:Y118,2)","v":0.27500000000000002},8,{"$f":"F55/30","v":0.26666666666666666},null,null,{"$f":"H55/F55*100","v":0},null,null,{"$f":"K55/F55*100","v":0},{"$f":"H55+K55","v":0},{"$f":"N55/60","v":0},{"$f":"O55/G55*100","v":0},{"$f":"ROUNDDOWN(P55,0)","v":0}]
[55,null,"Frans Mathies   ","B",{"$f":"VLOOKUP(F56,'Groep A'!X$2:Y119,2)","v":0.41699999999999998},12,{"$f":"F56/30","v":0.4},null,null,{"$f":"H56/F56*100","v":0},null,null,{"$f":"K56/F56*100","v":0},{"$f":"H56+K56","v":0},{"$f":"N56/60","v":0},{"$f":"O56/G56*100","v":0},{"$f":"ROUNDDOWN(P56,0)","v":0}]
[56,null,"Fred Maas","B",{"$f":"VLOOKUP(F57,'Groep A'!X$2:Y120,2)","v":0.317},9,{"$f":"F57/30","v":0.3},null,null,{"$f":"H57/F57*100","v":0},null,null,{"$f":"K57/F57*100","v":0},{"$f":"H57+K57","v":0},{"$f":"N57/60","v":0},{"$f":"O57/G57*100","v":0},{"$f":"ROUNDDOWN(P57,0)","v":0}]
[57,null,"Fred Stok","B",{"$f":"VLOOKUP(F58,'Groep A'!X$2:Y121,2)","v":0.27500000000000002},8,{"$f":"F58/30","v":0.26666666666666666},null,null,{"$f":"H58/F58*100","v":0},null,null,{"$f":"K58/F58*100","v":0},{"$f":"H58+K58","v":0},{"$f":"N58/60","v":0},{"$f":"O58/G58*100","v":0},{"$f":"ROUNDDOWN(P58,0)","v":0}]
[58,null,"G. Woldhuis","B",{"$f":"VLOOKUP(F59,'Groep A'!X$2:Y126,2)","v":0.38400000000000001},11,{"$f":"F59/30","v":0.36666666666666664},null,null,{"$f":"H59/F59*100","v":0},null,null,{"$f":"K59/F59*100","v":0},{"$f":"H59+K59","v":0},{"$f":"N59/60","v":0},{"$f":"O59/G59*100","v":0},{"$f":"ROUNDDOWN(P59,0)","v":0}]
[59,null,"Geert Bos Junior ","B",{"$f":"VLOOKUP(F60,'Groep A'!X$2:Y131,2)","v":0.317},9,{"$f":"F60/30","v":0.3},null,null,{"$f":"H60/F60*100","v":0},null,null,{"$f":"K60/F60*100","v":0},{"$f":"H60+K60","v":0},{"$f":"N60/60","v":0},{"$f":"O60/G60*100","v":0},{"$f":"ROUNDDOWN(P60,0)","v":0}]
[60,null,"Geert Hoekstra","B",{"$f":"VLOOKUP(F61,'Groep A'!X$2:Y72,2)","v":0.27500000000000002},8,{"$f":"F61/30","v":0.26666666666666666},null,null,{"$f":"H61/F61*100","v":0},null,null,{"$f":"K61/F61*100","v":0},{"$f":"H61+K61","v":0},{"$f":"N61/60","v":0},{"$f":"O61/G61*100","v":0},{"$f":"ROUNDDOWN(P61,0)","v":0}]
[61,null,"Geert Jager","B",{"$f":"VLOOKUP(F62,'Groep A'!X$2:Y122,2)","v":0.27500000000000002},8,{"$f":"F62/30","v":0.26666666666666666},null,null,{"$f":"H62/F62*100","v":0},null,null,{"$f":"K62/F62*100","v":0},{"$f":"H62+K62","v":0},{"$f":"N62/60","v":0},{"$f":"O62/G62*100","v":0},{"$f":"ROUNDDOWN(P62,0)","v":0}]
[62,null,"Gerardus Engelage","B",{"$f":"VLOOKUP(F63,'Groep A'!X$2:Y123,2)","v":0.27500000000000002},8,{"$f":"F63/30","v":0.26666666666666666},null,null,{"$f":"H63/F63*100","v":0},null,null,{"$f":"K63/F63*100","v":0},{"$f":"H63+K63","v":0},{"$f":"N63/60","v":0},{"$f":"O63/G63*100","v":0},{"$f":"ROUNDDOWN(P63,0)","v":0}]
[63,null,"Gerrie Drenth","B",{"$f":"VLOOKUP(F64,'Groep A'!X$2:Y166,2)","v":0.27500000000000002},8,{"$f":"F64/30","v":0.26666666666666666},null,null,{"$f":"H64/F64*100","v":0},null,null,{"$f":"K64/F64*100","v":0},{"$f":"H64+K64","v":0},{"$f":"N64/60","v":0},{"$f":"O64/G64*100","v":0},{"$f":"ROUNDDOWN(P64,0)","v":0}]
[64,null,"Gerrit van Krimpen   ","B",{"$f":"VLOOKUP(F65,'Groep A'!X$2:Y65,2)","v":0.45},13,{"$f":"F65/30","v":0.43333333333333335},null,null,{"$f":"H65/F65*100","v":0},null,null,{"$f":"K65/F65*100","v":0},{"$f":"H65+K65","v":0},{"$f":"N65/60","v":0},{"$f":"O65/G65*100","v":0},{"$f":"ROUNDDOWN(P65,0)","v":0}]
[65,null,"H. Bisschop","B",{"$f":"VLOOKUP(F66,'Groep A'!X$2:Y124,2)","v":0.38400000000000001},11,{"$f":"F66/30","v":0.36666666666666664},null,null,{"$f":"H66/F66*100","v":0},null,null,{"$f":"K66/F66*100","v":0},{"$f":"H66+K66","v":0},{"$f":"N66/60","v":0},{"$f":"O66/G66*100","v":0},{"$f":"ROUNDDOWN(P66,0)","v":0}]
[66,null,"Han Felkers   ","B",{"$f":"VLOOKUP(F67,'Groep A'!X$2:Y167,2)","v":0.45},13,{"$f":"F67/30","v":0.43333333333333335},null,null,{"$f":"H67/F67*100","v":0},null,null,{"$f":"K67/F67*100","v":0},{"$f":"H67+K67","v":0},{"$f":"N67/60","v":0},{"$f":"O67/G67*100","v":0},{"$f":"ROUNDDOWN(P67,0)","v":0}]
[67,null,"Hans Loer","B",{"$f":"VLOOKUP(F68,'Groep A'!X$2:Y101,2)","v":0.317},9,{"$f":"F68/30","v":0.3},null,null,{"$f":"H68/F68*100","v":0},null,null,{"$f":"K68/F68*100","v":0},{"$f":"H68+K68","v":0},{"$f":"N68/60","v":0},{"$f":"O68/G68*100","v":0},{"$f":"ROUNDDOWN(P68,0)","v":0}]
[68,null,"Hans van Erp","B",{"$f":"VLOOKUP(F69,'Groep A'!X$2:Y148,2)","v":0.27500000000000002},8,{"$f":"F69/30","v":0.26666666666666666},null,null,{"$f":"H69/F69*100","v":0},null,null,{"$f":"K69/F69*100","v":0},{"$f":"H69+K69","v":0},{"$f":"N69/60","v":0},{"$f":"O69/G69*100","v":0},{"$f":"ROUNDDOWN(P69,0)","v":0}]
[69,null,"Harm Jan Speelman   ","B",{"$f":"VLOOKUP(F70,'Groep A'!X$2:Y118,2)","v":0.38400000000000001},11,{"$f":"F70/30","v":0.36666666666666664},null,null,{"$f":"H70/F70*100","v":0},null,null,{"$f":"K70/F70*100","v":0},{"$f":"H70+K70","v":0},{"$f":"N70/60","v":0},{"$f":"O70/G70*100","v":0},{"$f":"ROUNDDOWN(P70,0)","v":0}]
[70,null,"Harm Koolhof","B",{"$f":"VLOOKUP(F71,'Groep A'!X$2:Y73,2)","v":0.27500000000000002},8,{"$f":"F71/30","v":0.26666666666666666},null,null,{"$f":"H71/F71*100","v":0},null,null,{"$f":"K71/F71*100","v":0},{"$f":"H71+K71","v":0},{"$f":"N71/60","v":0},{"$f":"O71/G71*100","v":0},{"$f":"ROUNDDOWN(P71,0)","v":0}]
[71,null,"Harmie Evenhuis","B",{"$f":"VLOOKUP(F72,'Groep A'!X$2:Y122,2)","v":0.317},9,{"$f":"F72/30","v":0.3},null,null,{"$f":"H72/F72*100","v":0},null,null,{"$f":"K72/F72*100","v":0},{"$f":"H72+K72","v":0},{"$f":"N72/60","v":0},{"$f":"O72/G72*100","v":0},{"$f":"ROUNDDOWN(P72,0)","v":0}]
[72,null,"Harrie Huisman","B",{"$f":"VLOOKUP(F73,'Groep A'!X$2:Y90,2)","v":0.38400000000000001},11,{"$f":"F73/30","v":0.36666666666666664},null,null,{"$f":"H73/F73*100","v":0},null,null,{"$f":"K73/F73*100","v":0},{"$f":"H73+K73","v":0},{"$f":"N73/60","v":0},{"$f":"O73/G73*100","v":0},{"$f":"ROUNDDOWN(P73,0)","v":0}]
[73,null,"Harrie Lulofs","B",{"$f":"VLOOKUP(F74,'Groep A'!X$2:Y72,2)","v":0.51700000000000002},15,{"$f":"F74/30","v":0.5},null,null,{"$f":"H74/F74*100","v":0},null,null,{"$f":"K74/F74*100","v":0},{"$f":"H74+K74","v":0},{"$f":"N74/60","v":0},{"$f":"O74/G74*100","v":0},{"$f":"ROUNDDOWN(P74,0)","v":0}]
[74,null,"Harrie Molema","B",{"$f":"VLOOKUP(F75,'Groep A'!X$2:Y84,2)","v":0.35},10,{"$f":"F75/30","v":0.33333333333333331},null,null,{"$f":"H75/F75*100","v":0},null,null,{"$f":"K75/F75*100","v":0},{"$f":"H75+K75","v":0},{"$f":"N75/60","v":0},{"$f":"O75/G75*100","v":0},{"$f":"ROUNDDOWN(P75,0)","v":0}]
[75,null,"Hendrik Dijkstra","B",{"$f":"VLOOKUP(F76,'Groep A'!X$2:Y168,2)","v":0.27500000000000002},8,{"$f":"F76/30","v":0.26666666666666666},null,null,{"$f":"H76/F76*100","v":0},null,null,{"$f":"K76/F76*100","v":0},{"$f":"H76+K76","v":0},{"$f":"N76/60","v":0},{"$f":"O76/G76*100","v":0},{"$f":"ROUNDDOWN(P76,0)","v":0}]
[76,null,"Hendrik Sloot   ","B",{"$f":"VLOOKUP(F77,'Groep A'!X$2:Y149,2)","v":0.41699999999999998},12,{"$f":"F77/30","v":0.4},null,null,{"$f":"H77/F77*100","v":0},null,null,{"$f":"K77/F77*100","v":0},{"$f":"H77+K77","v":0},{"$f":"N77/60","v":0},{"$f":"O77/G77*100","v":0},{"$f":"ROUNDDOWN(P77,0)","v":0}]
[77,null,"Henk Blaauw","B",{"$f":"VLOOKUP(F78,'Groep A'!X$2:Y125,2)","v":0.27500000000000002},8,{"$f":"F78/30","v":0.26666666666666666},null,null,{"$f":"H78/F78*100","v":0},null,null,{"$f":"K78/F78*100","v":0},{"$f":"H78+K78","v":0},{"$f":"N78/60","v":0},{"$f":"O78/G78*100","v":0},{"$f":"ROUNDDOWN(P78,0)","v":0}]
[78,null,"Henk Borghuis","B",{"$f":"VLOOKUP(F79,'Groep A'!X$2:Y152,2)","v":0.38400000000000001},11,{"$f":"F79/30","v":0.36666666666666664},null,null,{"$f":"H79/F79*100","v":0},null,null,{"$f":"K79/F79*100","v":0},{"$f":"H79+K79","v":0},{"$f":"N79/60","v":0},{"$f":"O79/G79*100","v":0},{"$f":"ROUNDDOWN(P79,0)","v":0}]
[79,null,"Henk Haaijer","B",{"$f":"VLOOKUP(F80,'Groep A'!X$2:Y51,2)","v":0.27500000000000002},8,{"$f":"F80/30","v":0.26666666666666666},null,null,{"$f":"H80/F80*100","v":0},null,null,{"$f":"K80/F80*100","v":0},{"$f":"H80+K80","v":0},{"$f":"N80/60","v":0},{"$f":"O80/G80*100","v":0},{"$f":"ROUNDDOWN(P80,0)","v":0}]
[80,null,"Henk Hofman","B",{"$f":"VLOOKUP(F81,'Groep A'!X$2:Y169,2)","v":0.35},10,{"$f":"F81/30","v":0.33333333333333331},null,null,{"$f":"H81/F81*100","v":0},null,null,{"$f":"K81/F81*100","v":0},{"$f":"H81+K81","v":0},{"$f":"N81/60","v":0},{"$f":"O81/G81*100","v":0},{"$f":"ROUNDDOWN(P81,0)","v":0}]
[81,null,"Henk Knol","B",{"$f":"VLOOKUP(F82,'Groep A'!X$2:Y116,2)","v":0.27500000000000002},8,{"$f":"F82/30","v":0.26666666666666666},null,null,{"$f":"H82/F82*100","v":0},null,null,{"$f":"K82/F82*100","v":0},{"$f":"H82+K82","v":0},{"$f":"N82/60","v":0},{"$f":"O82/G82*100","v":0},{"$f":"ROUNDDOWN(P82,0)","v":0}]
[82,null,"Henk Radsma","B",{"$f":"VLOOKUP(F83,'Groep A'!X$2:Y170,2)","v":0.41699999999999998},12,{"$f":"F83/30","v":0.4},null,null,{"$f":"H83/F83*100","v":0},null,null,{"$f":"K83/F83*100","v":0},{"$f":"H83+K83","v":0},{"$f":"N83/60","v":0},{"$f":"O83/G83*100","v":0},{"$f":"ROUNDDOWN(P83,0)","v":0}]
[83,null,"Henk Smid","B",{"$f":"VLOOKUP(F84,'Groep A'!X$2:Y150,2)","v":0.38400000000000001},11,{"$f":"F84/30","v":0.36666666666666664},null,null,{"$f":"H84/F84*100","v":0},null,null,{"$f":"K84/F84*100","v":0},{"$f":"H84+K84","v":0},{"$f":"N84/60","v":0},{"$f":"O84/G84*100","v":0},{"$f":"ROUNDDOWN(P84,0)","v":0}]
[84,null,"Henk Tammes","B",{"$f":"VLOOKUP(F85,'Groep A'!X$2:Y171,2)","v":0.48399999999999999},14,{"$f":"F85/30","v":0.46666666666666667},null,null,{"$f":"H85/F85*100","v":0},null,null,{"$f":"K85/F85*100","v":0},{"$f":"H85+K85","v":0},{"$f":"N85/60","v":0},{"$f":"O85/G85*100","v":0},{"$f":"ROUNDDOWN(P85,0)","v":0}]
[85,null,"Henk van der Woude","B",{"$f":"VLOOKUP(F86,'Groep A'!X$2:Y74,2)","v":0.35},10,{"$f":"F86/30","v":0.33333333333333331},null,null,{"$f":"H86/F86*100","v":0},null,null,{"$f":"K86/F86*100","v":0},{"$f":"H86+K86","v":0},{"$f":"N86/60","v":0},{"$f":"O86/G86*100","v":0},{"$f":"ROUNDDOWN(P86,0)","v":0}]
[86,null,"Hennie Weessies","B",{"$f":"VLOOKUP(F87,'Groep A'!X$2:Y172,2)","v":0.27500000000000002},8,{"$f":"F87/30","v":0.26666666666666666},null,null,{"$f":"H87/F87*100","v":0},null,null,{"$f":"K87/F87*100","v":0},{"$f":"H87+K87","v":0},{"$f":"N87/60","v":0},{"$f":"O87/G87*100","v":0},{"$f":"ROUNDDOWN(P87,0)","v":0}]
[87,null,"Herman Kosse","B",{"$f":"VLOOKUP(F88,'Groep A'!X$2:Y136,2)","v":0.41699999999999998},12,{"$f":"F88/30","v":0.4},null,null,{"$f":"H88/F88*100","v":0},null,null,{"$f":"K88/F88*100","v":0},{"$f":"H88+K88","v":0},{"$f":"N88/60","v":0},{"$f":"O88/G88*100","v":0},{"$f":"ROUNDDOWN(P88,0)","v":0}]
[88,null,"Hindrik Schuur   ","B",{"$f":"VLOOKUP(F89,'Groep A'!X$2:Y173,2)","v":0.317},9,{"$f":"F89/30","v":0.3},null,null,{"$f":"H89/F89*100","v":0},null,null,{"$f":"K89/F89*100","v":0},{"$f":"H89+K89","v":0},{"$f":"N89/60","v":0},{"$f":"O89/G89*100","v":0},{"$f":"ROUNDDOWN(P89,0)","v":0}]
[89,null,"Ina Blaauw","B",{"$f":"VLOOKUP(F90,'Groep A'!X$2:Y174,2)","v":0.27500000000000002},8,{"$f":"F90/30","v":0.26666666666666666},null,null,{"$f":"H90/F90*100","v":0},null,null,{"$f":"K90/F90*100","v":0},{"$f":"H90+K90","v":0},{"$f":"N90/60","v":0},{"$f":"O90/G90*100","v":0},{"$f":"ROUNDDOWN(P90,0)","v":0}]
[90,null,"Jack Hamming","B",{"$f":"VLOOKUP(F91,'Groep A'!X$2:Y98,2)","v":0.317},9,{"$f":"F91/30","v":0.3},null,null,{"$f":"H91/F91*100","v":0},null,null,{"$f":"K91/F91*100","v":0},{"$f":"H91+K91","v":0},{"$f":"N91/60","v":0},{"$f":"O91/G91*100","v":0},{"$f":"ROUNDDOWN(P91,0)","v":0}]
[91,null,"Jack Hulshof","B",{"$f":"VLOOKUP(F92,'Groep A'!X$2:Y175,2)","v":0.317},9,{"$f":"F92/30","v":0.3},null,null,{"$f":"H92/F92*100","v":0},null,null,{"$f":"K92/F92*100","v":0},{"$f":"H92+K92","v":0},{"$f":"N92/60","v":0},{"$f":"O92/G92*100","v":0},{"$f":"ROUNDDOWN(P92,0)","v":0}]
[92,null,"Jack van de Rijst","B",{"$f":"VLOOKUP(F93,'Groep A'!X$2:Y176,2)","v":0.41699999999999998},12,{"$f":"F93/30","v":0.4},null,null,{"$f":"H93/F93*100","v":0},null,null,{"$f":"K93/F93*100","v":0},{"$f":"H93+K93","v":0},{"$f":"N93/60","v":0},{"$f":"O93/G93*100","v":0},{"$f":"ROUNDDOWN(P93,0)","v":0}]
[93,null,"Jack Venema","B",{"$f":"VLOOKUP(F94,'Groep A'!X$2:Y177,2)","v":0.317},9,{"$f":"F94/30","v":0.3},null,null,{"$f":"H94/F94*100","v":0},null,null,{"$f":"K94/F94*100","v":0},{"$f":"H94+K94","v":0},{"$f":"N94/60","v":0},{"$f":"O94/G94*100","v":0},{"$f":"ROUNDDOWN(P94,0)","v":0}]
[94,null,"Jacob Posthumus","B",{"$f":"VLOOKUP(F95,'Groep A'!X$2:Y151,2)","v":0.27500000000000002},8,{"$f":"F95/30","v":0.26666666666666666},null,null,{"$f":"H95/F95*100","v":0},null,null,{"$f":"K95/F95*100","v":0},{"$f":"H95+K95","v":0},{"$f":"N95/60","v":0},{"$f":"O95/G95*100","v":0},{"$f":"ROUNDDOWN(P95,0)","v":0}]
[95,null,"Jan Berendsen","B",{"$f":"VLOOKUP(F96,'Groep A'!X$2:Y152,2)","v":0.27500000000000002},8,{"$f":"F96/30","v":0.26666666666666666},null,null,{"$f":"H96/F96*100","v":0},null,null,{"$f":"K96/F96*100","v":0},{"$f":"H96+K96","v":0},{"$f":"N96/60","v":0},{"$f":"O96/G96*100","v":0},{"$f":"ROUNDDOWN(P96,0)","v":0}]
[96,null,"Jan Boer","B",{"$f":"VLOOKUP(F97,'Groep A'!X$2:Y178,2)","v":0.45},13,{"$f":"F97/30","v":0.43333333333333335},null,null,{"$f":"H97/F97*100","v":0},null,null,{"$f":"K97/F97*100","v":0},{"$f":"H97+K97","v":0},{"$f":"N97/60","v":0},{"$f":"O97/G97*100","v":0},{"$f":"ROUNDDOWN(P97,0)","v":0}]
[97,null,"Jan Boltjes","B",{"$f":"VLOOKUP(F98,'Groep A'!X$2:Y124,2)","v":0.317},9,{"$f":"F98/30","v":0.3},null,null,{"$f":"H98/F98*100","v":0},null,null,{"$f":"K98/F98*100","v":0},{"$f":"H98+K98","v":0},{"$f":"N98/60","v":0},{"$f":"O98/G98*100","v":0},{"$f":"ROUNDDOWN(P98,0)","v":0}]
[98,null,"Jan Colly","B",{"$f":"VLOOKUP(F99,'Groep A'!X$2:Y96,2)","v":0.317},9,{"$f":"F99/30","v":0.3},null,null,{"$f":"H99/F99*100","v":0},null,null,{"$f":"K99/F99*100","v":0},{"$f":"H99+K99","v":0},{"$f":"N99/60","v":0},{"$f":"O99/G99*100","v":0},{"$f":"ROUNDDOWN(P99,0)","v":0}]
[99,null,"Jan Dallinga","B",{"$f":"VLOOKUP(F100,'Groep A'!X$2:Y153,2)","v":0.27500000000000002},8,{"$f":"F100/30","v":0.26666666666666666},null,null,{"$f":"H100/F100*100","v":0},null,null,{"$f":"K100/F100*100","v":0},{"$f":"H100+K100","v":0},{"$f":"N100/60","v":0},{"$f":"O100/G100*100","v":0},{"$f":"ROUNDDOWN(P100,0)","v":0}]
[100,null,"Jan Eggengoor","B",{"$f":"VLOOKUP(F101,'Groep A'!X$2:Y132,2)","v":0.48399999999999999},14,{"$f":"F101/30","v":0.46666666666666667},null,null,{"$f":"H101/F101*100","v":0},null,null,{"$f":"K101/F101*100","v":0},{"$f":"H101+K101","v":0},{"$f":"N101/60","v":0},{"$f":"O101/G101*100","v":0},{"$f":"ROUNDDOWN(P101,0)","v":0}]
[101,null,"Jan Feikens","B",{"$f":"VLOOKUP(F102,'Groep A'!X$2:Y133,2)","v":0.41699999999999998},12,{"$f":"F102/30","v":0.4},null,null,{"$f":"H102/F102*100","v":0},null,null,{"$f":"K102/F102*100","v":0},{"$f":"H102+K102","v":0},{"$f":"N102/60","v":0},{"$f":"O102/G102*100","v":0},{"$f":"ROUNDDOWN(P102,0)","v":0}]
[102,null,"Jan Glas","B",{"$f":"VLOOKUP(F103,'Groep A'!X$2:Y134,2)","v":0.27500000000000002},8,{"$f":"F103/30","v":0.26666666666666666},null,null,{"$f":"H103/F103*100","v":0},null,null,{"$f":"K103/F103*100","v":0},{"$f":"H103+K103","v":0},{"$f":"N103/60","v":0},{"$f":"O103/G103*100","v":0},{"$f":"ROUNDDOWN(P103,0)","v":0}]
[103,null,"Jan Goossens","B",{"$f":"VLOOKUP(F104,'Groep A'!X$2:Y103,2)","v":0.27500000000000002},8,{"$f":"F104/30","v":0.26666666666666666},null,null,{"$f":"H104/F104*100","v":0},null,null,{"$f":"K104/F104*100","v":0},{"$f":"H104+K104","v":0},{"$f":"N104/60","v":0},{"$f":"O104/G104*100","v":0},{"$f":"ROUNDDOWN(P104,0)","v":0}]
[104,null,"Jan Hadderingh  ","B",{"$f":"VLOOKUP(F105,'Groep A'!X$2:Y64,2)","v":0.45},13,{"$f":"F105/30","v":0.43333333333333335},null,null,{"$f":"H105/F105*100","v":0},null,null,{"$f":"K105/F105*100","v":0},{"$f":"H105+K105","v":0},{"$f":"N105/60","v":0},{"$f":"O105/G105*100","v":0},{"$f":"ROUNDDOWN(P105,0)","v":0}]
[105,null,"Jan Hidding","B",{"$f":"VLOOKUP(F106,'Groep A'!X$2:Y118,2)","v":0.41699999999999998},12,{"$f":"F106/30","v":0.4},null,null,{"$f":"H106/F106*100","v":0},null,null,{"$f":"K106/F106*100","v":0},{"$f":"H106+K106","v":0},{"$f":"N106/60","v":0},{"$f":"O106/G106*100","v":0},{"$f":"ROUNDDOWN(P106,0)","v":0}]
[106,null,"Jan Koetje","B",{"$f":"VLOOKUP(F107,'Groep A'!X$2:Y126,2)","v":0.35},10,{"$f":"F107/30","v":0.33333333333333331},null,null,{"$f":"H107/F107*100","v":0},null,null,{"$f":"K107/F107*100","v":0},{"$f":"H107+K107","v":0},{"$f":"N107/60","v":0},{"$f":"O107/G107*100","v":0},{"$f":"ROUNDDOWN(P107,0)","v":0}]
[107,null,"Jan Kruijer","B",{"$f":"VLOOKUP(F108,'Groep A'!X$2:Y56,2)","v":0.27500000000000002},8,{"$f":"F108/30","v":0.26666666666666666},null,null,{"$f":"H108/F108*100","v":0},null,null,{"$f":"K108/F108*100","v":0},{"$f":"H108+K108","v":0},{"$f":"N108/60","v":0},{"$f":"O108/G108*100","v":0},{"$f":"ROUNDDOWN(P108,0)","v":0}]
[108,null,"Jan Lanting","B",{"$f":"VLOOKUP(F109,'Groep A'!X$2:Y135,2)","v":0.35},10,{"$f":"F109/30","v":0.33333333333333331},null,null,{"$f":"H109/F109*100","v":0},null,null,{"$f":"K109/F109*100","v":0},{"$f":"H109+K109","v":0},{"$f":"N109/60","v":0},{"$f":"O109/G109*100","v":0},{"$f":"ROUNDDOWN(P109,0)","v":0}]
[109,null,"Jan Olsder","B",{"$f":"VLOOKUP(F110,'Groep A'!X$2:Y180,2)","v":0.38400000000000001},11,{"$f":"F110/30","v":0.36666666666666664},null,null,{"$f":"H110/F110*100","v":0},null,null,{"$f":"K110/F110*100","v":0},{"$f":"H110+K110","v":0},{"$f":"N110/60","v":0},{"$f":"O110/G110*100","v":0},{"$f":"ROUNDDOWN(P110,0)","v":0}]
[110,null,"Jan Poot   ","B",{"$f":"VLOOKUP(F111,'Groep A'!X$2:Y181,2)","v":0.38400000000000001},11,{"$f":"F111/30","v":0.36666666666666664},null,null,{"$f":"H111/F111*100","v":0},null,null,{"$f":"K111/F111*100","v":0},{"$f":"H111+K111","v":0},{"$f":"N111/60","v":0},{"$f":"O111/G111*100","v":0},{"$f":"ROUNDDOWN(P111,0)","v":0}]
[111,null,"Jan Post   ","B",{"$f":"VLOOKUP(F112,'Groep A'!X$2:Y92,2)","v":0.27500000000000002},8,{"$f":"F112/30","v":0.26666666666666666},null,null,{"$f":"H112/F112*100","v":0},null,null,{"$f":"K112/F112*100","v":0},{"$f":"H112+K112","v":0},{"$f":"N112/60","v":0},{"$f":"O112/G112*100","v":0},{"$f":"ROUNDDOWN(P112,0)","v":0}]
[112,null,"Jan Rozenveld","B",{"$f":"VLOOKUP(F113,'Groep A'!X$2:Y32,2)","v":0.41699999999999998},12,{"$f":"F113/30","v":0.4},null,null,{"$f":"H113/F113*100","v":0},null,null,{"$f":"K113/F113*100","v":0},{"$f":"H113+K113","v":0},{"$f":"N113/60","v":0},{"$f":"O113/G113*100","v":0},{"$f":"ROUNDDOWN(P113,0)","v":0}]
[113,null,"Jan Schikker","B",{"$f":"VLOOKUP(F114,'Groep A'!X$2:Y100,2)","v":0.27500000000000002},8,{"$f":"F114/30","v":0.26666666666666666},null,null,{"$f":"H114/F114*100","v":0},null,null,{"$f":"K114/F114*100","v":0},{"$f":"H114+K114","v":0},{"$f":"N114/60","v":0},{"$f":"O114/G114*100","v":0},{"$f":"ROUNDDOWN(P114,0)","v":0}]
[114,null,"Jan Schiphorst","B",{"$f":"VLOOKUP(F115,'Groep A'!X$2:Y70,2)","v":0.27500000000000002},8,{"$f":"F115/30","v":0.26666666666666666},null,null,{"$f":"H115/F115*100","v":0},null,null,{"$f":"K115/F115*100","v":0},{"$f":"H115+K115","v":0},{"$f":"N115/60","v":0},{"$f":"O115/G115*100","v":0},{"$f":"ROUNDDOWN(P115,0)","v":0}]
[115,null,"Jan Sietsma","B",{"$f":"VLOOKUP(F116,'Groep A'!X$2:Y112,2)","v":0.41699999999999998},12,{"$f":"F116/30","v":0.4},null,null,{"$f":"H116/F116*100","v":0},null,null,{"$f":"K116/F116*100","v":0},{"$f":"H116+K116","v":0},{"$f":"N116/60","v":0},{"$f":"O116/G116*100","v":0},{"$f":"ROUNDDOWN(P116,0)","v":0}]
[116,null,"Jan Tepper","B",{"$f":"VLOOKUP(F117,'Groep A'!X$2:Y78,2)","v":0.317},9,{"$f":"F117/30","v":0.3},null,null,{"$f":"H117/F117*100","v":0},null,null,{"$f":"K117/F117*100","v":0},{"$f":"H117+K117","v":0},{"$f":"N117/60","v":0},{"$f":"O117/G117*100","v":0},{"$f":"ROUNDDOWN(P117,0)","v":0}]
[117,null,"Jan Venema   ","B",{"$f":"VLOOKUP(F118,'Groep A'!X$2:Y182,2)","v":0.38400000000000001},11,{"$f":"F118/30","v":0.36666666666666664},null,null,{"$f":"H118/F118*100","v":0},null,null,{"$f":"K118/F118*100","v":0},{"$f":"H118+K118","v":0},{"$f":"N118/60","v":0},{"$f":"O118/G118*100","v":0},{"$f":"ROUNDDOWN(P118,0)","v":0}]
[118,null,"Jan Verstraaten   ","B",{"$f":"VLOOKUP(F119,'Groep A'!X$2:Y76,2)","v":0.41699999999999998},12,{"$f":"F119/30","v":0.4},null,null,{"$f":"H119/F119*100","v":0},null,null,{"$f":"K119/F119*100","v":0},{"$f":"H119+K119","v":0},{"$f":"N119/60","v":0},{"$f":"O119/G119*100","v":0},{"$f":"ROUNDDOWN(P119,0)","v":0}]
[119,null,"Jan Weerts","B",{"$f":"VLOOKUP(F120,'Groep A'!X$2:Y90,2)","v":0.27500000000000002},8,{"$f":"F120/30","v":0.26666666666666666},null,null,{"$f":"H120/F120*100","v":0},null,null,{"$f":"K120/F120*100","v":0},{"$f":"H120+K120","v":0},{"$f":"N120/60","v":0},{"$f":"O120/G120*100","v":0},{"$f":"ROUNDDOWN(P120,0)","v":0}]
[120,null,"Jans Bos","B",{"$f":"VLOOKUP(F121,'Groep A'!X$2:Y110,2)","v":0.38400000000000001},11,{"$f":"F121/30","v":0.36666666666666664},null,null,{"$f":"H121/F121*100","v":0},null,null,{"$f":"K121/F121*100","v":0},{"$f":"H121+K121","v":0},{"$f":"N121/60","v":0},{"$f":"O121/G121*100","v":0},{"$f":"ROUNDDOWN(P121,0)","v":0}]
[121,null,"Jans Kinds   ","B",{"$f":"VLOOKUP(F122,'Groep A'!X$2:Y183,2)","v":0.27500000000000002},8,{"$f":"F122/30","v":0.26666666666666666},null,null,{"$f":"H122/F122*100","v":0},null,null,{"$f":"K122/F122*100","v":0},{"$f":"H122+K122","v":0},{"$f":"N122/60","v":0},{"$f":"O122/G122*100","v":0},{"$f":"ROUNDDOWN(P122,0)","v":0}]
[122,null,"Jarno Nap","B",{"$f":"VLOOKUP(F123,'Groep A'!X$2:Y78,2)","v":0.27500000000000002},8,{"$f":"F123/30","v":0.26666666666666666},null,null,{"$f":"H123/F123*100","v":0},null,null,{"$f":"K123/F123*100","v":0},{"$f":"H123+K123","v":0},{"$f":"N123/60","v":0},{"$f":"O123/G123*100","v":0},{"$f":"ROUNDDOWN(P123,0)","v":0}]
[123,null,"Jeroen Edens","B",{"$f":"VLOOKUP(F124,'Groep A'!X$2:Y92,2)","v":0.45},13,{"$f":"F124/30","v":0.43333333333333335},null,null,{"$f":"H124/F124*100","v":0},null,null,{"$f":"K124/F124*100","v":0},{"$f":"H124+K124","v":0},{"$f":"N124/60","v":0},{"$f":"O124/G124*100","v":0},{"$f":"ROUNDDOWN(P124,0)","v":0}]
[124,null,"Jetse Ploeg","B",{"$f":"VLOOKUP(F125,'Groep A'!X$2:Y94,2)","v":0.45},13,{"$f":"F125/30","v":0.43333333333333335},null,null,{"$f":"H125/F125*100","v":0},null,null,{"$f":"K125/F125*100","v":0},{"$f":"H125+K125","v":0},{"$f":"N125/60","v":0},{"$f":"O125/G125*100","v":0},{"$f":"ROUNDDOWN(P125,0)","v":0}]
[125,null,"Joep Imminga","B",{"$f":"VLOOKUP(F126,'Groep A'!X$2:Y132,2)","v":0.317},9,{"$f":"F126/30","v":0.3},null,null,{"$f":"H126/F126*100","v":0},null,null,{"$f":"K126/F126*100","v":0},{"$f":"H126+K126","v":0},{"$f":"N126/60","v":0},{"$f":"O126/G126*100","v":0},{"$f":"ROUNDDOWN(P126,0)","v":0}]
[126,null,"Joey Tuik","B",{"$f":"VLOOKUP(F127,'Groep A'!X$2:Y54,2)","v":0.27500000000000002},8,{"$f":"F127/30","v":0.26666666666666666},null,null,{"$f":"H127/F127*100","v":0},null,null,{"$f":"K127/F127*100","v":0},{"$f":"H127+K127","v":0},{"$f":"N127/60","v":0},{"$f":"O127/G127*100","v":0},{"$f":"ROUNDDOWN(P127,0)","v":0}]
[127,null,"Johan Ackermann","B",{"$f":"VLOOKUP(F128,'Groep A'!X$2:Y184,2)","v":0.38400000000000001},11,{"$f":"F128/30","v":0.36666666666666664},null,null,{"$f":"H128/F128*100","v":0},null,null,{"$f":"K128/F128*100","v":0},{"$f":"H128+K128","v":0},{"$f":"N128/60","v":0},{"$f":"O128/G128*100","v":0},{"$f":"ROUNDDOWN(P128,0)","v":0}]
[128,null,"Johan de Groot","B",{"$f":"VLOOKUP(F129,'Groep A'!X$2:Y185,2)","v":0.317},9,{"$f":"F129/30","v":0.3},null,null,{"$f":"H129/F129*100","v":0},null,null,{"$f":"K129/F129*100","v":0},{"$f":"H129+K129","v":0},{"$f":"N129/60","v":0},{"$f":"O129/G129*100","v":0},{"$f":"ROUNDDOWN(P129,0)","v":0}]
[129,null,"Johan Edens","B",{"$f":"VLOOKUP(F130,'Groep A'!X$2:Y136,2)","v":0.48399999999999999},14,{"$f":"F130/30","v":0.46666666666666667},null,null,{"$f":"H130/F130*100","v":0},null,null,{"$f":"K130/F130*100","v":0},{"$f":"H130+K130","v":0},{"$f":"N130/60","v":0},{"$f":"O130/G130*100","v":0},{"$f":"ROUNDDOWN(P130,0)","v":0}]
[130,null,"Johan Tuntelder","B",{"$f":"VLOOKUP(F131,'Groep A'!X$2:Y122,2)","v":0.35},10,{"$f":"F131/30","v":0.33333333333333331},null,null,{"$f":"H131/F131*100","v":0},null,null,{"$f":"K131/F131*100","v":0},{"$f":"H131+K131","v":0},{"$f":"N131/60","v":0},{"$f":"O131/G131*100","v":0},{"$f":"ROUNDDOWN(P131,0)","v":0}]
[131,null,"John de Jonge","B",{"$f":"VLOOKUP(F132,'Groep A'!X$2:Y96,2)","v":0.27500000000000002},8,{"$f":"F132/30","v":0.26666666666666666},null,null,{"$f":"H132/F132*100","v":0},null,null,{"$f":"K132/F132*100","v":0},{"$f":"H132+K132","v":0},{"$f":"N132/60","v":0},{"$f":"O132/G132*100","v":0},{"$f":"ROUNDDOWN(P132,0)","v":0}]
[132,null,"Johnny Siaila","B",{"$f":"VLOOKUP(F133,'Groep A'!X$2:Y134,2)","v":0.27500000000000002},8,{"$f":"F133/30","v":0.26666666666666666},null,null,{"$f":"H133/F133*100","v":0},null,null,{"$f":"K133/F133*100","v":0},{"$f":"H133+K133","v":0},{"$f":"N133/60","v":0},{"$f":"O133/G133*100","v":0},{"$f":"ROUNDDOWN(P133,0)","v":0}]
[133,null,"Joop Beugels   ","B",{"$f":"VLOOKUP(F134,'Groep A'!X$2:Y114,2)","v":0.27500000000000002},8,{"$f":"F134/30","v":0.26666666666666666},null,null,{"$f":"H134/F134*100","v":0},null,null,{"$f":"K134/F134*100","v":0},{"$f":"H134+K134","v":0},{"$f":"N134/60","v":0},{"$f":"O134/G134*100","v":0},{"$f":"ROUNDDOWN(P134,0)","v":0}]
[134,null,"Joop Boersma","B",{"$f":"VLOOKUP(F135,'Groep A'!X$2:Y70,2)","v":0.317},9,{"$f":"F135/30","v":0.3},null,null,{"$f":"H135/F135*100","v":0},null,null,{"$f":"K135/F135*100","v":0},{"$f":"H135+K135","v":0},{"$f":"N135/60","v":0},{"$f":"O135/G135*100","v":0},{"$f":"ROUNDDOWN(P135,0)","v":0}]
[135,null,"Joyce Klunder","B",{"$f":"VLOOKUP(F136,'Groep A'!X$2:Y33,2)","v":0.317},9,{"$f":"F136/30","v":0.3},null,null,{"$f":"H136/F136*100","v":0},null,null,{"$f":"K136/F136*100","v":0},{"$f":"H136+K136","v":0},{"$f":"N136/60","v":0},{"$f":"O136/G136*100","v":0},{"$f":"ROUNDDOWN(P136,0)","v":0}]
[136,null,"Kars Kuiper","B",{"$f":"VLOOKUP(F137,'Groep A'!X$2:Y154,2)","v":0.27500000000000002},8,{"$f":"F137/30","v":0.26666666666666666},null,null,{"$f":"H137/F137*100","v":0},null,null,{"$f":"K137/F137*100","v":0},{"$f":"H137+K137","v":0},{"$f":"N137/60","v":0},{"$f":"O137/G137*100","v":0},{"$f":"ROUNDDOWN(P137,0)","v":0}]
[137,null,"Kasper Schurer","B",{"$f":"VLOOKUP(F138,'Groep A'!X$2:Y84,2)","v":0.317},9,{"$f":"F138/30","v":0.3},null,null,{"$f":"H138/F138*100","v":0},null,null,{"$f":"K138/F138*100","v":0},{"$f":"H138+K138","v":0},{"$f":"N138/60","v":0},{"$f":"O138/G138*100","v":0},{"$f":"ROUNDDOWN(P138,0)","v":0}]
[138,null,"Klaas Boersma","B",{"$f":"VLOOKUP(F139,'Groep A'!X$2:Y137,2)","v":0.27500000000000002},8,{"$f":"F139/30","v":0.26666666666666666},null,null,{"$f":"H139/F139*100","v":0},null,null,{"$f":"K139/F139*100","v":0},{"$f":"H139+K139","v":0},{"$f":"N139/60","v":0},{"$f":"O139/G139*100","v":0},{"$f":"ROUNDDOWN(P139,0)","v":0}]
[139,null,"Klaas Boven","B",{"$f":"VLOOKUP(F140,'Groep A'!X$2:Y186,2)","v":0.27500000000000002},8,{"$f":"F140/30","v":0.26666666666666666},null,null,{"$f":"H140/F140*100","v":0},null,null,{"$f":"K140/F140*100","v":0},{"$f":"H140+K140","v":0},{"$f":"N140/60","v":0},{"$f":"O140/G140*100","v":0},{"$f":"ROUNDDOWN(P140,0)","v":0}]
[140,null,"Koos Imminga","B",{"$f":"VLOOKUP(F141,'Groep A'!X$2:Y112,2)","v":0.35},10,{"$f":"F141/30","v":0.33333333333333331},null,null,{"$f":"H141/F141*100","v":0},null,null,{"$f":"K141/F141*100","v":0},{"$f":"H141+K141","v":0},{"$f":"N141/60","v":0},{"$f":"O141/G141*100","v":0},{"$f":"ROUNDDOWN(P141,0)","v":0}]
[141,null,"Koos Jonker","B",{"$f":"VLOOKUP(F142,'Groep A'!X$2:Y134,2)","v":0.35},10,{"$f":"F142/30","v":0.33333333333333331},null,null,{"$f":"H142/F142*100","v":0},null,null,{"$f":"K142/F142*100","v":0},{"$f":"H142+K142","v":0},{"$f":"N142/60","v":0},{"$f":"O142/G142*100","v":0},{"$f":"ROUNDDOWN(P142,0)","v":0}]
[142,null,"Liesko Westerhuis","B",{"$f":"VLOOKUP(F143,'Groep A'!X$2:Y75,2)","v":0.27500000000000002},8,{"$f":"F143/30","v":0.26666666666666666},null,null,{"$f":"H143/F143*100","v":0},null,null,{"$f":"K143/F143*100","v":0},{"$f":"H143+K143","v":0},{"$f":"N143/60","v":0},{"$f":"O143/G143*100","v":0},{"$f":"ROUNDDOWN(P143,0)","v":0}]
[143,null,"Louke Ploeg","B",{"$f":"VLOOKUP(F144,'Groep A'!X$2:Y110,2)","v":0.27500000000000002},8,{"$f":"F144/30","v":0.26666666666666666},null,null,{"$f":"H144/F144*100","v":0},null,null,{"$f":"K144/F144*100","v":0},{"$f":"H144+K144","v":0},{"$f":"N144/60","v":0},{"$f":"O144/G144*100","v":0},{"$f":"ROUNDDOWN(P144,0)","v":0}]
[144,null,"Loutje Blik","B",{"$f":"VLOOKUP(F145,'Groep A'!X$2:Y45,2)","v":0.27500000000000002},8,{"$f":"F145/30","v":0.26666666666666666},null,null,{"$f":"H145/F145*100","v":0},null,null,{"$f":"K145/F145*100","v":0},{"$f":"H145+K145","v":0},{"$f":"N145/60","v":0},{"$f":"O145/G145*100","v":0},{"$f":"ROUNDDOWN(P145,0)","v":0}]
[145,null,"Luit Korthuis","B",{"$f":"VLOOKUP(F146,'Groep A'!X$2:Y127,2)","v":0.27500000000000002},8,{"$f":"F146/30","v":0.26666666666666666},null,null,{"$f":"H146/F146*100","v":0},null,null,{"$f":"K146/F146*100","v":0},{"$f":"H146+K146","v":0},{"$f":"N146/60","v":0},{"$f":"O146/G146*100","v":0},{"$f":"ROUNDDOWN(P146,0)","v":0}]
[146,null,"Luppo Imminga   ","B",{"$f":"VLOOKUP(F147,'Groep A'!X$2:Y155,2)","v":0.35},10,{"$f":"F147/30","v":0.33333333333333331},null,null,{"$f":"H147/F147*100","v":0},null,null,{"$f":"K147/F147*100","v":0},{"$f":"H147+K147","v":0},{"$f":"N147/60","v":0},{"$f":"O147/G147*100","v":0},{"$f":"ROUNDDOWN(P147,0)","v":0}]
[147,null,"Luuk Houwen","B",{"$f":"VLOOKUP(F148,'Groep A'!X$2:Y112,2)","v":0.27500000000000002},8,{"$f":"F148/30","v":0.26666666666666666},null,null,{"$f":"H148/F148*100","v":0},null,null,{"$f":"K148/F148*100","v":0},{"$f":"H148+K148","v":0},{"$f":"N148/60","v":0},{"$f":"O148/G148*100","v":0},{"$f":"ROUNDDOWN(P148,0)","v":0}]
[148,null,"Marcel Leeraar","B",{"$f":"VLOOKUP(F149,'Groep A'!X$2:Y188,2)","v":0.27500000000000002},8,{"$f":"F149/30","v":0.26666666666666666},null,null,{"$f":"H149/F149*100","v":0},null,null,{"$f":"K149/F149*100","v":0},{"$f":"H149+K149","v":0},{"$f":"N149/60","v":0},{"$f":"O149/G149*100","v":0},{"$f":"ROUNDDOWN(P149,0)","v":0}]
[149,null,"Marinus Tapilatu","B",{"$f":"VLOOKUP(F150,'Groep A'!X$2:Y82,2)","v":0.317},9,{"$f":"F150/30","v":0.3},null,null,{"$f":"H150/F150*100","v":0},null,null,{"$f":"K150/F150*100","v":0},{"$f":"H150+K150","v":0},{"$f":"N150/60","v":0},{"$f":"O150/G150*100","v":0},{"$f":"ROUNDDOWN(P150,0)","v":0}]
[150,null,"Mario van der Laan","B",{"$f":"VLOOKUP(F151,'Groep A'!X$2:Y156,2)","v":0.38400000000000001},11,{"$f":"F151/30","v":0.36666666666666664},null,null,{"$f":"H151/F151*100","v":0},null,null,{"$f":"K151/F151*100","v":0},{"$f":"H151+K151","v":0},{"$f":"N151/60","v":0},{"$f":"O151/G151*100","v":0},{"$f":"ROUNDDOWN(P151,0)","v":0}]
[151,null,"Mark Roll","B",{"$f":"VLOOKUP(F152,'Groep A'!X$2:Y100,2)","v":0.27500000000000002},8,{"$f":"F152/30","v":0.26666666666666666},null,null,{"$f":"H152/F152*100","v":0},null,null,{"$f":"K152/F152*100","v":0},{"$f":"H152+K152","v":0},{"$f":"N152/60","v":0},{"$f":"O152/G152*100","v":0},{"$f":"ROUNDDOWN(P152,0)","v":0}]
[152,null,"Marten Bosma","B",{"$f":"VLOOKUP(F153,'Groep A'!X$2:Y81,2)","v":0.35},10,{"$f":"F153/30","v":0.33333333333333331},null,null,{"$f":"H153/F153*100","v":0},null,null,{"$f":"K153/F153*100","v":0},{"$f":"H153+K153","v":0},{"$f":"N153/60","v":0},{"$f":"O153/G153*100","v":0},{"$f":"ROUNDDOWN(P153,0)","v":0}]
[153,null,"Martin Hateboer   ","B",{"$f":"VLOOKUP(F154,'Groep A'!X$2:Y157,2)","v":0.35},10,{"$f":"F154/30","v":0.33333333333333331},null,null,{"$f":"H154/F154*100","v":0},null,null,{"$f":"K154/F154*100","v":0},{"$f":"H154+K154","v":0},{"$f":"N154/60","v":0},{"$f":"O154/G154*100","v":0},{"$f":"ROUNDDOWN(P154,0)","v":0}]
[154,null,"Martin Nieuwenhuis","B",{"$f":"VLOOKUP(F155,'Groep A'!X$2:Y82,2)","v":0.35},10,{"$f":"F155/30","v":0.33333333333333331},null,null,{"$f":"H155/F155*100","v":0},null,null,{"$f":"K155/F155*100","v":0},{"$f":"H155+K155","v":0},{"$f":"N155/60","v":0},{"$f":"O155/G155*100","v":0},{"$f":"ROUNDDOWN(P155,0)","v":0}]
[155,null,"Mathias Krekel","B",{"$f":"VLOOKUP(F156,'Groep A'!X$2:Y189,2)","v":0.27500000000000002},8,{"$f":"F156/30","v":0.26666666666666666},null,null,{"$f":"H156/F156*100","v":0},null,null,{"$f":"K156/F156*100","v":0},{"$f":"H156+K156","v":0},{"$f":"N156/60","v":0},{"$f":"O156/G156*100","v":0},{"$f":"ROUNDDOWN(P156,0)","v":0}]
[156,null,"Menno Edens","B",{"$f":"VLOOKUP(F157,'Groep A'!X$2:Y42,2)","v":0.317},9,{"$f":"F157/30","v":0.3},null,null,{"$f":"H157/F157*100","v":0},null,null,{"$f":"K157/F157*100","v":0},{"$f":"H157+K157","v":0},{"$f":"N157/60","v":0},{"$f":"O157/G157*100","v":0},{"$f":"ROUNDDOWN(P157,0)","v":0}]
[157,null,"Moni de Roo","B",{"$f":"VLOOKUP(F158,'Groep A'!X$2:Y107,2)","v":0.27500000000000002},8,{"$f":"F158/30","v":0.26666666666666666},null,null,{"$f":"H158/F158*100","v":0},null,null,{"$f":"K158/F158*100","v":0},{"$f":"H158+K158","v":0},{"$f":"N158/60","v":0},{"$f":"O158/G158*100","v":0},{"$f":"ROUNDDOWN(P158,0)","v":0}]
[158,null,"Nico Jansen","B",{"$f":"VLOOKUP(F159,'Groep A'!X$2:Y86,2)","v":0.27500000000000002},8,{"$f":"F159/30","v":0.26666666666666666},null,null,{"$f":"H159/F159*100","v":0},null,null,{"$f":"K159/F159*100","v":0},{"$f":"H159+K159","v":0},{"$f":"N159/60","v":0},{"$f":"O159/G159*100","v":0},{"$f":"ROUNDDOWN(P159,0)","v":0}]
[159,null,"Nico Palar","B",{"$f":"VLOOKUP(F160,'Groep A'!X$2:Y190,2)","v":0.27500000000000002},8,{"$f":"F160/30","v":0.26666666666666666},null,null,{"$f":"H160/F160*100","v":0},null,null,{"$f":"K160/F160*100","v":0},{"$f":"H160+K160","v":0},{"$f":"N160/60","v":0},{"$f":"O160/G160*100","v":0},{"$f":"ROUNDDOWN(P160,0)","v":0}]
[160,null,"Nico van Krimpen","B",{"$f":"VLOOKUP(F161,'Groep A'!X$2:Y158,2)","v":0.41699999999999998},12,{"$f":"F161/30","v":0.4},null,null,{"$f":"H161/F161*100","v":0},null,null,{"$f":"K161/F161*100","v":0},{"$f":"H161+K161","v":0},{"$f":"N161/60","v":0},{"$f":"O161/G161*100","v":0},{"$f":"ROUNDDOWN(P161,0)","v":0}]
[161,null,"Okke Kluiter","B",{"$f":"VLOOKUP(F162,'Groep A'!X$2:Y144,2)","v":0.27500000000000002},8,{"$f":"F162/30","v":0.26666666666666666},null,null,{"$f":"H162/F162*100","v":0},null,null,{"$f":"K162/F162*100","v":0},{"$f":"H162+K162","v":0},{"$f":"N162/60","v":0},{"$f":"O162/G162*100","v":0},{"$f":"ROUNDDOWN(P162,0)","v":0}]
[162,null,"Patrick Smid   ","B",{"$f":"VLOOKUP(F163,'Groep A'!X$2:Y191,2)","v":0.27500000000000002},8,{"$f":"F163/30","v":0.26666666666666666},null,null,{"$f":"H163/F163*100","v":0},null,null,{"$f":"K163/F163*100","v":0},{"$f":"H163+K163","v":0},{"$f":"N163/60","v":0},{"$f":"O163/G163*100","v":0},{"$f":"ROUNDDOWN(P163,0)","v":0}]
[163,null,"Paul Lutz","B",{"$f":"VLOOKUP(F164,'Groep A'!X$2:Y114,2)","v":0.41699999999999998},12,{"$f":"F164/30","v":0.4},null,null,{"$f":"H164/F164*100","v":0},null,null,{"$f":"K164/F164*100","v":0},{"$f":"H164+K164","v":0},{"$f":"N164/60","v":0},{"$f":"O164/G164*100","v":0},{"$f":"ROUNDDOWN(P164,0)","v":0}]
[164,null,"Paulien Gerritsen","B",{"$f":"VLOOKUP(F165,'Groep A'!X$2:Y159,2)","v":0.317},9,{"$f":"F165/30","v":0.3},null,null,{"$f":"H165/F165*100","v":0},null,null,{"$f":"K165/F165*100","v":0},{"$f":"H165+K165","v":0},{"$f":"N165/60","v":0},{"$f":"O165/G165*100","v":0},{"$f":"ROUNDDOWN(P165,0)","v":0}]
[165,null,"Peter Brul","B",{"$f":"VLOOKUP(F166,'Groep A'!X$2:Y130,2)","v":0.27500000000000002},8,{"$f":"F166/30","v":0.26666666666666666},null,null,{"$f":"H166/F166*100","v":0},null,null,{"$f":"K166/F166*100","v":0},{"$f":"H166+K166","v":0},{"$f":"N166/60","v":0},{"$f":"O166/G166*100","v":0},{"$f":"ROUNDDOWN(P166,0)","v":0}]
[166,null,"Peter Keizer","B",{"$f":"VLOOKUP(F167,'Groep A'!X$2:Y138,2)","v":0.38400000000000001},11,{"$f":"F167/30","v":0.36666666666666664},null,null,{"$f":"H167/F167*100","v":0},null,null,{"$f":"K167/F167*100","v":0},{"$f":"H167+K167","v":0},{"$f":"N167/60","v":0},{"$f":"O167/G167*100","v":0},{"$f":"ROUNDDOWN(P167,0)","v":0}]
[167,null,"Peter Molema","B",{"$f":"VLOOKUP(F168,'Groep A'!X$2:Y160,2)","v":0.35},10,{"$f":"F168/30","v":0.33333333333333331},null,null,{"$f":"H168/F168*100","v":0},null,null,{"$f":"K168/F168*100","v":0},{"$f":"H168+K168","v":0},{"$f":"N168/60","v":0},{"$f":"O168/G168*100","v":0},{"$f":"ROUNDDOWN(P168,0)","v":0}]
[168,null,"Piet Bouwman","B",{"$f":"VLOOKUP(F169,'Groep A'!X$2:Y117,2)","v":0.27500000000000002},8,{"$f":"F169/30","v":0.26666666666666666},null,null,{"$f":"H169/F169*100","v":0},null,null,{"$f":"K169/F169*100","v":0},{"$f":"H169+K169","v":0},{"$f":"N169/60","v":0},{"$f":"O169/G169*100","v":0},{"$f":"ROUNDDOWN(P169,0)","v":0}]
[169,null,"Piet Jager","B",{"$f":"VLOOKUP(F170,'Groep A'!X$2:Y96,2)","v":0.35},10,{"$f":"F170/30","v":0.33333333333333331},null,null,{"$f":"H170/F170*100","v":0},null,null,{"$f":"K170/F170*100","v":0},{"$f":"H170+K170","v":0},{"$f":"N170/60","v":0},{"$f":"O170/G170*100","v":0},{"$f":"ROUNDDOWN(P170,0)","v":0}]
[170,null,"Piet Oosterhuis","B",{"$f":"VLOOKUP(F171,'Groep A'!X$2:Y192,2)","v":0.41699999999999998},12,{"$f":"F171/30","v":0.4},null,null,{"$f":"H171/F171*100","v":0},null,null,{"$f":"K171/F171*100","v":0},{"$f":"H171+K171","v":0},{"$f":"N171/60","v":0},{"$f":"O171/G171*100","v":0},{"$f":"ROUNDDOWN(P171,0)","v":0}]
[171,null,"Piet Spa","B",{"$f":"VLOOKUP(F172,'Groep A'!X$2:Y95,2)","v":0.27500000000000002},8,{"$f":"F172/30","v":0.26666666666666666},null,null,{"$f":"H172/F172*100","v":0},null,null,{"$f":"K172/F172*100","v":0},{"$f":"H172+K172","v":0},{"$f":"N172/60","v":0},{"$f":"O172/G172*100","v":0},{"$f":"ROUNDDOWN(P172,0)","v":0}]
[172,null,"Piet Wollerich","B",{"$f":"VLOOKUP(F173,'Groep A'!X$2:Y52,2)","v":0.317},9,{"$f":"F173/30","v":0.3},null,null,{"$f":"H173/F173*100","v":0},null,null,{"$f":"K173/F173*100","v":0},{"$f":"H173+K173","v":0},{"$f":"N173/60","v":0},{"$f":"O173/G173*100","v":0},{"$f":"ROUNDDOWN(P173,0)","v":0}]
[173,null,"Piet Wüst","B",{"$f":"VLOOKUP(F174,'Groep A'!X$2:Y193,2)","v":0.48399999999999999},14,{"$f":"F174/30","v":0.46666666666666667},null,null,{"$f":"H174/F174*100","v":0},null,null,{"$f":"K174/F174*100","v":0},{"$f":"H174+K174","v":0},{"$f":"N174/60","v":0},{"$f":"O174/G174*100","v":0},{"$f":"ROUNDDOWN(P174,0)","v":0}]
[174,null,"Pieter van der Poel","B",{"$f":"VLOOKUP(F175,'Groep A'!X$2:Y139,2)","v":0.317},9,{"$f":"F175/30","v":0.3},null,null,{"$f":"H175/F175*100","v":0},null,null,{"$f":"K175/F175*100","v":0},{"$f":"H175+K175","v":0},{"$f":"N175/60","v":0},{"$f":"O175/G175*100","v":0},{"$f":"ROUNDDOWN(P175,0)","v":0}]
[175,null,"Reint Boltendal","B",{"$f":"VLOOKUP(F176,'Groep A'!X$2:Y116,2)","v":0.35},10,{"$f":"F176/30","v":0.33333333333333331},null,null,{"$f":"H176/F176*100","v":0},null,null,{"$f":"K176/F176*100","v":0},{"$f":"H176+K176","v":0},{"$f":"N176/60","v":0},{"$f":"O176/G176*100","v":0},{"$f":"ROUNDDOWN(P176,0)","v":0}]
[176,null,"Reint Loer   ","B",{"$f":"VLOOKUP(F177,'Groep A'!X$2:Y88,2)","v":0.27500000000000002},8,{"$f":"F177/30","v":0.26666666666666666},null,null,{"$f":"H177/F177*100","v":0},null,null,{"$f":"K177/F177*100","v":0},{"$f":"H177+K177","v":0},{"$f":"N177/60","v":0},{"$f":"O177/G177*100","v":0},{"$f":"ROUNDDOWN(P177,0)","v":0}]
[177,null,"Reint Zuur","B",{"$f":"VLOOKUP(F178,'Groep A'!X$2:Y99,2)","v":0.27500000000000002},8,{"$f":"F178/30","v":0.26666666666666666},null,null,{"$f":"H178/F178*100","v":0},null,null,{"$f":"K178/F178*100","v":0},{"$f":"H178+K178","v":0},{"$f":"N178/60","v":0},{"$f":"O178/G178*100","v":0},{"$f":"ROUNDDOWN(P178,0)","v":0}]
[178,null,"Rene Imminga","B",{"$f":"VLOOKUP(F179,'Groep A'!X$2:Y108,2)","v":0.317},9,{"$f":"F179/30","v":0.3},null,null,{"$f":"H179/F179*100","v":0},null,null,{"$f":"K179/F179*100","v":0},{"$f":"H179+K179","v":0},{"$f":"N179/60","v":0},{"$f":"O179/G179*100","v":0},{"$f":"ROUNDDOWN(P179,0)","v":0}]
[179,null,"Rene Munneke","B",{"$f":"VLOOKUP(F180,'Groep A'!X$2:Y86,2)","v":0.27500000000000002},8,{"$f":"F180/30","v":0.26666666666666666},null,null,{"$f":"H180/F180*100","v":0},null,null,{"$f":"K180/F180*100","v":0},{"$f":"H180+K180","v":0},{"$f":"N180/60","v":0},{"$f":"O180/G180*100","v":0},{"$f":"ROUNDDOWN(P180,0)","v":0}]
[180,null,"Rene Westerhof","B",{"$f":"VLOOKUP(F181,'Groep A'!X$2:Y102,2)","v":0.27500000000000002},8,{"$f":"F181/30","v":0.26666666666666666},null,null,{"$f":"H181/F181*100","v":0},null,null,{"$f":"K181/F181*100","v":0},{"$f":"H181+K181","v":0},{"$f":"N181/60","v":0},{"$f":"O181/G181*100","v":0},{"$f":"ROUNDDOWN(P181,0)","v":0}]
[181,null,"Ricardo Feeburg","B",{"$f":"VLOOKUP(F182,'Groep A'!X$2:Y194,2)","v":0.41699999999999998},12,{"$f":"F182/30","v":0.4},null,null,{"$f":"H182/F182*100","v":0},null,null,{"$f":"K182/F182*100","v":0},{"$f":"H182+K182","v":0},{"$f":"N182/60","v":0},{"$f":"O182/G182*100","v":0},{"$f":"ROUNDDOWN(P182,0)","v":0}]
[182,null,"Richard Kant","B",{"$f":"VLOOKUP(F183,'Groep A'!X$2:Y140,2)","v":0.51700000000000002},15,{"$f":"F183/30","v":0.5},null,null,{"$f":"H183/F183*100","v":0},null,null,{"$f":"K183/F183*100","v":0},{"$f":"H183+K183","v":0},{"$f":"N183/60","v":0},{"$f":"O183/G183*100","v":0},{"$f":"ROUNDDOWN(P183,0)","v":0}]
[183,null,"Rick Kuipers","B",{"$f":"VLOOKUP(F184,'Groep A'!X$2:Y195,2)","v":0.35},10,{"$f":"F184/30","v":0.33333333333333331},null,null,{"$f":"H184/F184*100","v":0},null,null,{"$f":"K184/F184*100","v":0},{"$f":"H184+K184","v":0},{"$f":"N184/60","v":0},{"$f":"O184/G184*100","v":0},{"$f":"ROUNDDOWN(P184,0)","v":0}]
[184,null,"Rick Tuin","B",{"$f":"VLOOKUP(F185,'Groep A'!X$2:Y160,2)","v":0.38400000000000001},11,{"$f":"F185/30","v":0.36666666666666664},null,null,{"$f":"H185/F185*100","v":0},null,null,{"$f":"K185/F185*100","v":0},{"$f":"H185+K185","v":0},{"$f":"N185/60","v":0},{"$f":"O185/G185*100","v":0},{"$f":"ROUNDDOWN(P185,0)","v":0}]
[185,null,"Rick van der Poel","B",{"$f":"VLOOKUP(F186,'Groep A'!X$2:Y29,2)","v":0.317},9,{"$f":"F186/30","v":0.3},null,null,{"$f":"H186/F186*100","v":0},null,null,{"$f":"K186/F186*100","v":0},{"$f":"H186+K186","v":0},{"$f":"N186/60","v":0},{"$f":"O186/G186*100","v":0},{"$f":"ROUNDDOWN(P186,0)","v":0}]
[186,null,"Riekus Brader","B",{"$f":"VLOOKUP(F187,'Groep A'!X$2:Y196,2)","v":0.27500000000000002},8,{"$f":"F187/30","v":0.26666666666666666},null,null,{"$f":"H187/F187*100","v":0},null,null,{"$f":"K187/F187*100","v":0},{"$f":"H187+K187","v":0},{"$f":"N187/60","v":0},{"$f":"O187/G187*100","v":0},{"$f":"ROUNDDOWN(P187,0)","v":0}]
[187,null,"Rinus Oostdijk","B",{"$f":"VLOOKUP(F188,'Groep A'!X$2:Y106,2)","v":0.27500000000000002},8,{"$f":"F188/30","v":0.26666666666666666},null,null,{"$f":"H188/F188*100","v":0},null,null,{"$f":"K188/F188*100","v":0},{"$f":"H188+K188","v":0},{"$f":"N188/60","v":0},{"$f":"O188/G188*100","v":0},{"$f":"ROUNDDOWN(P188,0)","v":0}]
[188,null,"Rob Raven","B",{"$f":"VLOOKUP(F189,'Groep A'!X$2:Y141,2)","v":0.317},9,{"$f":"F189/30","v":0.3},null,null,{"$f":"H189/F189*100","v":0},null,null,{"$f":"K189/F189*100","v":0},{"$f":"H189+K189","v":0},{"$f":"N189/60","v":0},{"$f":"O189/G189*100","v":0},{"$f":"ROUNDDOWN(P189,0)","v":0}]
[189,null,"Rob Schuurmans","B",{"$f":"VLOOKUP(F190,'Groep A'!X$2:Y161,2)","v":0.35},10,{"$f":"F190/30","v":0.33333333333333331},null,null,{"$f":"H190/F190*100","v":0},null,null,{"$f":"K190/F190*100","v":0},{"$f":"H190+K190","v":0},{"$f":"N190/60","v":0},{"$f":"O190/G190*100","v":0},{"$f":"ROUNDDOWN(P190,0)","v":0}]
[190,null,"Robert Blouw   ","B",{"$f":"VLOOKUP(F191,'Groep A'!X$2:Y142,2)","v":0.27500000000000002},8,{"$f":"F191/30","v":0.26666666666666666},null,null,{"$f":"H191/F191*100","v":0},null,null,{"$f":"K191/F191*100","v":0},{"$f":"H191+K191","v":0},{"$f":"N191/60","v":0},{"$f":"O191/G191*100","v":0},{"$f":"ROUNDDOWN(P191,0)","v":0}]
[191,null,"Robert Boer   ","B",{"$f":"VLOOKUP(F192,'Groep A'!X$2:Y104,2)","v":0.27500000000000002},8,{"$f":"F192/30","v":0.26666666666666666},null,null,{"$f":"H192/F192*100","v":0},null,null,{"$f":"K192/F192*100","v":0},{"$f":"H192+K192","v":0},{"$f":"N192/60","v":0},{"$f":"O192/G192*100","v":0},{"$f":"ROUNDDOWN(P192,0)","v":0}]
[192,null,"Roelie Dorenbos","B",{"$f":"VLOOKUP(F193,'Groep A'!X$2:Y143,2)","v":0.317},9,{"$f":"F193/30","v":0.3},null,null,{"$f":"H193/F193*100","v":0},null,null,{"$f":"K193/F193*100","v":0},{"$f":"H193+K193","v":0},{"$f":"N193/60","v":0},{"$f":"O193/G193*100","v":0},{"$f":"ROUNDDOWN(P193,0)","v":0}]
[193,null,"Ron Eissen   ","B",{"$f":"VLOOKUP(F194,'Groep A'!X$2:Y104,2)","v":0.35},10,{"$f":"F194/30","v":0.33333333333333331},null,null,{"$f":"H194/F194*100","v":0},null,null,{"$f":"K194/F194*100","v":0},{"$f":"H194+K194","v":0},{"$f":"N194/60","v":0},{"$f":"O194/G194*100","v":0},{"$f":"ROUNDDOWN(P194,0)","v":0}]
[194,null,"Ronnie Berg   ","B",{"$f":"VLOOKUP(F195,'Groep A'!X$2:Y144,2)","v":0.38400000000000001},11,{"$f":"F195/30","v":0.36666666666666664},null,null,{"$f":"H195/F195*100","v":0},null,null,{"$f":"K195/F195*100","v":0},{"$f":"H195+K195","v":0},{"$f":"N195/60","v":0},{"$f":"O195/G195*100","v":0},{"$f":"ROUNDDOWN(P195,0)","v":0}]
[195,null,"Ronnie Kruit","B",{"$f":"VLOOKUP(F196,'Groep A'!X$2:Y88,2)","v":0.27500000000000002},8,{"$f":"F196/30","v":0.26666666666666666},null,null,{"$f":"H196/F196*100","v":0},null,null,{"$f":"K196/F196*100","v":0},{"$f":"H196+K196","v":0},{"$f":"N196/60","v":0},{"$f":"O196/G196*100","v":0},{"$f":"ROUNDDOWN(P196,0)","v":0}]
[196,null,"Roy Kerbof","B",{"$f":"VLOOKUP(F197,'Groep A'!X$2:Y128,2)","v":0.41699999999999998},12,{"$f":"F197/30","v":0.4},null,null,{"$f":"H197/F197*100","v":0},null,null,{"$f":"K197/F197*100","v":0},{"$f":"H197+K197","v":0},{"$f":"N197/60","v":0},{"$f":"O197/G197*100","v":0},{"$f":"ROUNDDOWN(P197,0)","v":0}]
[197,null,"Roy Ziesling","B",{"$f":"VLOOKUP(F198,'Groep A'!X$2:Y87,2)","v":0.317},9,{"$f":"F198/30","v":0.3},null,null,{"$f":"H198/F198*100","v":0},null,null,{"$f":"K198/F198*100","v":0},{"$f":"H198+K198","v":0},{"$f":"N198/60","v":0},{"$f":"O198/G198*100","v":0},{"$f":"ROUNDDOWN(P198,0)","v":0}]
[198,null,"Sander Loer","B",{"$f":"VLOOKUP(F199,'Groep A'!X$2:Y145,2)","v":0.27500000000000002},8,{"$f":"F199/30","v":0.26666666666666666},null,null,{"$f":"H199/F199*100","v":0},null,null,{"$f":"K199/F199*100","v":0},{"$f":"H199+K199","v":0},{"$f":"N199/60","v":0},{"$f":"O199/G199*100","v":0},{"$f":"ROUNDDOWN(P199,0)","v":0}]
[199,null,"Siep Mellema","B",{"$f":"VLOOKUP(F200,'Groep A'!X$2:Y71,2)","v":0.35},10,{"$f":"F200/30","v":0.33333333333333331},null,null,{"$f":"H200/F200*100","v":0},null,null,{"$f":"K200/F200*100","v":0},{"$f":"H200+K200","v":0},{"$f":"N200/60","v":0},{"$f":"O200/G200*100","v":0},{"$f":"ROUNDDOWN(P200,0)","v":0}]
[200,null,"Siep Ziesling","B",{"$f":"VLOOKUP(F201,'Groep A'!X$2:Y162,2)","v":0.27500000000000002},8,{"$f":"F201/30","v":0.26666666666666666},null,null,{"$f":"H201/F201*100","v":0},null,null,{"$f":"K201/F201*100","v":0},{"$f":"H201+K201","v":0},{"$f":"N201/60","v":0},{"$f":"O201/G201*100","v":0},{"$f":"ROUNDDOWN(P201,0)","v":0}]
[201,null,"Sietse Hamersma","B",{"$f":"VLOOKUP(F202,'Groep A'!X$2:Y146,2)","v":0.317},9,{"$f":"F202/30","v":0.3},null,null,{"$f":"H202/F202*100","v":0},null,null,{"$f":"K202/F202*100","v":0},{"$f":"H202+K202","v":0},{"$f":"N202/60","v":0},{"$f":"O202/G202*100","v":0},{"$f":"ROUNDDOWN(P202,0)","v":0}]
[202,null,"Simon van de Paard","B",{"$f":"VLOOKUP(F203,'Groep A'!X$2:Y83,2)","v":0.317},9,{"$f":"F203/30","v":0.3},null,null,{"$f":"H203/F203*100","v":0},null,null,{"$f":"K203/F203*100","v":0},{"$f":"H203+K203","v":0},{"$f":"N203/60","v":0},{"$f":"O203/G203*100","v":0},{"$f":"ROUNDDOWN(P203,0)","v":0}]
[203,null,"Simon van den Berg","B",{"$f":"VLOOKUP(F204,'Groep A'!X$2:Y197,2)","v":0.317},9,{"$f":"F204/30","v":0.3},null,null,{"$f":"H204/F204*100","v":0},null,null,{"$f":"K204/F204*100","v":0},{"$f":"H204+K204","v":0},{"$f":"N204/60","v":0},{"$f":"O204/G204*100","v":0},{"$f":"ROUNDDOWN(P204,0)","v":0}]
[204,null,"Simon Welp","B",{"$f":"VLOOKUP(F205,'Groep A'!X$2:Y198,2)","v":0.27500000000000002},8,{"$f":"F205/30","v":0.26666666666666666},null,null,{"$f":"H205/F205*100","v":0},null,null,{"$f":"K205/F205*100","v":0},{"$f":"H205+K205","v":0},{"$f":"N205/60","v":0},{"$f":"O205/G205*100","v":0},{"$f":"ROUNDDOWN(P205,0)","v":0}]
[205,null,"Sjaak Venema","B",{"$f":"VLOOKUP(F206,'Groep A'!X$2:Y163,2)","v":0.317},9,{"$f":"F206/30","v":0.3},null,null,{"$f":"H206/F206*100","v":0},null,null,{"$f":"K206/F206*100","v":0},{"$f":"H206+K206","v":0},{"$f":"N206/60","v":0},{"$f":"O206/G206*100","v":0},{"$f":"ROUNDDOWN(P206,0)","v":0}]
[206,null,"Stan van Leuven","B",{"$f":"VLOOKUP(F207,'Groep A'!X$2:Y130,2)","v":0.27500000000000002},8,{"$f":"F207/30","v":0.26666666666666666},null,null,{"$f":"H207/F207*100","v":0},null,null,{"$f":"K207/F207*100","v":0},{"$f":"H207+K207","v":0},{"$f":"N207/60","v":0},{"$f":"O207/G207*100","v":0},{"$f":"ROUNDDOWN(P207,0)","v":0}]
[207,null,"Tally Siemens   ","B",{"$f":"VLOOKUP(F208,'Groep A'!X$2:Y147,2)","v":0.27500000000000002},8,{"$f":"F208/30","v":0.26666666666666666},null,null,{"$f":"H208/F208*100","v":0},null,null,{"$f":"K208/F208*100","v":0},{"$f":"H208+K208","v":0},{"$f":"N208/60","v":0},{"$f":"O208/G208*100","v":0},{"$f":"ROUNDDOWN(P208,0)","v":0}]
[208,null,"Thomas den Boer","B",{"$f":"VLOOKUP(F209,'Groep A'!X$2:Y76,2)","v":0.35},10,{"$f":"F209/30","v":0.33333333333333331},null,null,{"$f":"H209/F209*100","v":0},null,null,{"$f":"K209/F209*100","v":0},{"$f":"H209+K209","v":0},{"$f":"N209/60","v":0},{"$f":"O209/G209*100","v":0},{"$f":"ROUNDDOWN(P209,0)","v":0}]
[209,null,"Tinus de Vries","B",{"$f":"VLOOKUP(F210,'Groep A'!X$2:Y126,2)","v":0.38400000000000001},11,{"$f":"F210/30","v":0.36666666666666664},null,null,{"$f":"H210/F210*100","v":0},null,null,{"$f":"K210/F210*100","v":0},{"$f":"H210+K210","v":0},{"$f":"N210/60","v":0},{"$f":"O210/G210*100","v":0},{"$f":"ROUNDDOWN(P210,0)","v":0}]
[210,null,"Tinus Harms","B",{"$f":"VLOOKUP(F211,'Groep A'!X$2:Y142,2)","v":0.27500000000000002},8,{"$f":"F211/30","v":0.26666666666666666},null,null,{"$f":"H211/F211*100","v":0},null,null,{"$f":"K211/F211*100","v":0},{"$f":"H211+K211","v":0},{"$f":"N211/60","v":0},{"$f":"O211/G211*100","v":0},{"$f":"ROUNDDOWN(P211,0)","v":0}]
[211,null,"Tonnie Beekhuis","B",{"$f":"VLOOKUP(F212,'Groep A'!X$2:Y199,2)","v":0.27500000000000002},8,{"$f":"F212/30","v":0.26666666666666666},null,null,{"$f":"H212/F212*100","v":0},null,null,{"$f":"K212/F212*100","v":0},{"$f":"H212+K212","v":0},{"$f":"N212/60","v":0},{"$f":"O212/G212*100","v":0},{"$f":"ROUNDDOWN(P212,0)","v":0}]
[212,null,"Tonnis Woldhuis","B",{"$f":"VLOOKUP(F213,'Groep A'!X$2:Y164,2)","v":0.35},10,{"$f":"F213/30","v":0.33333333333333331},null,null,{"$f":"H213/F213*100","v":0},null,null,{"$f":"K213/F213*100","v":0},{"$f":"H213+K213","v":0},{"$f":"N213/60","v":0},{"$f":"O213/G213*100","v":0},{"$f":"ROUNDDOWN(P213,0)","v":0}]
[213,null,"Udo van Dijk","B",{"$f":"VLOOKUP(F214,'Groep A'!X$2:Y165,2)","v":0.27500000000000002},8,{"$f":"F214/30","v":0.26666666666666666},null,null,{"$f":"H214/F214*100","v":0},null,null,{"$f":"K214/F214*100","v":0},{"$f":"H214+K214","v":0},{"$f":"N214/60","v":0},{"$f":"O214/G214*100","v":0},{"$f":"ROUNDDOWN(P214,0)","v":0}]
[214,null,"Wicher Greving","B",{"$f":"VLOOKUP(F215,'Groep A'!X$2:Y200,2)","v":0.27500000000000002},8,{"$f":"F215/30","v":0.26666666666666666},null,null,{"$f":"H215/F215*100","v":0},null,null,{"$f":"K215/F215*100","v":0},{"$f":"H215+K215","v":0},{"$f":"N215/60","v":0},{"$f":"O215/G215*100","v":0},{"$f":"ROUNDDOWN(P215,0)","v":0}]
[215,null,"Wiert de Haan","B",{"$f":"VLOOKUP(F216,'Groep A'!X$2:Y148,2)","v":0.27500000000000002},8,{"$f":"F216/30","v":0.26666666666666666},null,null,{"$f":"H216/F216*100","v":0},null,null,{"$f":"K216/F216*100","v":0},{"$f":"H216+K216","v":0},{"$f":"N216/60","v":0},{"$f":"O216/G216*100","v":0},{"$f":"ROUNDDOWN(P216,0)","v":0}]
[216,null,"Wijnold Broekema","B",{"$f":"VLOOKUP(F217,'Groep A'!X$2:Y114,2)","v":0.27500000000000002},8,{"$f":"F217/30","v":0.26666666666666666},null,null,{"$f":"H217/F217*100","v":0},null,null,{"$f":"K217/F217*100","v":0},{"$f":"H217+K217","v":0},{"$f":"N217/60","v":0},{"$f":"O217/G217*100","v":0},{"$f":"ROUNDDOWN(P217,0)","v":0}]
[217,null,"Willem Feiken","B",{"$f":"VLOOKUP(F218,'Groep A'!X$2:Y111,2)","v":0.35},10,{"$f":"F218/30","v":0.33333333333333331},null,null,{"$f":"H218/F218*100","v":0},null,null,{"$f":"K218/F218*100","v":0},{"$f":"H218+K218","v":0},{"$f":"N218/60","v":0},{"$f":"O218/G218*100","v":0},{"$f":"ROUNDDOWN(P218,0)","v":0}]
[218,null,"Willy Kluiter","B",{"$f":"VLOOKUP(F219,'Groep A'!X$2:Y201,2)","v":0.27500000000000002},8,{"$f":"F219/30","v":0.26666666666666666},null,null,{"$f":"H219/F219*100","v":0},null,null,{"$f":"K219/F219*100","v":0},{"$f":"H219+K219","v":0},{"$f":"N219/60","v":0},{"$f":"O219/G219*100","v":0},{"$f":"ROUNDDOWN(P219,0)","v":0}]
[219,null,"Wim Blaauw","B",{"$f":"VLOOKUP(F220,'Groep A'!X$2:Y82,2)","v":0.41699999999999998},12,{"$f":"F220/30","v":0.4},null,null,{"$f":"H220/F220*100","v":0},null,null,{"$f":"K220/F220*100","v":0},{"$f":"H220+K220","v":0},{"$f":"N220/60","v":0},{"$f":"O220/G220*100","v":0},{"$f":"ROUNDDOWN(P220,0)","v":0}]
[220,null,"Wim de Jong","B",{"$f":"VLOOKUP(F221,'Groep A'!X$2:Y60,2)","v":0.317},9,{"$f":"F221/30","v":0.3},null,null,{"$f":"H221/F221*100","v":0},null,null,{"$f":"K221/F221*100","v":0},{"$f":"H221+K221","v":0},{"$f":"N221/60","v":0},{"$f":"O221/G221*100","v":0},{"$f":"ROUNDDOWN(P221,0)","v":0}]
[221,null,"Wim Geradts","B",{"$f":"VLOOKUP(F222,'Groep A'!X$2:Y179,2)","v":0.317},9,{"$f":"F222/30","v":0.3},null,null,{"$f":"H222/F222*100","v":0},null,null,{"$f":"K222/F222*100","v":0},{"$f":"H222+K222","v":0},{"$f":"N222/60","v":0},{"$f":"O222/G222*100","v":0},{"$f":"ROUNDDOWN(P222,0)","v":0}]
[222,null,"Wim Krekel","B",{"$f":"VLOOKUP(F223,'Groep A'!X$2:Y120,2)","v":0.27500000000000002},8,{"$f":"F223/30","v":0.26666666666666666},null,null,{"$f":"H223/F223*100","v":0},null,null,{"$f":"K223/F223*100","v":0},{"$f":"H223+K223","v":0},{"$f":"N223/60","v":0},{"$f":"O223/G223*100","v":0},{"$f":"ROUNDDOWN(P223,0)","v":0}]
[223,null,null,"B",{"$f":"VLOOKUP(F224,'Groep A'!X$2:Y68,2)","v":0.27500000000000002},8,{"$f":"F224/30","v":0.26666666666666666},null,null,{"$f":"H224/F224*100","v":0},null,null,{"$f":"K224/F224*100","v":0},{"$f":"H224+K224","v":0},{"$f":"N224/60","v":0},{"$f":"O224/G224*100","v":0},{"$f":"ROUNDDOWN(P224,0)","v":0}]
[224,null,null,"B",{"$f":"VLOOKUP(F225,'Groep A'!X$2:Y187,2)","v":0.27500000000000002},8,{"$f":"F225/30","v":0.26666666666666666},null,null,{"$f":"H225/F225*100","v":0},null,null,{"$f":"K225/F225*100","v":0},{"$f":"H225+K225","v":0},{"$f":"N225/60","v":0},{"$f":"O225/G225*100","v":0},{"$f":"ROUNDDOWN(P225,0)","v":0}]
[225,null,null,"B",{"$f":"VLOOKUP(F226,'Groep A'!X$2:Y202,2)","v":0.27500000000000002},8,{"$f":"F226/30","v":0.26666666666666666},null,null,{"$f":"H226/F226*100","v":0},null,null,{"$f":"K226/F226*100","v":0},{"$f":"H226+K226","v":0},{"$f":"N226/60","v":0},{"$f":"O226/G226*100","v":0},{"$f":"ROUNDDOWN(P226,0)","v":0}]
[226,null,null,"B",{"$f":"VLOOKUP(F227,'Groep A'!X$2:Y140,2)","v":0.27500000000000002},8,{"$f":"F227/30","v":0.26666666666666666},null,null,{"$f":"H227/F227*100","v":0},null,null,{"$f":"K227/F227*100","v":0},{"$f":"H227+K227","v":0},{"$f":"N227/60","v":0},{"$f":"O227/G227*100","v":0},{"$f":"ROUNDDOWN(P227,0)","v":0}]
[227,null,null,"B",{"$f":"VLOOKUP(F228,'Groep A'!X$2:Y203,2)","v":0.27500000000000002},8,{"$f":"F228/30","v":0.26666666666666666},null,null,{"$f":"H228/F228*100","v":0},null,null,{"$f":"K228/F228*100","v":0},{"$f":"H228+K228","v":0},{"$f":"N228/60","v":0},{"$f":"O228/G228*100","v":0},{"$f":"ROUNDDOWN(P228,0)","v":0}]
[228,null,null,"B",{"$f":"VLOOKUP(F229,'Groep A'!X$2:Y204,2)","v":0.27500000000000002},8,{"$f":"F229/30","v":0.26666666666666666},null,null,{"$f":"H229/F229*100","v":0},null,null,{"$f":"K229/F229*100","v":0},{"$f":"H229+K229","v":0},{"$f":"N229/60","v":0},{"$f":"O229/G229*100","v":0},{"$f":"ROUNDDOWN(P229,0)","v":0}]
[229,null,null,"B",{"$f":"VLOOKUP(F230,'Groep A'!X$2:Y205,2)","v":0.27500000000000002},8,{"$f":"F230/30","v":0.26666666666666666},null,null,{"$f":"H230/F230*100","v":0},null,null,{"$f":"K230/F230*100","v":0},{"$f":"H230+K230","v":0},{"$f":"N230/60","v":0},{"$f":"O230/G230*100","v":0},{"$f":"ROUNDDOWN(P230,0)","v":0}]
[230,null,null,"B",{"$f":"VLOOKUP(F231,'Groep A'!X$2:Y206,2)","v":0.27500000000000002},8,{"$f":"F231/30","v":0.26666666666666666},null,null,{"$f":"H231/F231*100","v":0},null,null,{"$f":"K231/F231*100","v":0},{"$f":"H231+K231","v":0},{"$f":"N231/60","v":0},{"$f":"O231/G231*100","v":0},{"$f":"ROUNDDOWN(P231,0)","v":0}]
[231,null,null,"B",{"$f":"VLOOKUP(F232,'Groep A'!X$2:Y207,2)","v":0.27500000000000002},8,{"$f":"F232/30","v":0.26666666666666666},null,null,{"$f":"H232/F232*100","v":0},null,null,{"$f":"K232/F232*100","v":0},{"$f":"H232+K232","v":0},{"$f":"N232/60","v":0},{"$f":"O232/G232*100","v":0},{"$f":"ROUNDDOWN(P232,0)","v":0}]
[232,null,null,"B",{"$f":"VLOOKUP(F233,'Groep A'!X$2:Y208,2)","v":0.27500000000000002},8,{"$f":"F233/30","v":0.26666666666666666},null,null,{"$f":"H233/F233*100","v":0},null,null,{"$f":"K233/F233*100","v":0},{"$f":"H233+K233","v":0},{"$f":"N233/60","v":0},{"$f":"O233/G233*100","v":0},{"$f":"ROUNDDOWN(P233,0)","v":0}]
[233,null,null,"B",{"$f":"VLOOKUP(F234,'Groep A'!X$2:Y209,2)","v":0.27500000000000002},8,{"$f":"F234/30","v":0.26666666666666666},null,null,{"$f":"H234/F234*100","v":0},null,null,{"$f":"K234/F234*100","v":0},{"$f":"H234+K234","v":0},{"$f":"N234/60","v":0},{"$f":"O234/G234*100","v":0},{"$f":"ROUNDDOWN(P234,0)","v":0}]
[234,null,null,"B",{"$f":"VLOOKUP(F235,'Groep A'!X$2:Y210,2)","v":0.27500000000000002},8,{"$f":"F235/30","v":0.26666666666666666},null,null,{"$f":"H235/F235*100","v":0},null,null,{"$f":"K235/F235*100","v":0},{"$f":"H235+K235","v":0},{"$f":"N235/60","v":0},{"$f":"O235/G235*100","v":0},{"$f":"ROUNDDOWN(P235,0)","v":0}]
[235,null,null,"B",{"$f":"VLOOKUP(F236,'Groep A'!X$2:Y211,2)","v":0.27500000000000002},8,{"$f":"F236/30","v":0.26666666666666666},null,null,{"$f":"H236/F236*100","v":0},null,null,{"$f":"K236/F236*100","v":0},{"$f":"H236+K236","v":0},{"$f":"N236/60","v":0},{"$f":"O236/G236*100","v":0},{"$f":"ROUNDDOWN(P236,0)","v":0}]
[236,null,null,"B",{"$f":"VLOOKUP(F237,'Groep A'!X$2:Y212,2)","v":0.27500000000000002},8,{"$f":"F237/30","v":0.26666666666666666},null,null,{"$f":"H237/F237*100","v":0},null,null,{"$f":"K237/F237*100","v":0},{"$f":"H237+K237","v":0},{"$f":"N237/60","v":0},{"$f":"O237/G237*100","v":0},{"$f":"ROUNDDOWN(P237,0)","v":0}]
[237,null,null,"B",{"$f":"VLOOKUP(F238,'Groep A'!X$2:Y213,2)","v":0.27500000000000002},8,{"$f":"F238/30","v":0.26666666666666666},null,null,{"$f":"H238/F238*100","v":0},null,null,{"$f":"K238/F238*100","v":0},{"$f":"H238+K238","v":0},{"$f":"N238/60","v":0},{"$f":"O238/G238*100","v":0},{"$f":"ROUNDDOWN(P238,0)","v":0}]
[238,null,null,"B",{"$f":"VLOOKUP(F239,'Groep A'!X$2:Y214,2)","v":0.27500000000000002},8,{"$f":"F239/30","v":0.26666666666666666},null,null,{"$f":"H239/F239*100","v":0},null,null,{"$f":"K239/F239*100","v":0},{"$f":"H239+K239","v":0},{"$f":"N239/60","v":0},{"$f":"O239/G239*100","v":0},{"$f":"ROUNDDOWN(P239,0)","v":0}]
[239,null,null,"B",{"$f":"VLOOKUP(F240,'Groep A'!X$2:Y215,2)","v":0.27500000000000002},8,{"$f":"F240/30","v":0.26666666666666666},null,null,{"$f":"H240/F240*100","v":0},null,null,{"$f":"K240/F240*100","v":0},{"$f":"H240+K240","v":0},{"$f":"N240/60","v":0},{"$f":"O240/G240*100","v":0},{"$f":"ROUNDDOWN(P240,0)","v":0}]
[240,null,null,"B",{"$f":"VLOOKUP(F241,'Groep A'!X$2:Y216,2)","v":0.27500000000000002},8,{"$f":"F241/30","v":0.26666666666666666},null,null,{"$f":"H241/F241*100","v":0},null,null,{"$f":"K241/F241*100","v":0},{"$f":"H241+K241","v":0},{"$f":"N241/60","v":0},{"$f":"O241/G241*100","v":0},{"$f":"ROUNDDOWN(P241,0)","v":0}]
[241,null,null,"B",{"$f":"VLOOKUP(F242,'Groep A'!X$2:Y217,2)","v":0.27500000000000002},8,{"$f":"F242/30","v":0.26666666666666666},null,null,{"$f":"H242/F242*100","v":0},null,null,{"$f":"K242/F242*100","v":0},{"$f":"H242+K242","v":0},{"$f":"N242/60","v":0},{"$f":"O242/G242*100","v":0},{"$f":"ROUNDDOWN(P242,0)","v":0}]
[242,null,null,"B",{"$f":"VLOOKUP(F243,'Groep A'!X$2:Y218,2)","v":0.27500000000000002},8,{"$f":"F243/30","v":0.26666666666666666},null,null,{"$f":"H243/F243*100","v":0},null,null,{"$f":"K243/F243*100","v":0},{"$f":"H243+K243","v":0},{"$f":"N243/60","v":0},{"$f":"O243/G243*100","v":0},{"$f":"ROUNDDOWN(P243,0)","v":0}]
[243,null,null,"B",{"$f":"VLOOKUP(F244,'Groep A'!X$2:Y219,2)","v":0.27500000000000002},8,{"$f":"F244/30","v":0.26666666666666666},null,null,{"$f":"H244/F244*100","v":0},null,null,{"$f":"K244/F244*100","v":0},{"$f":"H244+K244","v":0},{"$f":"N244/60","v":0},{"$f":"O244/G244*100","v":0},{"$f":"ROUNDDOWN(P244,0)","v":0}]
[244,null,null,"B",{"$f":"VLOOKUP(F245,'Groep A'!X$2:Y220,2)","v":0.27500000000000002},8,{"$f":"F245/30","v":0.26666666666666666},null,null,{"$f":"H245/F245*100","v":0},null,null,{"$f":"K245/F245*100","v":0},{"$f":"H245+K245","v":0},{"$f":"N245/60","v":0},{"$f":"O245/G245*100","v":0},{"$f":"ROUNDDOWN(P245,0)","v":0}]
[245,null,null,"B",{"$f":"VLOOKUP(F246,'Groep A'!X$2:Y221,2)","v":0.27500000000000002},8,{"$f":"F246/30","v":0.26666666666666666},null,null,{"$f":"H246/F246*100","v":0},null,null,{"$f":"K246/F246*100","v":0},{"$f":"H246+K246","v":0},{"$f":"N246/60","v":0},{"$f":"O246/G246*100","v":0},{"$f":"ROUNDDOWN(P246,0)","v":0}]
[246,null,null,"B",{"$f":"VLOOKUP(F247,'Groep A'!X$2:Y222,2)","v":0.27500000000000002},8,{"$f":"F247/30","v":0.26666666666666666},null,null,{"$f":"H247/F247*100","v":0},null,null,{"$f":"K247/F247*100","v":0},{"$f":"H247+K247","v":0},{"$f":"N247/60","v":0},{"$f":"O247/G247*100","v":0},{"$f":"ROUNDDOWN(P247,0)","v":0}]
[247,null,null,"B",{"$f":"VLOOKUP(F248,'Groep A'!X$2:Y223,2)","v":0.27500000000000002},8,{"$f":"F248/30","v":0.26666666666666666},null,null,{"$f":"H248/F248*100","v":0},null,null,{"$f":"K248/F248*100","v":0},{"$f":"H248+K248","v":0},{"$f":"N248/60","v":0},{"$f":"O248/G248*100","v":0},{"$f":"ROUNDDOWN(P248,0)","v":0}]
[248,null,null,"B",{"$f":"VLOOKUP(F249,'Groep A'!X$2:Y224,2)","v":0.27500000000000002},8,{"$f":"F249/30","v":0.26666666666666666},null,null,{"$f":"H249/F249*100","v":0},null,null,{"$f":"K249/F249*100","v":0},{"$f":"H249+K249","v":0},{"$f":"N249/60","v":0},{"$f":"O249/G249*100","v":0},{"$f":"ROUNDDOWN(P249,0)","v":0}]
[249,null,null,"B",{"$f":"VLOOKUP(F250,'Groep A'!X$2:Y225,2)","v":0.27500000000000002},8,{"$f":"F250/30","v":0.26666666666666666},null,null,{"$f":"H250/F250*100","v":0},null,null,{"$f":"K250/F250*100","v":0},{"$f":"H250+K250","v":0},{"$f":"N250/60","v":0},{"$f":"O250/G250*100","v":0},{"$f":"ROUNDDOWN(P250,0)","v":0}]
[250,null,null,"B",{"$f":"VLOOKUP(F251,'Groep A'!X$2:Y226,2)","v":0.27500000000000002},8,{"$f":"F251/30","v":0.26666666666666666},null,null,{"$f":"H251/F251*100","v":0},null,null,{"$f":"K251/F251*100","v":0},{"$f":"H251+K251","v":0},{"$f":"N251/60","v":0},{"$f":"O251/G251*100","v":0},{"$f":"ROUNDDOWN(P251,0)","v":0}]
[251]
[252]
[253]
[254]
[255]
[256]
[257]
[258]
[259]
[260]
[261]
[262]
[263]
[264]
[265]
[266]
[267]
[268]
[269]
[270]
[271]
[272]
[273]
[274]
[275]
[276]
[277]
[278]
[279]
[280]
[281]
[282]
[283]
[284]
[285]
[286]
[287]
[288]
[289]
[290]
[291]
[292]
[293]
[294]
[295]
[296]
[297]
[298]
[299]
[300]
[301]
[302]
[303]
[304]
[305]
[306]
[307]
[308]
[309]
[310]
[311]
[312]
[313]
[314]
[315]
[316]
[317]
[318]
[319]
[320]
[321]
[322]
[323]
[324]
[325]
[326]
[327]
[328]
[329]
[330]
[331]
[332]
[333]
[334]
[335]
[336]
[337]
[338]
[339]
[340]
[341]
[342]
[343]
[344]
[345]
[346]
[347]
[348]
[349]
[350]
[351]
[352]
[353]
[354]
[355]
[356]
[357]
[358]
[359]
[360]
[361]
[362]
[363]
[364]
[365]
[366]
[367]
[368]
[369]
[370]
[371]
[372]
[373]
[374]
[375]
[376]
[377]
[378]
[379]
[380]
[381]
[382]
[383]
[384]
[385]
[386]
[387]
[388]
[389]
[390]
[391]
[392]
[393]
[394]
[395]
[396]
[397]
[398]
[399]

{"sheet":"Blad1","index":2,"n_rows":0,"n_cols":0,"rows_kept":0,"cut":false,"hidden":false,"merged":[]}